Workbook
Name Pareiškėjas: Darbuotojai!$C$7:$C$26
Name Parneris2: Darbuotojai!$C$47:$C$66
Name Partneris: Darbuotojai!$C$27:$C$46
Name Partneris3: Darbuotojai!$C$67:$C$86
Name Partneris4: Darbuotojai!$C$87:$C$106
Name Partneris5: Darbuotojai!$C$107:$C$126
Name Partneris6: Darbuotojai!$C$127:$C$146
Name Partneris7: Darbuotojai!$C$147:$C$166

Sheet Suvestinė
A1: Visos lentelės užsipildo automatiškai, pildomi tik žaliai pažymėti langeliai
A3: 1 lentelė: Projekto biudžetas
C4: Tinkamos finansuoti išlaidos su PVM | H4: Finansavimo suma | J4: Pareiškėjo, partnerio nuosavas indėlis
C5: Tiesioginės išlaidos | F5: E. Netiesioginės išlaidos | G5: Iš viso | H5: Finansavimas Europos regioninės plėtros fondo lėšomis | I5: Finansavimas Skaitmeninės Europos programos lėšomis
A6: Nr. | B6: Pareiškėjas, partneris | C6: A. Darbo užmokesčio išlaidos | D6: C.1 Komandiruočių išlaidos | E6: C.3 Kitos prekių, darbų ir paslaugų išlaidos
A7: 1 | B7: ='1'!C$1 -> Projekto vykdytojo pavadinimas | C7: ='1'!G$5 -> 0 | D7: ='1'!G$26+'1'!H26 -> 0 | E7: ='1'!G$107+'1'!H$107 -> 0 | F7: ='1'!G$135+'1'!H$135 -> 0 | G7: ='1'!G$137+'1'!H137 -> 0 | H7: ='1'!I$137 -> 0 | I7: ='1'!J$137 -> 0 | J7: =G7-H7-I7 -> 0
A8: 2 | B8: ='2'!C$1 -> Partnerio 1 pavadinimas | C8: ='2'!G$5 -> 0 | D8: ='2'!G$26+'2'!H$26 -> 0 | E8: ='2'!G$107+'2'!H$107 -> 0 | F8: ='2'!G$135+'2'!H$135 -> 0 | G8: ='2'!G$137+'2'!H$137 -> 0 | H8: ='2'!I$137 -> 0 | I8: ='2'!J$137 -> 0 | J8: =G8-H8-I8 -> 0
A9: 3 | B9: ='3'!C$1 -> Partnerio 2 pavadinimas | C9: ='3'!G$5 -> 0 | D9: ='3'!G$26+'3'!H$26 -> 0 | E9: ='3'!G$107+'3'!H$107 -> 0 | F9: ='3'!G$135+'3'!H$135 -> 0 | G9: ='3'!G$137+'3'!H$137 -> 0 | H9: ='3'!I$137 -> 0 | I9: ='3'!J$137 -> 0 | J9: =G9-H9-I9 -> 0
A10: 4 | B10: ='4'!C$1 -> Partnerio 3 pavadinimas | C10: ='4'!G$5 -> 0 | D10: ='4'!G$26+'4'!H$26 -> 0 | E10: ='4'!G$107+'4'!H$107 -> 0 | F10: ='4'!G$135+'4'!H$135 -> 0 | G10: ='4'!G$137+'4'!H$137 -> 0 | H10: ='4'!I$137 -> 0 | I10: ='4'!J$137 -> 0 | J10: =G10-H10-I10 -> 0
A11: 5 | B11: ='5'!C$1 -> Partnerio 4 pavadinimas | C11: ='5'!G$5 -> 0 | D11: ='5'!G$26+'5'!H$26 -> 0 | E11: ='5'!G$107+'5'!H$107 -> 0 | F11: ='5'!G$135+'5'!H$135 -> 0 | G11: ='5'!G$137+'5'!H$137 -> 0 | H11: ='5'!I$137 -> 0 | I11: ='5'!J$137 -> 0 | J11: =G11-H11-I11 -> 0
A12: 6 | B12: ='6'!C$1 -> Partnerio 5 pavadinimas | C12: ='6'!G$5 -> 0 | D12: ='6'!G$26+'6'!H$26 -> 0 | E12: ='6'!G$107+'6'!H$107 -> 0 | F12: ='6'!G$135+'6'!H$135 -> 0 | G12: ='6'!G$137+'6'!H$137 -> 0 | H12: ='6'!I$137 -> 0 | I12: ='6'!J$137 -> 0 | J12: =G12-H12-I12 -> 0
A13: 7 | B13: ='7'!C$1 -> Partnerio 6 pavadinimas | C13: ='7'!G$5 -> 0 | D13: ='7'!G$26+'7'!H$26 -> 0 | E13: ='7'!G$107+'7'!H$107 -> 0 | F13: ='7'!G$135+'7'!H$135 -> 0 | G13: ='7'!G$137+'7'!H$137 -> 0 | H13: ='7'!I$137 -> 0 | I13: ='7'!J$137 -> 0 | J13: =G13-H13-I13 -> 0
A14: 8 | B14: ='8'!C$1 -> Partnerio 7 pavadinimas | C14: ='8'!G$5 -> 0 | D14: ='8'!G$26+'8'!H$26 -> 0 | E14: ='8'!G$107+'8'!H$107 -> 0 | F14: ='8'!G$135+'8'!H$135 -> 0 | G14: ='8'!G$137+'8'!H$137 -> 0 | H14: ='8'!I$137 -> 0 | I14: ='8'!J$137 -> 0 | J14: =G14-H14-I14 -> 0
A15: Iš viso: | C15: =SUM(C7:C14) -> 0 | D15: =SUM(D7:D14) -> 0 | E15: =SUM(E7:E14) -> 0 | F15: =SUM(F7:F14) -> 0 | G15: =SUM(G7:G14) -> 0 | H15: =SUM(H7:H14) -> 0 | I15: =SUM(I7:I14) -> 0 | J15: =SUM(J7:J14) -> 0
H16: =IF(H15>900000,"Finansavimas Europos regioninės plėtros lėšomis negali būti didesnis nei 900.000,00 Eur","")
A17: 2 lentelė: Projekto biudžeto paskirstymas pagal regionus
A18: Nr. | B18: Pareiškėjas, partneris | C18: Regionas | D18: Procentinė išlaidų dalis, tenkanti kiekvienam regionui | E18: Tiesioginės išlaidos | F18: Tiesioginių išlaidų PVM (jei prašoma finansuoti) | G18: Netieisoginės išlaidos | H18: Netieisoginių išlaidų PVM (jei prašoma finansuoti) | I18: Tinkamos finansuoti išlaidos | J18: Tinkamų finansuoti išlaidų PVM (jei prašoma finansuoti) | K18: Finansavimas Europos regioninės plėtros fondo lėšomis | L18: Finansavimas Skaitmeninės Europos programos lėšomis | M18: Pareiškėjo, partnerio nuosavas indėlis
A19: 1 | B19: =B7 -> Projekto vykdytojo pavadinimas | C19: Sostinės | E19: ='1'!G$133*$D19 -> 0 | F19: ='1'!H$133*$D19 -> 0 | G19: ='1'!G$135*D19 -> 0 | H19: ='1'!H$135*D19 -> 0 | I19: =E19+G19 -> 0 | J19: =F19+H19 -> 0 | K19: =H7*D19 -> 0 | L19: =I7*D19 -> 0 | M19: =J7*D19 -> 0
C20: VVL | E20: ='1'!G$133*$D20 -> 0 | F20: ='1'!H$133*$D20 -> 0 | G20: ='1'!G$135*D20 -> 0 | H20: ='1'!H$135*D20 -> 0 | I20: =E20+G20 -> 0 | J20: =F20+H20 -> 0 | K20: =H7*D20 -> 0 | L20: =I7*D20 -> 0 | M20: =J7*D20 -> 0
A21: 2 | B21: =B8 -> Partnerio 1 pavadinimas | C21: Sostinės | E21: ='2'!G$133*$D21 -> 0 | F21: ='2'!H$133*$D21 -> 0 | G21: ='2'!G$135*D21 -> 0 | H21: ='2'!H$135*D21 -> 0 | I21: =E21+G21 -> 0 | J21: =F21+H21 -> 0 | K21: =H8*D21 -> 0 | L21: =I8*D21 -> 0 | M21: =J8*D21 -> 0
C22: VVL | E22: ='2'!G$133*$D22 -> 0 | F22: ='2'!H$133*$D22 -> 0 | G22: ='2'!G$135*D22 -> 0 | H22: ='2'!H$135*D22 -> 0 | I22: =E22+G22 -> 0 | J22: =F22+H22 -> 0 | K22: =H8*D22 -> 0 | L22: =I8*D22 -> 0 | M22: =J8*D22 -> 0
A23: 3 | B23: =B9 -> Partnerio 2 pavadinimas | C23: Sostinės | E23: ='3'!G$133*$D23 -> 0 | F23: ='3'!H$133*$D23 -> 0 | G23: ='3'!G$135*D23 -> 0 | H23: ='3'!H$135*D23 -> 0 | I23: =E23+G23 -> 0 | J23: =F23+H23 -> 0 | K23: =H9*D23 -> 0 | L23: =I9*D23 -> 0 | M23: =J9*D23 -> 0
C24: VVL | E24: ='3'!G$133*$D24 -> 0 | F24: ='3'!H$133*$D24 -> 0 | G24: ='3'!G$135*D24 -> 0 | H24: ='3'!H$135*D24 -> 0 | I24: =E24+G24 -> 0 | J24: =F24+H24 -> 0 | K24: =H9*D24 -> 0 | L24: =I9*D24 -> 0 | M24: =J9*D24 -> 0
A25: 4 | B25: =B10 -> Partnerio 3 pavadinimas | C25: Sostinės | E25: ='4'!G$133*$D25 -> 0 | F25: ='4'!H$133*$D25 -> 0 | G25: ='4'!G$135*D25 -> 0 | H25: ='4'!H$135*D25 -> 0 | I25: =E25+G25 -> 0 | J25: =F25+H25 -> 0 | K25: =H10*D25 -> 0 | L25: =I10*D25 -> 0 | M25: =J10*D25 -> 0
C26: VVL | E26: ='4'!G$133*$D26 -> 0 | F26: ='4'!H$133*$D26 -> 0 | G26: ='4'!G$135*D26 -> 0 | H26: ='4'!H$135*D26 -> 0 | I26: =E26+G26 -> 0 | J26: =F26+H26 -> 0 | K26: =H10*D26 -> 0 | L26: =I10*D26 -> 0 | M26: =J10*D26 -> 0
A27: 5 | B27: =B11 -> Partnerio 4 pavadinimas | C27: Sostinės | E27: ='5'!G$133*$D27 -> 0 | F27: ='5'!H$133*$D27 -> 0 | G27: ='5'!G$135*D27 -> 0 | H27: ='5'!H$135*D27 -> 0 | I27: =E27+G27 -> 0 | J27: =F27+H27 -> 0 | K27: =H11*D27 -> 0 | L27: =I11*D27 -> 0 | M27: =J11*D27 -> 0
C28: VVL | E28: ='5'!G$133*$D28 -> 0 | F28: ='5'!H$133*$D28 -> 0 | G28: ='5'!G$135*D28 -> 0 | H28: ='5'!H$135*D28 -> 0 | I28: =E28+G28 -> 0 | J28: =F28+H28 -> 0 | K28: =H11*D28 -> 0 | L28: =I11*D28 -> 0 | M28: =J11*D28 -> 0
A29: 6 | B29: =B12 -> Partnerio 5 pavadinimas | C29: Sostinės | E29: ='6'!G$133*$D29 -> 0 | F29: ='6'!H$133*$D29 -> 0 | G29: ='6'!G$135*D29 -> 0 | H29: ='6'!H$135*D29 -> 0 | I29: =E29+G29 -> 0 | J29: =F29+H29 -> 0 | K29: =H12*D29 -> 0 | L29: =I12*D29 -> 0 | M29: =J12*D29 -> 0
C30: VVL | E30: ='6'!G$133*$D30 -> 0 | F30: ='6'!H$133*$D30 -> 0 | G30: ='6'!G$135*D30 -> 0 | H30: ='6'!H$135*D30 -> 0 | I30: =E30+G30 -> 0 | J30: =F30+H30 -> 0 | K30: =H12*D30 -> 0 | L30: =I12*D30 -> 0 | M30: =J12*D30 -> 0
A31: 7 | B31: =B13 -> Partnerio 6 pavadinimas | C31: Sostinės | E31: ='7'!G$133*$D31 -> 0 | F31: ='7'!H$133*$D31 -> 0 | G31: ='7'!G$135*D31 -> 0 | H31: ='7'!H$135*D31 -> 0 | I31: =E31+G31 -> 0 | J31: =F31+H31 -> 0 | K31: =H13*D31 -> 0 | L31: =I13*D31 -> 0 | M31: =J13*D31 -> 0
C32: VVL | E32: ='7'!G$133*$D32 -> 0 | F32: ='7'!H$133*$D32 -> 0 | G32: ='7'!G$135*D32 -> 0 | H32: ='7'!H$135*D32 -> 0 | I32: =E32+G32 -> 0 | J32: =F32+H32 -> 0 | K32: =H13*D32 -> 0 | L32: =I13*D32 -> 0 | M32: =J13*D32 -> 0
A33: 8 | B33: =B14 -> Partnerio 7 pavadinimas | C33: Sostinės | E33: ='8'!G$133*$D33 -> 0 | F33: ='8'!H$133*$D33 -> 0 | G33: ='8'!G$135*D33 -> 0 | H33: ='8'!H$135*D33 -> 0 | I33: =E33+G33 -> 0 | J33: =F33+H33 -> 0 | K33: =H14*D33 -> 0 | L33: =I14*D33 -> 0 | M33: =J14*D33 -> 0
C34: VVL | E34: ='8'!G$133*$D34 -> 0 | F34: ='8'!H$133*$D34 -> 0 | G34: ='8'!G$135*D34 -> 0 | H34: ='8'!H$135*D34 -> 0 | I34: =E34+G34 -> 0 | J34: =F34+H34 -> 0 | K34: =H14*D34 -> 0 | L34: =I14*D34 -> 0 | M34: =J14*D34 -> 0
A35: Iš viso: | E35: =SUM(E19:E34) -> 0 | F35: =SUM(F19:F34) -> 0 | G35: =SUM(G19:G34) -> 0 | H35: =SUM(H19:H34) -> 0 | I35: =SUM(I19:I34) -> 0 | J35: =SUM(J19:J34) -> 0 | K35: =SUM(K19:K34) -> 0 | L35: =SUM(L19:L34) -> 0 | M35: =SUM(M19:M34) -> 0
B37: Pasirinkite netiesioginių išlaidų normą (0 proc. arba 7 proc.) | D37: =IF(C37>7%,"DĖMESIO! Neteisioginių išlaidų norma negali viršyti 7 proc.","")

Sheet Darbuotojai
B2: INFORMACIJA APIE PRISKAITYTĄ IR IŠMOKĖTĄ DARBO UŽMOKESTĮ
B4: Žemiau esančioje lentelėje įrašykite pareiškėjo ir partnerių esamus ar paluojamus įdarbinti darbuotojus, kurie vykdys projektą.
B6: Nr. | C6: Pareigos | D6: Vardas, pavardė (jei žinoma) | E6: Tos pačios pareigybės darbuotojų skaičius | F6: Vieno darbuotojo valandų skaičius projekte | G6: Bendras valandų skaičius projekte | H6: Darbo užmokesčio valandinis įkainis, Eur/val. | I6: Išlaidų pagrindimo dokumentas ir (arba) įkainio apskaičiavimo paaiškinimas*
A7: Projekto vykdytojo pavadinimas | B7: 1.1 | G7: =E7*F7 -> 0
B8: 1.2 | G8: =E8*F8 -> 0
B9: 1.3 | G9: =E9*F9 -> 0
B10: 1.4 | G10: =E10*F10 -> 0
B11: 1.5 | G11: =E11*F11 -> 0
B12: 1.6 | G12: =E12*F12 -> 0
B13: 1.7 | G13: =E13*F13 -> 0
B14: 1.8 | G14: =E14*F14 -> 0
B15: 1.9 | G15: =E15*F15 -> 0
B16: 1.10 | G16: =E16*F16 -> 0
B17: 1.11 | G17: =E17*F17 -> 0
B18: 1.12 | G18: =E18*F18 -> 0
B19: 1.13 | G19: =E19*F19 -> 0
... B26: 1.20 | G26: =E26*F26 -> 0
A27: Partnerio 1 pavadinimas | B27: 2.1 | G27: =E27*F27 -> 0
B28: 2.2 | G28: =E28*F28 -> 0
B29: 2.3 | G29: =E29*F29 -> 0
B30: 2.4 | G30: =E30*F30 -> 0
B31: 2.5 | G31: =E31*F31 -> 0
B32: 2.6 | G32: =E32*F32 -> 0
B33: 2.7 | G33: =E33*F33 -> 0
B34: 2.8 | G34: =E34*F34 -> 0
B35: 2.9 | G35: =E35*F35 -> 0
B36: 2.10 | G36: =E36*F36 -> 0
B37: 2.11 | G37: =E37*F37 -> 0
B38: 2.12 | G38: =E38*F38 -> 0
B39: 2.13 | G39: =E39*F39 -> 0
... B46: 2.20 | G46: =E46*F46 -> 0
A47: Partnerio 2 pavadinimas | B47: 3.1 | G47: =E47*F47 -> 0
B48: 3.2 | G48: =E48*F48 -> 0
B49: 3.3 | G49: =E49*F49 -> 0
B50: 3.4 | G50: =E50*F50 -> 0
B51: 3.5 | G51: =E51*F51 -> 0
B52: 3.6 | G52: =E52*F52 -> 0
B53: 3.7 | G53: =E53*F53 -> 0
B54: 3.8 | G54: =E54*F54 -> 0
B55: 3.9 | G55: =E55*F55 -> 0
...

Sheet 1
C1: =Darbuotojai!A7 -> Projekto vykdytojo pavadinimas
B2: Finansavimo intensyvumas: | D2: Didžiausias galimas intensyvumas yra 36 proc. (PFSA 5.1.9 p.)
A4: Nr. | B4: Išlaidų pavadinimas | D4: Matavimo vnt. | E4: Kiekis | F4: Vieneto kaina be PVM, Eur | G4: Tinkamų finansuoti išlaidų suma be PVM, Eur | H4: PVM suma, Eur (jei prašoma finansuoti) | I4: Finansavimas Europos regioninės plėtros fondo lėšomis | J4: Finansavimas Skaitmeninės Europos programos lėšomis | K4: WorkPakage Nr., kuriame bus patirtos išlaidos | L4: Išlaidų pagrindimo dokumentų pavadinimas, data ir Nr., skaičiavimų paaiškinimas
A5: A | B5: Darbo užmokesčio išlaidos | G5: =SUM(G6:G25) -> 0 | I5: =SUM(I6:I25) -> 0 | J5: =SUM(J6:J25) -> 0
A6: A.1 | C6: =IF(B6>0,VLOOKUP(B6,Darbuotojai!C$7:H$26,2,FALSE),"") | D6: val. | E6: =IF(B6>0,ROUND(VLOOKUP(B6,Darbuotojai!C$7:H$26,5,FALSE),2),0) -> 0 | F6: =IF(B6>0,ROUND(VLOOKUP(B6,Darbuotojai!C$7:H$26,6,FALSE),2),0) -> 0 | G6: =IFERROR(ROUND(E6*F6,2),"0,00") -> 0 | I6: =ROUND(G6*$C$2,2) -> 0 | J6: =ROUND(G6*0.5,2) -> 0 | L6: Kad galėtumėte pasirinkti dartuotojus, pirmiausia užpildykite lapą „Darbuotojai“
A7: A.2 | C7: =IF(B7>0,VLOOKUP(B7,Darbuotojai!C$7:H$46,2,FALSE),"") | D7: val. | E7: =IF(B7>0,ROUND(VLOOKUP(B7,Darbuotojai!C$7:H$26,5,FALSE),2),0) -> 0 | F7: =IF(B7>0,ROUND(VLOOKUP(B7,Darbuotojai!C$7:H$26,6,FALSE),2),0) -> 0 | G7: =IFERROR(ROUND(E7*F7,2),"0,00") -> 0 | I7: =ROUND(G7*$C$2,2) -> 0 | J7: =ROUND(G7*0.5,2) -> 0
A8: A.3 | C8: =IF(B8>0,VLOOKUP(B8,Darbuotojai!C$7:H$46,2,FALSE),"") | D8: val. | E8: =IF(B8>0,ROUND(VLOOKUP(B8,Darbuotojai!C$7:H$26,5,FALSE),2),0) -> 0 | F8: =IF(B8>0,ROUND(VLOOKUP(B8,Darbuotojai!C$7:H$26,6,FALSE),2),0) -> 0 | G8: =IFERROR(ROUND(E8*F8,2),"0,00") -> 0 | I8: =ROUND(G8*$C$2,2) -> 0 | J8: =ROUND(G8*0.5,2) -> 0
A9: A.4 | C9: =IF(B9>0,VLOOKUP(B9,Darbuotojai!C$7:H$46,2,FALSE),"") | D9: val. | E9: =IF(B9>0,ROUND(VLOOKUP(B9,Darbuotojai!C$7:H$26,5,FALSE),2),0) -> 0 | F9: =IF(B9>0,ROUND(VLOOKUP(B9,Darbuotojai!C$7:H$26,6,FALSE),2),0) -> 0 | G9: =IFERROR(ROUND(E9*F9,2),"0,00") -> 0 | I9: =ROUND(G9*$C$2,2) -> 0 | J9: =ROUND(G9*0.5,2) -> 0
A10: A.5 | C10: =IF(B10>0,VLOOKUP(B10,Darbuotojai!C$7:H$46,2,FALSE),"") | D10: val. | E10: =IF(B10>0,ROUND(VLOOKUP(B10,Darbuotojai!C$7:H$26,5,FALSE),2),0) -> 0 | F10: =IF(B10>0,ROUND(VLOOKUP(B10,Darbuotojai!C$7:H$26,6,FALSE),2),0) -> 0 | G10: =IFERROR(ROUND(E10*F10,2),"0,00") -> 0 | I10: =ROUND(G10*$C$2,2) -> 0 | J10: =ROUND(G10*0.5,2) -> 0
A11: A.6 | C11: =IF(B11>0,VLOOKUP(B11,Darbuotojai!C$7:H$46,2,FALSE),"") | D11: val. | E11: =IF(B11>0,ROUND(VLOOKUP(B11,Darbuotojai!C$7:H$26,5,FALSE),2),0) -> 0 | F11: =IF(B11>0,ROUND(VLOOKUP(B11,Darbuotojai!C$7:H$26,6,FALSE),2),0) -> 0 | G11: =IFERROR(ROUND(E11*F11,2),"0,00") -> 0 | I11: =ROUND(G11*$C$2,2) -> 0 | J11: =ROUND(G11*0.5,2) -> 0
A12: A.7 | C12: =IF(B12>0,VLOOKUP(B12,Darbuotojai!C$7:H$46,2,FALSE),"") | D12: val. | E12: =IF(B12>0,ROUND(VLOOKUP(B12,Darbuotojai!C$7:H$26,5,FALSE),2),0) -> 0 | F12: =IF(B12>0,ROUND(VLOOKUP(B12,Darbuotojai!C$7:H$26,6,FALSE),2),0) -> 0 | G12: =IFERROR(ROUND(E12*F12,2),"0,00") -> 0 | I12: =ROUND(G12*$C$2,2) -> 0 | J12: =ROUND(G12*0.5,2) -> 0
A13: A.8 | C13: =IF(B13>0,VLOOKUP(B13,Darbuotojai!C$7:H$46,2,FALSE),"") | D13: val. | E13: =IF(B13>0,ROUND(VLOOKUP(B13,Darbuotojai!C$7:H$26,5,FALSE),2),0) -> 0 | F13: =IF(B13>0,ROUND(VLOOKUP(B13,Darbuotojai!C$7:H$26,6,FALSE),2),0) -> 0 | G13: =IFERROR(ROUND(E13*F13,2),"0,00") -> 0 | I13: =ROUND(G13*$C$2,2) -> 0 | J13: =ROUND(G13*0.5,2) -> 0
A14: A.9 | C14: =IF(B14>0,VLOOKUP(B14,Darbuotojai!C$7:H$46,2,FALSE),"") | D14: val. | E14: =IF(B14>0,ROUND(VLOOKUP(B14,Darbuotojai!C$7:H$26,5,FALSE),2),0) -> 0 | F14: =IF(B14>0,ROUND(VLOOKUP(B14,Darbuotojai!C$7:H$26,6,FALSE),2),0) -> 0 | G14: =IFERROR(ROUND(E14*F14,2),"0,00") -> 0 | I14: =ROUND(G14*$C$2,2) -> 0 | J14: =ROUND(G14*0.5,2) -> 0
A15: A.10 | C15: =IF(B15>0,VLOOKUP(B15,Darbuotojai!C$7:H$46,2,FALSE),"") | D15: val. | E15: =IF(B15>0,ROUND(VLOOKUP(B15,Darbuotojai!C$7:H$26,5,FALSE),2),0) -> 0 | F15: =IF(B15>0,ROUND(VLOOKUP(B15,Darbuotojai!C$7:H$26,6,FALSE),2),0) -> 0 | G15: =IFERROR(ROUND(E15*F15,2),"0,00") -> 0 | I15: =ROUND(G15*$C$2,2) -> 0 | J15: =ROUND(G15*0.5,2) -> 0
A16: A.11 | C16: =IF(B16>0,VLOOKUP(B16,Darbuotojai!C$7:H$46,2,FALSE),"") | D16: val. | E16: =IF(B16>0,ROUND(VLOOKUP(B16,Darbuotojai!C$7:H$26,5,FALSE),2),0) -> 0 | F16: =IF(B16>0,ROUND(VLOOKUP(B16,Darbuotojai!C$7:H$26,6,FALSE),2),0) -> 0 | G16: =IFERROR(ROUND(E16*F16,2),"0,00") -> 0 | I16: =ROUND(G16*$C$2,2) -> 0 | J16: =ROUND(G16*0.5,2) -> 0
A17: A.12 | C17: =IF(B17>0,VLOOKUP(B17,Darbuotojai!C$7:H$46,2,FALSE),"") | D17: val. | E17: =IF(B17>0,ROUND(VLOOKUP(B17,Darbuotojai!C$7:H$26,5,FALSE),2),0) -> 0 | F17: =IF(B17>0,ROUND(VLOOKUP(B17,Darbuotojai!C$7:H$26,6,FALSE),2),0) -> 0 | G17: =IFERROR(ROUND(E17*F17,2),"0,00") -> 0 | I17: =ROUND(G17*$C$2,2) -> 0 | J17: =ROUND(G17*0.5,2) -> 0
A18: A.13 | C18: =IF(B18>0,VLOOKUP(B18,Darbuotojai!C$7:H$46,2,FALSE),"") | D18: val. | E18: =IF(B18>0,ROUND(VLOOKUP(B18,Darbuotojai!C$7:H$26,5,FALSE),2),0) -> 0 | F18: =IF(B18>0,ROUND(VLOOKUP(B18,Darbuotojai!C$7:H$26,6,FALSE),2),0) -> 0 | G18: =IFERROR(ROUND(E18*F18,2),"0,00") -> 0 | I18: =ROUND(G18*$C$2,2) -> 0 | J18: =ROUND(G18*0.5,2) -> 0
... A25: A.20 | C25: =IF(B25>0,VLOOKUP(B25,Darbuotojai!C$7:H$46,2,FALSE),"") | D25: val. | E25: =IF(B25>0,ROUND(VLOOKUP(B25,Darbuotojai!C$7:H$26,5,FALSE),2),0) -> 0 | F25: =IF(B25>0,ROUND(VLOOKUP(B25,Darbuotojai!C$7:H$26,6,FALSE),2),0) -> 0 | G25: =IFERROR(ROUND(E25*F25,2),"0,00") -> 0 | I25: =ROUND(G25*$C$2,2) -> 0 | J25: =ROUND(G25*0.5,2) -> 0
A26: C1 | B26: Komandiruočių išlaidos | G26: =SUM(G27,G35,G43,G51,G59,G67,G75,G83,G91,G99,) -> 0 | H26: =SUM(H27,H35,H43,H51,H59,H67,H75,H83,H91,H99,) -> 0 | I26: =SUM(I27,I35,I43,I51,I59,I67,I75,I83,I91,I99,) -> 0 | J26: =SUM(J27,J35,J43,J51,J59,J67,J75,J83,J91,J99,) -> 0
A27: C1.1 | B27: Komandiruotės pavadinimas, rūšis, tipas ar pan. | C27: Iš viso: | D27: vnt. | G27: =E27*G28 -> 0 | H27: =E27*H28 -> 0 | I27: =ROUND((G27+H27)*$C$2,2) -> 0 | J27: =ROUND((G27+H27)*0.5,2) -> 0 | L27: Komandiruotės šalis:
C28: Vienos komandiruotės išlaidos | G28: =SUM(G29:G34) -> 0 | H28: =SUM(H29:H34) -> 0 | I28: =ROUND((G28+H28)*$C$2,2) -> 0 | J28: =ROUND((G28+H28)*0.5,2) -> 0 | L28: Komandiruotės trukmė: | N28: dienos
C29: Dienpinigiai | D29: dienos | E29: =M28 -> 0 | F29: =IF(M27>0,VLOOKUP(M27,'Dienpinigiai ir apgyvendinimas'!A$4:C$157,3,FALSE),0) -> 0 | G29: =ROUND(E29*F29*M29,2) -> 0 | I29: =ROUND((G29+H29)*$C$2,2) -> 0 | J29: =ROUND((G29+H29)*0.5,2) -> 0 | L29: Vykstančių asmenų skaičius: | N29: asmuo/asmenys
C30: Gyvenamojo ploto nuoma | D30: naktys | E30: =IF(E29>0,E29-1,0) -> 0 | F30: =IF(M27>0,VLOOKUP(M27,'Dienpinigiai ir apgyvendinimas'!A$4:C$157,2,FALSE),0) -> 0 | G30: =ROUND(E30*F30*M29,2) -> 0 | I30: =ROUND((G30+H30)*$C$2,2) -> 0 | J30: =ROUND((G30+H30)*0.5,2) -> 0
C31: Kelionės išlaidos | G31: =ROUND(E31*F31,2) -> 0 | I31: =ROUND((G31+H31)*$C$2,2) -> 0 | J31: =ROUND((G31+H31)*0.5,2) -> 0
C32: Dalyvavimo mokestis | G32: =ROUND(E32*F32,2) -> 0 | I32: =ROUND((G32+H32)*$C$2,2) -> 0 | J32: =ROUND((G32+H32)*0.5,2) -> 0
C33: Kitų išlaidų pavadinimas | G33: =ROUND(E33*F33,2) -> 0 | I33: =ROUND((G33+H33)*$C$2,2) -> 0 | J33: =ROUND((G33+H33)*0.5,2) -> 0
C34: Kitų išlaidų pavadinimas | G34: =ROUND(E34*F34,2) -> 0 | I34: =ROUND((G34+H34)*$C$2,2) -> 0 | J34: =ROUND((G34+H34)*0.5,2) -> 0
A35: C1.2 | B35: Komandiruotės pavadinimas | C35: Iš viso: | D35: vnt. | G35: =E35*G36 -> 0 | H35: =E35*H36 -> 0 | I35: =ROUND((G35+H35)*$C$2,2) -> 0 | J35: =ROUND((G35+H35)*0.5,2) -> 0 | L35: Komandiruotės šalis:
C36: Vienos komandiruotės išlaidos | G36: =SUM(G37:G42) -> 0 | H36: =SUM(H37:H42) -> 0 | I36: =ROUND((G36+H36)*$C$2,2) -> 0 | J36: =ROUND((G36+H36)*0.5,2) -> 0 | L36: Komandiruotės trukmė: | N36: dienos
C37: Dienpinigiai | D37: dienos | E37: =M36 -> 0 | F37: =IF(M35>0,VLOOKUP(M35,'Dienpinigiai ir apgyvendinimas'!A$4:C$157,3,FALSE),0) -> 0 | G37: =ROUND(E37*F37*M37,2) -> 0 | I37: =ROUND((G37+H37)*$C$2,2) -> 0 | J37: =ROUND((G37+H37)*0.5,2) -> 0 | L37: Vykstančių asmenų skaičius: | N37: asmuo/asmenys
C38: Gyvenamojo ploto nuoma | D38: naktys | E38: =IF(E37>0,E37-1,0) -> 0 | F38: =IF(M35>0,VLOOKUP(M35,'Dienpinigiai ir apgyvendinimas'!A$4:C$157,2,FALSE),0) -> 0 | G38: =ROUND(E38*F38*M37,2) -> 0 | I38: =ROUND((G38+H38)*$C$2,2) -> 0 | J38: =ROUND((G38+H38)*0.5,2) -> 0
C39: Kelionės išlaidos | G39: =ROUND(E39*F39,2) -> 0 | I39: =ROUND((G39+H39)*$C$2,2) -> 0 | J39: =ROUND((G39+H39)*0.5,2) -> 0
C40: Dalyvavimo mokestis | G40: =ROUND(E40*F40,2) -> 0 | I40: =ROUND((G40+H40)*$C$2,2) -> 0 | J40: =ROUND((G40+H40)*0.5,2) -> 0
C41: Kitų išlaidų pavadinimas | G41: =ROUND(E41*F41,2) -> 0 | I41: =ROUND((G41+H41)*$C$2,2) -> 0 | J41: =ROUND((G41+H41)*0.5,2) -> 0
C42: Kitų išlaidų pavadinimas | G42: =ROUND(E42*F42,2) -> 0 | I42: =ROUND((G42+H42)*$C$2,2) -> 0 | J42: =ROUND((G42+H42)*0.5,2) -> 0
A43: C1.3 | B43: Komandiruotės pavadinimas | C43: Iš viso: | D43: vnt. | G43: =E43*G44 -> 0 | H43: =E43*H44 -> 0 | I43: =ROUND((G43+H43)*$C$2,2) -> 0 | J43: =ROUND((G43+H43)*0.5,2) -> 0 | L43: Komandiruotės šalis:
C44: Vienos komandiruotės išlaidos | G44: =SUM(G45:G50) -> 0 | H44: =SUM(H45:H50) -> 0 | I44: =ROUND((G44+H44)*$C$2,2) -> 0 | J44: =ROUND((G44+H44)*0.5,2) -> 0 | L44: Komandiruotės trukmė: | N44: dienos
C45: Dienpinigiai | D45: dienos | E45: =M44 -> 0 | F45: =IF(M43>0,VLOOKUP(M43,'Dienpinigiai ir apgyvendinimas'!A$4:C$157,3,FALSE),0) -> 0 | G45: =ROUND(E45*F45*M45,2) -> 0 | I45: =ROUND((G45+H45)*$C$2,2) -> 0 | J45: =ROUND((G45+H45)*0.5,2) -> 0 | L45: Vykstančių asmenų skaičius: | N45: asmuo/asmenys
C46: Gyvenamojo ploto nuoma | D46: naktys | E46: =IF(E45>0,E45-1,0) -> 0 | F46: =IF(M43>0,VLOOKUP(M43,'Dienpinigiai ir apgyvendinimas'!A$4:C$157,2,FALSE),0) -> 0 | G46: =ROUND(E46*F46*M45,2) -> 0 | I46: =ROUND((G46+H46)*$C$2,2) -> 0 | J46: =ROUND((G46+H46)*0.5,2) -> 0
C47: Kelionės išlaidos | G47: =ROUND(E47*F47,2) -> 0 | I47: =ROUND((G47+H47)*$C$2,2) -> 0 | J47: =ROUND((G47+H47)*0.5,2) -> 0
...

Sheet 2
C1: =Darbuotojai!A27 -> Partnerio 1 pavadinimas
B2: Finansavimo intensyvumas: | D2: Didžiausias galimas intensyvumas yra 36 proc. (PFSA 5.1.9 p.)
A4: Nr. | B4: Išlaidų pavadinimas | D4: Matavimo vnt. | E4: Kiekis | F4: Vieneto kaina be PVM, Eur | G4: Tinkamų finansuoti išlaidų suma be PVM, Eur | H4: PVM suma, Eur (jei prašoma finansuoti) | I4: Finansavimas Europos regioninės plėtros fondo lėšomis | J4: Finansavimas Skaitmeninės Europos programos lėšomis | K4: WorkPakage Nr., kuriame bus patirtos išlaidos | L4: Išlaidų pagrindimo dokumentų pavadinimas, data ir Nr., skaičiavimų paaiškinimas
A5: A | B5: Darbo užmokesčio išlaidos | G5: =SUM(G6:G25) -> 0 | I5: =SUM(I6:I25) -> 0 | J5: =SUM(J6:J25) -> 0
A6: A.1 | C6: =IF(B6>0,VLOOKUP(B6,Darbuotojai!C$27:H$46,2,FALSE),"") | D6: val. | E6: =IF(B6>0,ROUND(VLOOKUP(B6,Darbuotojai!C$27:H$46,5,FALSE),2),0) -> 0 | F6: =IF(B6>0,ROUND(VLOOKUP(B6,Darbuotojai!C$27:H$46,6,FALSE),2),0) -> 0 | G6: =IFERROR(ROUND(E6*F6,2),"0,00") -> 0 | I6: =ROUND(G6*$C$2,2) -> 0 | J6: =ROUND(G6*0.5,2) -> 0 | L6: Kad galėtumėte pasirinkti dartuotojus, pirmiausia užpildykite lapą „Darbuotojai“
A7: A.2 | C7: =IF(B7>0,VLOOKUP(B7,Darbuotojai!C$27:H$46,2,FALSE),"") | D7: val. | E7: =IF(B7>0,ROUND(VLOOKUP(B7,Darbuotojai!C$27:H$46,5,FALSE),2),0) -> 0 | F7: =IF(B7>0,ROUND(VLOOKUP(B7,Darbuotojai!C$27:H$46,6,FALSE),2),0) -> 0 | G7: =IFERROR(ROUND(E7*F7,2),"0,00") -> 0 | I7: =ROUND(G7*$C$2,2) -> 0 | J7: =ROUND(G7*0.5,2) -> 0
A8: A.3 | C8: =IF(B8>0,VLOOKUP(B8,Darbuotojai!C$27:H$46,2,FALSE),"") | D8: val. | E8: =IF(B8>0,ROUND(VLOOKUP(B8,Darbuotojai!C$27:H$46,5,FALSE),2),0) -> 0 | F8: =IF(B8>0,ROUND(VLOOKUP(B8,Darbuotojai!C$27:H$46,6,FALSE),2),0) -> 0 | G8: =IFERROR(ROUND(E8*F8,2),"0,00") -> 0 | I8: =ROUND(G8*$C$2,2) -> 0 | J8: =ROUND(G8*0.5,2) -> 0
A9: A.4 | C9: =IF(B9>0,VLOOKUP(B9,Darbuotojai!C$27:H$46,2,FALSE),"") | D9: val. | E9: =IF(B9>0,ROUND(VLOOKUP(B9,Darbuotojai!C$27:H$46,5,FALSE),2),0) -> 0 | F9: =IF(B9>0,ROUND(VLOOKUP(B9,Darbuotojai!C$27:H$46,6,FALSE),2),0) -> 0 | G9: =IFERROR(ROUND(E9*F9,2),"0,00") -> 0 | I9: =ROUND(G9*$C$2,2) -> 0 | J9: =ROUND(G9*0.5,2) -> 0
A10: A.5 | C10: =IF(B10>0,VLOOKUP(B10,Darbuotojai!C$27:H$46,2,FALSE),"") | D10: val. | E10: =IF(B10>0,ROUND(VLOOKUP(B10,Darbuotojai!C$27:H$46,5,FALSE),2),0) -> 0 | F10: =IF(B10>0,ROUND(VLOOKUP(B10,Darbuotojai!C$27:H$46,6,FALSE),2),0) -> 0 | G10: =IFERROR(ROUND(E10*F10,2),"0,00") -> 0 | I10: =ROUND(G10*$C$2,2) -> 0 | J10: =ROUND(G10*0.5,2) -> 0
A11: A.6 | C11: =IF(B11>0,VLOOKUP(B11,Darbuotojai!C$27:H$46,2,FALSE),"") | D11: val. | E11: =IF(B11>0,ROUND(VLOOKUP(B11,Darbuotojai!C$27:H$46,5,FALSE),2),0) -> 0 | F11: =IF(B11>0,ROUND(VLOOKUP(B11,Darbuotojai!C$27:H$46,6,FALSE),2),0) -> 0 | G11: =IFERROR(ROUND(E11*F11,2),"0,00") -> 0 | I11: =ROUND(G11*$C$2,2) -> 0 | J11: =ROUND(G11*0.5,2) -> 0
A12: A.7 | C12: =IF(B12>0,VLOOKUP(B12,Darbuotojai!C$27:H$46,2,FALSE),"") | D12: val. | E12: =IF(B12>0,ROUND(VLOOKUP(B12,Darbuotojai!C$27:H$46,5,FALSE),2),0) -> 0 | F12: =IF(B12>0,ROUND(VLOOKUP(B12,Darbuotojai!C$27:H$46,6,FALSE),2),0) -> 0 | G12: =IFERROR(ROUND(E12*F12,2),"0,00") -> 0 | I12: =ROUND(G12*$C$2,2) -> 0 | J12: =ROUND(G12*0.5,2) -> 0
A13: A.8 | C13: =IF(B13>0,VLOOKUP(B13,Darbuotojai!C$27:H$46,2,FALSE),"") | D13: val. | E13: =IF(B13>0,ROUND(VLOOKUP(B13,Darbuotojai!C$27:H$46,5,FALSE),2),0) -> 0 | F13: =IF(B13>0,ROUND(VLOOKUP(B13,Darbuotojai!C$27:H$46,6,FALSE),2),0) -> 0 | G13: =IFERROR(ROUND(E13*F13,2),"0,00") -> 0 | I13: =ROUND(G13*$C$2,2) -> 0 | J13: =ROUND(G13*0.5,2) -> 0
A14: A.9 | C14: =IF(B14>0,VLOOKUP(B14,Darbuotojai!C$27:H$46,2,FALSE),"") | D14: val. | E14: =IF(B14>0,ROUND(VLOOKUP(B14,Darbuotojai!C$27:H$46,5,FALSE),2),0) -> 0 | F14: =IF(B14>0,ROUND(VLOOKUP(B14,Darbuotojai!C$27:H$46,6,FALSE),2),0) -> 0 | G14: =IFERROR(ROUND(E14*F14,2),"0,00") -> 0 | I14: =ROUND(G14*$C$2,2) -> 0 | J14: =ROUND(G14*0.5,2) -> 0
A15: A.10 | C15: =IF(B15>0,VLOOKUP(B15,Darbuotojai!C$27:H$46,2,FALSE),"") | D15: val. | E15: =IF(B15>0,ROUND(VLOOKUP(B15,Darbuotojai!C$27:H$46,5,FALSE),2),0) -> 0 | F15: =IF(B15>0,ROUND(VLOOKUP(B15,Darbuotojai!C$27:H$46,6,FALSE),2),0) -> 0 | G15: =IFERROR(ROUND(E15*F15,2),"0,00") -> 0 | I15: =ROUND(G15*$C$2,2) -> 0 | J15: =ROUND(G15*0.5,2) -> 0
A16: A.11 | C16: =IF(B16>0,VLOOKUP(B16,Darbuotojai!C$27:H$46,2,FALSE),"") | D16: val. | E16: =IF(B16>0,ROUND(VLOOKUP(B16,Darbuotojai!C$27:H$46,5,FALSE),2),0) -> 0 | F16: =IF(B16>0,ROUND(VLOOKUP(B16,Darbuotojai!C$27:H$46,6,FALSE),2),0) -> 0 | G16: =IFERROR(ROUND(E16*F16,2),"0,00") -> 0 | I16: =ROUND(G16*$C$2,2) -> 0 | J16: =ROUND(G16*0.5,2) -> 0
A17: A.12 | C17: =IF(B17>0,VLOOKUP(B17,Darbuotojai!C$27:H$46,2,FALSE),"") | D17: val. | E17: =IF(B17>0,ROUND(VLOOKUP(B17,Darbuotojai!C$27:H$46,5,FALSE),2),0) -> 0 | F17: =IF(B17>0,ROUND(VLOOKUP(B17,Darbuotojai!C$27:H$46,6,FALSE),2),0) -> 0 | G17: =IFERROR(ROUND(E17*F17,2),"0,00") -> 0 | I17: =ROUND(G17*$C$2,2) -> 0 | J17: =ROUND(G17*0.5,2) -> 0
A18: A.13 | C18: =IF(B18>0,VLOOKUP(B18,Darbuotojai!C$27:H$46,2,FALSE),"") | D18: val. | E18: =IF(B18>0,ROUND(VLOOKUP(B18,Darbuotojai!C$27:H$46,5,FALSE),2),0) -> 0 | F18: =IF(B18>0,ROUND(VLOOKUP(B18,Darbuotojai!C$27:H$46,6,FALSE),2),0) -> 0 | G18: =IFERROR(ROUND(E18*F18,2),"0,00") -> 0 | I18: =ROUND(G18*$C$2,2) -> 0 | J18: =ROUND(G18*0.5,2) -> 0
... A25: A.20 | C25: =IF(B25>0,VLOOKUP(B25,Darbuotojai!C$27:H$46,2,FALSE),"") | D25: val. | E25: =IF(B25>0,ROUND(VLOOKUP(B25,Darbuotojai!C$27:H$46,5,FALSE),2),0) -> 0 | F25: =IF(B25>0,ROUND(VLOOKUP(B25,Darbuotojai!C$27:H$46,6,FALSE),2),0) -> 0 | G25: =IFERROR(ROUND(E25*F25,2),"0,00") -> 0 | I25: =ROUND(G25*$C$2,2) -> 0 | J25: =ROUND(G25*0.5,2) -> 0
A26: C1 | B26: Komandiruočių išlaidos | G26: =SUM(G27,G35,G43,G51,G59,G67,G75,G83,G91,G99,) -> 0 | H26: =SUM(H27,H35,H43,H51,H59,H67,H75,H83,H91,H99,) -> 0 | I26: =SUM(I27,I35,I43,I51,I59,I67,I75,I83,I91,I99,) -> 0 | J26: =SUM(J27,J35,J43,J51,J59,J67,J75,J83,J91,J99,) -> 0
A27: C1.1 | B27: Komandiruotės pavadinimas, rūšis, tipas ar pan. | C27: Iš viso: | D27: vnt. | G27: =E27*G28 -> 0 | H27: =E27*H28 -> 0 | I27: =ROUND((G27+H27)*$C$2,2) -> 0 | J27: =ROUND((G27+H27)*0.5,2) -> 0 | L27: Komandiruotės šalis:
C28: Vienos komandiruotės išlaidos | G28: =SUM(G29:G34) -> 0 | H28: =SUM(H29:H34) -> 0 | I28: =ROUND((G28+H28)*$C$2,2) -> 0 | J28: =ROUND((G28+H28)*0.5,2) -> 0 | L28: Komandiruotės trukmė: | N28: dienos
C29: Dienpinigiai | D29: dienos | E29: =M28 -> 0 | F29: =IF(M27>0,VLOOKUP(M27,'Dienpinigiai ir apgyvendinimas'!A$4:C$157,3,FALSE),0) -> 0 | G29: =ROUND(E29*F29*M29,2) -> 0 | I29: =ROUND((G29+H29)*$C$2,2) -> 0 | J29: =ROUND((G29+H29)*0.5,2) -> 0 | L29: Vykstančių asmenų skaičius: | N29: asmuo/asmenys
C30: Gyvenamojo ploto nuoma | D30: naktys | E30: =IF(E29>0,E29-1,0) -> 0 | F30: =IF(M27>0,VLOOKUP(M27,'Dienpinigiai ir apgyvendinimas'!A$4:C$157,2,FALSE),0) -> 0 | G30: =ROUND(E30*F30*M29,2) -> 0 | I30: =ROUND((G30+H30)*$C$2,2) -> 0 | J30: =ROUND((G30+H30)*0.5,2) -> 0
C31: Kelionės išlaidos | G31: =ROUND(E31*F31,2) -> 0 | I31: =ROUND((G31+H31)*$C$2,2) -> 0 | J31: =ROUND((G31+H31)*0.5,2) -> 0
C32: Dalyvavimo mokestis | G32: =ROUND(E32*F32,2) -> 0 | I32: =ROUND((G32+H32)*$C$2,2) -> 0 | J32: =ROUND((G32+H32)*0.5,2) -> 0
C33: Kitų išlaidų pavadinimas | G33: =ROUND(E33*F33,2) -> 0 | I33: =ROUND((G33+H33)*$C$2,2) -> 0 | J33: =ROUND((G33+H33)*0.5,2) -> 0
C34: Kitų išlaidų pavadinimas | G34: =ROUND(E34*F34,2) -> 0 | I34: =ROUND((G34+H34)*$C$2,2) -> 0 | J34: =ROUND((G34+H34)*0.5,2) -> 0
A35: C1.2 | B35: Komandiruotės pavadinimas, rūšis, tipas ar pan. | C35: Iš viso: | D35: vnt. | G35: =E35*G36 -> 0 | H35: =E35*H36 -> 0 | I35: =ROUND((G35+H35)*$C$2,2) -> 0 | J35: =ROUND((G35+H35)*0.5,2) -> 0 | L35: Komandiruotės šalis:
C36: Vienos komandiruotės išlaidos | G36: =SUM(G37:G42) -> 0 | H36: =SUM(H37:H42) -> 0 | I36: =ROUND((G36+H36)*$C$2,2) -> 0 | J36: =ROUND((G36+H36)*0.5,2) -> 0 | L36: Komandiruotės trukmė: | N36: dienos
C37: Dienpinigiai | D37: dienos | E37: =M36 -> 0 | F37: =IF(M35>0,VLOOKUP(M35,'Dienpinigiai ir apgyvendinimas'!A$4:C$157,3,FALSE),0) -> 0 | G37: =ROUND(E37*F37*M37,2) -> 0 | I37: =ROUND((G37+H37)*$C$2,2) -> 0 | J37: =ROUND((G37+H37)*0.5,2) -> 0 | L37: Vykstančių asmenų skaičius: | N37: asmuo/asmenys
C38: Gyvenamojo ploto nuoma | D38: naktys | E38: =IF(E37>0,E37-1,0) -> 0 | F38: =IF(M35>0,VLOOKUP(M35,'Dienpinigiai ir apgyvendinimas'!A$4:C$157,2,FALSE),0) -> 0 | G38: =ROUND(E38*F38*M37,2) -> 0 | I38: =ROUND((G38+H38)*$C$2,2) -> 0 | J38: =ROUND((G38+H38)*0.5,2) -> 0
C39: Kelionės išlaidos | G39: =ROUND(E39*F39,2) -> 0 | I39: =ROUND((G39+H39)*$C$2,2) -> 0 | J39: =ROUND((G39+H39)*0.5,2) -> 0
C40: Dalyvavimo mokestis | G40: =ROUND(E40*F40,2) -> 0 | I40: =ROUND((G40+H40)*$C$2,2) -> 0 | J40: =ROUND((G40+H40)*0.5,2) -> 0
C41: Kitų išlaidų pavadinimas | G41: =ROUND(E41*F41,2) -> 0 | I41: =ROUND((G41+H41)*$C$2,2) -> 0 | J41: =ROUND((G41+H41)*0.5,2) -> 0
C42: Kitų išlaidų pavadinimas | G42: =ROUND(E42*F42,2) -> 0 | I42: =ROUND((G42+H42)*$C$2,2) -> 0 | J42: =ROUND((G42+H42)*0.5,2) -> 0
A43: C1.3 | B43: Komandiruotės pavadinimas, rūšis, tipas ar pan. | C43: Iš viso: | D43: vnt. | G43: =E43*G44 -> 0 | H43: =E43*H44 -> 0 | I43: =ROUND((G43+H43)*$C$2,2) -> 0 | J43: =ROUND((G43+H43)*0.5,2) -> 0 | L43: Komandiruotės šalis:
C44: Vienos komandiruotės išlaidos | G44: =SUM(G45:G50) -> 0 | H44: =SUM(H45:H50) -> 0 | I44: =ROUND((G44+H44)*$C$2,2) -> 0 | J44: =ROUND((G44+H44)*0.5,2) -> 0 | L44: Komandiruotės trukmė: | N44: dienos
C45: Dienpinigiai | D45: dienos | E45: =M44 -> 0 | F45: =IF(M43>0,VLOOKUP(M43,'Dienpinigiai ir apgyvendinimas'!A$4:C$157,3,FALSE),0) -> 0 | G45: =ROUND(E45*F45*M45,2) -> 0 | I45: =ROUND((G45+H45)*$C$2,2) -> 0 | J45: =ROUND((G45+H45)*0.5,2) -> 0 | L45: Vykstančių asmenų skaičius: | N45: asmuo/asmenys
C46: Gyvenamojo ploto nuoma | D46: naktys | E46: =IF(E45>0,E45-1,0) -> 0 | F46: =IF(M43>0,VLOOKUP(M43,'Dienpinigiai ir apgyvendinimas'!A$4:C$157,2,FALSE),0) -> 0 | G46: =ROUND(E46*F46*M45,2) -> 0 | I46: =ROUND((G46+H46)*$C$2,2) -> 0 | J46: =ROUND((G46+H46)*0.5,2) -> 0
C47: Kelionės išlaidos | G47: =ROUND(E47*F47,2) -> 0 | I47: =ROUND((G47+H47)*$C$2,2) -> 0 | J47: =ROUND((G47+H47)*0.5,2) -> 0
...

Sheet 3
C1: =Darbuotojai!A47 -> Partnerio 2 pavadinimas
B2: Finansavimo intensyvumas: | D2: Didžiausias galimas intensyvumas yra 36 proc. (PFSA 5.1.9 p.)
A4: Nr. | B4: Išlaidų pavadinimas | D4: Matavimo vnt. | E4: Kiekis | F4: Vieneto kaina be PVM, Eur | G4: Tinkamų finansuoti išlaidų suma be PVM, Eur | H4: PVM suma, Eur (jei prašoma finansuoti) | I4: Finansavimas Europos regioninės plėtros fondo lėšomis | J4: Finansavimas Skaitmeninės Europos programos lėšomis | K4: WorkPakage Nr., kuriame bus patirtos išlaidos | L4: Išlaidų pagrindimo dokumentų pavadinimas, data ir Nr., skaičiavimų paaiškinimas
A5: A | B5: Darbo užmokesčio išlaidos | G5: =SUM(G6:G25) -> 0 | I5: =SUM(I6:I25) -> 0 | J5: =SUM(J6:J25) -> 0
A6: A.1 | C6: =IF(B6>0,VLOOKUP(B6,Darbuotojai!C$47:H$66,2,FALSE),"") | D6: val. | E6: =IF(B6>0,ROUND(VLOOKUP(B6,Darbuotojai!C$47:H$66,5,FALSE),2),0) -> 0 | F6: =IF(B6>0,ROUND(VLOOKUP(B6,Darbuotojai!C$47:H$66,6,FALSE),2),0) -> 0 | G6: =IFERROR(ROUND(E6*F6,2),"0,00") -> 0 | I6: =ROUND(G6*$C$2,2) -> 0 | J6: =ROUND(G6*0.5,2) -> 0 | L6: Kad galėtumėte pasirinkti dartuotojus, pirmiausia užpildykite lapą „Darbuotojai“
A7: A.2 | C7: =IF(B7>0,VLOOKUP(B7,Darbuotojai!C$47:H$66,2,FALSE),"") | D7: val. | E7: =IF(B7>0,ROUND(VLOOKUP(B7,Darbuotojai!C$47:H$66,5,FALSE),2),0) -> 0 | F7: =IF(B7>0,ROUND(VLOOKUP(B7,Darbuotojai!C$47:H$66,6,FALSE),2),0) -> 0 | G7: =IFERROR(ROUND(E7*F7,2),"0,00") -> 0 | I7: =ROUND(G7*$C$2,2) -> 0 | J7: =ROUND(G7*0.5,2) -> 0
A8: A.3 | C8: =IF(B8>0,VLOOKUP(B8,Darbuotojai!C$47:H$66,2,FALSE),"") | D8: val. | E8: =IF(B8>0,ROUND(VLOOKUP(B8,Darbuotojai!C$47:H$66,5,FALSE),2),0) -> 0 | F8: =IF(B8>0,ROUND(VLOOKUP(B8,Darbuotojai!C$47:H$66,6,FALSE),2),0) -> 0 | G8: =IFERROR(ROUND(E8*F8,2),"0,00") -> 0 | I8: =ROUND(G8*$C$2,2) -> 0 | J8: =ROUND(G8*0.5,2) -> 0
A9: A.4 | C9: =IF(B9>0,VLOOKUP(B9,Darbuotojai!C$47:H$66,2,FALSE),"") | D9: val. | E9: =IF(B9>0,ROUND(VLOOKUP(B9,Darbuotojai!C$47:H$66,5,FALSE),2),0) -> 0 | F9: =IF(B9>0,ROUND(VLOOKUP(B9,Darbuotojai!C$47:H$66,6,FALSE),2),0) -> 0 | G9: =IFERROR(ROUND(E9*F9,2),"0,00") -> 0 | I9: =ROUND(G9*$C$2,2) -> 0 | J9: =ROUND(G9*0.5,2) -> 0
A10: A.5 | C10: =IF(B10>0,VLOOKUP(B10,Darbuotojai!C$47:H$66,2,FALSE),"") | D10: val. | E10: =IF(B10>0,ROUND(VLOOKUP(B10,Darbuotojai!C$47:H$66,5,FALSE),2),0) -> 0 | F10: =IF(B10>0,ROUND(VLOOKUP(B10,Darbuotojai!C$47:H$66,6,FALSE),2),0) -> 0 | G10: =IFERROR(ROUND(E10*F10,2),"0,00") -> 0 | I10: =ROUND(G10*$C$2,2) -> 0 | J10: =ROUND(G10*0.5,2) -> 0
A11: A.6 | C11: =IF(B11>0,VLOOKUP(B11,Darbuotojai!C$47:H$66,2,FALSE),"") | D11: val. | E11: =IF(B11>0,ROUND(VLOOKUP(B11,Darbuotojai!C$47:H$66,5,FALSE),2),0) -> 0 | F11: =IF(B11>0,ROUND(VLOOKUP(B11,Darbuotojai!C$47:H$66,6,FALSE),2),0) -> 0 | G11: =IFERROR(ROUND(E11*F11,2),"0,00") -> 0 | I11: =ROUND(G11*$C$2,2) -> 0 | J11: =ROUND(G11*0.5,2) -> 0
A12: A.7 | C12: =IF(B12>0,VLOOKUP(B12,Darbuotojai!C$47:H$66,2,FALSE),"") | D12: val. | E12: =IF(B12>0,ROUND(VLOOKUP(B12,Darbuotojai!C$47:H$66,5,FALSE),2),0) -> 0 | F12: =IF(B12>0,ROUND(VLOOKUP(B12,Darbuotojai!C$47:H$66,6,FALSE),2),0) -> 0 | G12: =IFERROR(ROUND(E12*F12,2),"0,00") -> 0 | I12: =ROUND(G12*$C$2,2) -> 0 | J12: =ROUND(G12*0.5,2) -> 0
A13: A.8 | C13: =IF(B13>0,VLOOKUP(B13,Darbuotojai!C$47:H$66,2,FALSE),"") | D13: val. | E13: =IF(B13>0,ROUND(VLOOKUP(B13,Darbuotojai!C$47:H$66,5,FALSE),2),0) -> 0 | F13: =IF(B13>0,ROUND(VLOOKUP(B13,Darbuotojai!C$47:H$66,6,FALSE),2),0) -> 0 | G13: =IFERROR(ROUND(E13*F13,2),"0,00") -> 0 | I13: =ROUND(G13*$C$2,2) -> 0 | J13: =ROUND(G13*0.5,2) -> 0
A14: A.9 | C14: =IF(B14>0,VLOOKUP(B14,Darbuotojai!C$47:H$66,2,FALSE),"") | D14: val. | E14: =IF(B14>0,ROUND(VLOOKUP(B14,Darbuotojai!C$47:H$66,5,FALSE),2),0) -> 0 | F14: =IF(B14>0,ROUND(VLOOKUP(B14,Darbuotojai!C$47:H$66,6,FALSE),2),0) -> 0 | G14: =IFERROR(ROUND(E14*F14,2),"0,00") -> 0 | I14: =ROUND(G14*$C$2,2) -> 0 | J14: =ROUND(G14*0.5,2) -> 0
A15: A.10 | C15: =IF(B15>0,VLOOKUP(B15,Darbuotojai!C$47:H$66,2,FALSE),"") | D15: val. | E15: =IF(B15>0,ROUND(VLOOKUP(B15,Darbuotojai!C$47:H$66,5,FALSE),2),0) -> 0 | F15: =IF(B15>0,ROUND(VLOOKUP(B15,Darbuotojai!C$47:H$66,6,FALSE),2),0) -> 0 | G15: =IFERROR(ROUND(E15*F15,2),"0,00") -> 0 | I15: =ROUND(G15*$C$2,2) -> 0 | J15: =ROUND(G15*0.5,2) -> 0
A16: A.11 | C16: =IF(B16>0,VLOOKUP(B16,Darbuotojai!C$47:H$66,2,FALSE),"") | D16: val. | E16: =IF(B16>0,ROUND(VLOOKUP(B16,Darbuotojai!C$47:H$66,5,FALSE),2),0) -> 0 | F16: =IF(B16>0,ROUND(VLOOKUP(B16,Darbuotojai!C$47:H$66,6,FALSE),2),0) -> 0 | G16: =IFERROR(ROUND(E16*F16,2),"0,00") -> 0 | I16: =ROUND(G16*$C$2,2) -> 0 | J16: =ROUND(G16*0.5,2) -> 0
A17: A.12 | C17: =IF(B17>0,VLOOKUP(B17,Darbuotojai!C$47:H$66,2,FALSE),"") | D17: val. | E17: =IF(B17>0,ROUND(VLOOKUP(B17,Darbuotojai!C$47:H$66,5,FALSE),2),0) -> 0 | F17: =IF(B17>0,ROUND(VLOOKUP(B17,Darbuotojai!C$47:H$66,6,FALSE),2),0) -> 0 | G17: =IFERROR(ROUND(E17*F17,2),"0,00") -> 0 | I17: =ROUND(G17*$C$2,2) -> 0 | J17: =ROUND(G17*0.5,2) -> 0
A18: A.13 | C18: =IF(B18>0,VLOOKUP(B18,Darbuotojai!C$47:H$66,2,FALSE),"") | D18: val. | E18: =IF(B18>0,ROUND(VLOOKUP(B18,Darbuotojai!C$47:H$66,5,FALSE),2),0) -> 0 | F18: =IF(B18>0,ROUND(VLOOKUP(B18,Darbuotojai!C$47:H$66,6,FALSE),2),0) -> 0 | G18: =IFERROR(ROUND(E18*F18,2),"0,00") -> 0 | I18: =ROUND(G18*$C$2,2) -> 0 | J18: =ROUND(G18*0.5,2) -> 0
... A25: A.20 | C25: =IF(B25>0,VLOOKUP(B25,Darbuotojai!C$47:H$66,2,FALSE),"") | D25: val. | E25: =IF(B25>0,ROUND(VLOOKUP(B25,Darbuotojai!C$47:H$66,5,FALSE),2),0) -> 0 | F25: =IF(B25>0,ROUND(VLOOKUP(B25,Darbuotojai!C$47:H$66,6,FALSE),2),0) -> 0 | G25: =IFERROR(ROUND(E25*F25,2),"0,00") -> 0 | I25: =ROUND(G25*$C$2,2) -> 0 | J25: =ROUND(G25*0.5,2) -> 0
A26: C1 | B26: Komandiruočių išlaidos | G26: =SUM(G27,G35,G43,G51,G59,G67,G75,G83,G91,G99,) -> 0 | H26: =SUM(H27,H35,H43,H51,H59,H67,H75,H83,H91,H99,) -> 0 | I26: =SUM(I27,I35,I43,I51,I59,I67,I75,I83,I91,I99,) -> 0 | J26: =SUM(J27,J35,J43,J51,J59,J67,J75,J83,J91,J99,) -> 0
A27: C1.1 | B27: Komandiruotės pavadinimas | C27: Iš viso: | D27: vnt. | E27: 1 | G27: =E27*G28 -> 0 | H27: =E27*H28 -> 0 | I27: =ROUND((G27+H27)*$C$2,2) -> 0 | J27: =ROUND((G27+H27)*0.5,2) -> 0 | L27: Komandiruotės šalis:
C28: Vienos komandiruotės išlaidos | G28: =SUM(G29:G34) -> 0 | H28: =SUM(H29:H34) -> 0 | I28: =ROUND((G28+H28)*$C$2,2) -> 0 | J28: =ROUND((G28+H28)*0.5,2) -> 0 | L28: Komandiruotės trukmė: | N28: dienos
C29: Dienpinigiai | D29: dienos | E29: =M28 -> 0 | F29: =IF(M27>0,VLOOKUP(M27,'Dienpinigiai ir apgyvendinimas'!A$4:C$157,3,FALSE),0) -> 0 | G29: =ROUND(E29*F29*M29,2) -> 0 | I29: =ROUND((G29+H29)*$C$2,2) -> 0 | J29: =ROUND((G29+H29)*0.5,2) -> 0 | L29: Vykstančių asmenų skaičius: | N29: asmuo/asmenys
C30: Gyvenamojo ploto nuoma | D30: naktys | E30: =IF(E29>0,E29-1,0) -> 0 | F30: =IF(M27>0,VLOOKUP(M27,'Dienpinigiai ir apgyvendinimas'!A$4:C$157,2,FALSE),0) -> 0 | G30: =ROUND(E30*F30*M29,2) -> 0 | I30: =ROUND((G30+H30)*$C$2,2) -> 0 | J30: =ROUND((G30+H30)*0.5,2) -> 0
C31: Kelionės išlaidos | G31: =ROUND(E31*F31,2) -> 0 | I31: =ROUND((G31+H31)*$C$2,2) -> 0 | J31: =ROUND((G31+H31)*0.5,2) -> 0
C32: Dalyvavimo mokestis | G32: =ROUND(E32*F32,2) -> 0 | I32: =ROUND((G32+H32)*$C$2,2) -> 0 | J32: =ROUND((G32+H32)*0.5,2) -> 0
C33: Kitų išlaidų pavadinimas | G33: =ROUND(E33*F33,2) -> 0 | I33: =ROUND((G33+H33)*$C$2,2) -> 0 | J33: =ROUND((G33+H33)*0.5,2) -> 0
C34: Kitų išlaidų pavadinimas | G34: =ROUND(E34*F34,2) -> 0 | I34: =ROUND((G34+H34)*$C$2,2) -> 0 | J34: =ROUND((G34+H34)*0.5,2) -> 0
A35: C1.2 | B35: Komandiruotės pavadinimas | C35: Iš viso: | D35: vnt. | G35: =E35*G36 -> 0 | H35: =E35*H36 -> 0 | I35: =ROUND((G35+H35)*$C$2,2) -> 0 | J35: =ROUND((G35+H35)*0.5,2) -> 0 | L35: Komandiruotės šalis:
C36: Vienos komandiruotės išlaidos | G36: =SUM(G37:G42) -> 0 | H36: =SUM(H37:H42) -> 0 | I36: =ROUND((G36+H36)*$C$2,2) -> 0 | J36: =ROUND((G36+H36)*0.5,2) -> 0 | L36: Komandiruotės trukmė: | N36: dienos
C37: Dienpinigiai | D37: dienos | E37: =M36 -> 0 | F37: =IF(M35>0,VLOOKUP(M35,'Dienpinigiai ir apgyvendinimas'!A$4:C$157,3,FALSE),0) -> 0 | G37: =ROUND(E37*F37*M37,2) -> 0 | I37: =ROUND((G37+H37)*$C$2,2) -> 0 | J37: =ROUND((G37+H37)*0.5,2) -> 0 | L37: Vykstančių asmenų skaičius: | N37: asmuo/asmenys
C38: Gyvenamojo ploto nuoma | D38: naktys | E38: =IF(E37>0,E37-1,0) -> 0 | F38: =IF(M35>0,VLOOKUP(M35,'Dienpinigiai ir apgyvendinimas'!A$4:C$157,2,FALSE),0) -> 0 | G38: =ROUND(E38*F38*M37,2) -> 0 | I38: =ROUND((G38+H38)*$C$2,2) -> 0 | J38: =ROUND((G38+H38)*0.5,2) -> 0
C39: Kelionės išlaidos | G39: =ROUND(E39*F39,2) -> 0 | I39: =ROUND((G39+H39)*$C$2,2) -> 0 | J39: =ROUND((G39+H39)*0.5,2) -> 0
C40: Dalyvavimo mokestis | G40: =ROUND(E40*F40,2) -> 0 | I40: =ROUND((G40+H40)*$C$2,2) -> 0 | J40: =ROUND((G40+H40)*0.5,2) -> 0
C41: Kitų išlaidų pavadinimas | G41: =ROUND(E41*F41,2) -> 0 | I41: =ROUND((G41+H41)*$C$2,2) -> 0 | J41: =ROUND((G41+H41)*0.5,2) -> 0
C42: Kitų išlaidų pavadinimas | G42: =ROUND(E42*F42,2) -> 0 | I42: =ROUND((G42+H42)*$C$2,2) -> 0 | J42: =ROUND((G42+H42)*0.5,2) -> 0
A43: C1.3 | B43: Komandiruotės pavadinimas | C43: Iš viso: | D43: vnt. | G43: =E43*G44 -> 0 | H43: =E43*H44 -> 0 | I43: =ROUND((G43+H43)*$C$2,2) -> 0 | J43: =ROUND((G43+H43)*0.5,2) -> 0 | L43: Komandiruotės šalis:
C44: Vienos komandiruotės išlaidos | G44: =SUM(G45:G50) -> 0 | H44: =SUM(H45:H50) -> 0 | I44: =ROUND((G44+H44)*$C$2,2) -> 0 | J44: =ROUND((G44+H44)*0.5,2) -> 0 | L44: Komandiruotės trukmė: | N44: dienos
C45: Dienpinigiai | D45: dienos | E45: =M44 -> 0 | F45: =IF(M43>0,VLOOKUP(M43,'Dienpinigiai ir apgyvendinimas'!A$4:C$157,3,FALSE),0) -> 0 | G45: =ROUND(E45*F45*M45,2) -> 0 | I45: =ROUND((G45+H45)*$C$2,2) -> 0 | J45: =ROUND((G45+H45)*0.5,2) -> 0 | L45: Vykstančių asmenų skaičius: | N45: asmuo/asmenys
C46: Gyvenamojo ploto nuoma | D46: naktys | E46: =IF(E45>0,E45-1,0) -> 0 | F46: =IF(M43>0,VLOOKUP(M43,'Dienpinigiai ir apgyvendinimas'!A$4:C$157,2,FALSE),0) -> 0 | G46: =ROUND(E46*F46*M45,2) -> 0 | I46: =ROUND((G46+H46)*$C$2,2) -> 0 | J46: =ROUND((G46+H46)*0.5,2) -> 0
C47: Kelionės išlaidos | G47: =ROUND(E47*F47,2) -> 0 | I47: =ROUND((G47+H47)*$C$2,2) -> 0 | J47: =ROUND((G47+H47)*0.5,2) -> 0
...

Sheet 4
C1: =Darbuotojai!A67 -> Partnerio 3 pavadinimas
B2: Finansavimo intensyvumas: | D2: Didžiausias galimas intensyvumas yra 36 proc. (PFSA 5.1.9 p.)
A4: Nr. | B4: Išlaidų pavadinimas | D4: Matavimo vnt. | E4: Kiekis | F4: Vieneto kaina be PVM, Eur | G4: Tinkamų finansuoti išlaidų suma be PVM, Eur | H4: PVM suma, Eur (jei prašoma finansuoti) | I4: Finansavimas Europos regioninės plėtros fondo lėšomis | J4: Finansavimas Skaitmeninės Europos programos lėšomis | K4: WorkPakage Nr., kuriame bus patirtos išlaidos | L4: Išlaidų pagrindimo dokumentų pavadinimas, data ir Nr., skaičiavimų paaiškinimas
A5: A | B5: Darbo užmokesčio išlaidos | G5: =SUM(G6:G25) -> 0 | I5: =SUM(I6:I25) -> 0 | J5: =SUM(J6:J25) -> 0
A6: A.1 | C6: =IF(B6>0,VLOOKUP(B6,Darbuotojai!C$67:H$86,2,FALSE),"") | D6: val. | E6: =IF(B6>0,ROUND(VLOOKUP(B6,Darbuotojai!C$67:H$86,5,FALSE),2),0) -> 0 | F6: =IF(B6>0,ROUND(VLOOKUP(B6,Darbuotojai!C$67:H$86,6,FALSE),2),0) -> 0 | G6: =IFERROR(ROUND(E6*F6,2),"0,00") -> 0 | I6: =ROUND(G6*$C$2,2) -> 0 | J6: =ROUND(G6*0.5,2) -> 0 | L6: Kad galėtumėte pasirinkti dartuotojus, pirmiausia užpildykite lapą „Darbuotojai“
A7: A.2 | C7: =IF(B7>0,VLOOKUP(B7,Darbuotojai!C$67:H$86,2,FALSE),"") | D7: val. | E7: =IF(B7>0,ROUND(VLOOKUP(B7,Darbuotojai!C$67:H$86,5,FALSE),2),0) -> 0 | F7: =IF(B7>0,ROUND(VLOOKUP(B7,Darbuotojai!C$67:H$86,6,FALSE),2),0) -> 0 | G7: =IFERROR(ROUND(E7*F7,2),"0,00") -> 0 | I7: =ROUND(G7*$C$2,2) -> 0 | J7: =ROUND(G7*0.5,2) -> 0
A8: A.3 | C8: =IF(B8>0,VLOOKUP(B8,Darbuotojai!C$67:H$86,2,FALSE),"") | D8: val. | E8: =IF(B8>0,ROUND(VLOOKUP(B8,Darbuotojai!C$67:H$86,5,FALSE),2),0) -> 0 | F8: =IF(B8>0,ROUND(VLOOKUP(B8,Darbuotojai!C$67:H$86,6,FALSE),2),0) -> 0 | G8: =IFERROR(ROUND(E8*F8,2),"0,00") -> 0 | I8: =ROUND(G8*$C$2,2) -> 0 | J8: =ROUND(G8*0.5,2) -> 0
A9: A.4 | C9: =IF(B9>0,VLOOKUP(B9,Darbuotojai!C$67:H$86,2,FALSE),"") | D9: val. | E9: =IF(B9>0,ROUND(VLOOKUP(B9,Darbuotojai!C$67:H$86,5,FALSE),2),0) -> 0 | F9: =IF(B9>0,ROUND(VLOOKUP(B9,Darbuotojai!C$67:H$86,6,FALSE),2),0) -> 0 | G9: =IFERROR(ROUND(E9*F9,2),"0,00") -> 0 | I9: =ROUND(G9*$C$2,2) -> 0 | J9: =ROUND(G9*0.5,2) -> 0
A10: A.5 | C10: =IF(B10>0,VLOOKUP(B10,Darbuotojai!C$67:H$86,2,FALSE),"") | D10: val. | E10: =IF(B10>0,ROUND(VLOOKUP(B10,Darbuotojai!C$67:H$86,5,FALSE),2),0) -> 0 | F10: =IF(B10>0,ROUND(VLOOKUP(B10,Darbuotojai!C$67:H$86,6,FALSE),2),0) -> 0 | G10: =IFERROR(ROUND(E10*F10,2),"0,00") -> 0 | I10: =ROUND(G10*$C$2,2) -> 0 | J10: =ROUND(G10*0.5,2) -> 0
A11: A.6 | C11: =IF(B11>0,VLOOKUP(B11,Darbuotojai!C$67:H$86,2,FALSE),"") | D11: val. | E11: =IF(B11>0,ROUND(VLOOKUP(B11,Darbuotojai!C$67:H$86,5,FALSE),2),0) -> 0 | F11: =IF(B11>0,ROUND(VLOOKUP(B11,Darbuotojai!C$67:H$86,6,FALSE),2),0) -> 0 | G11: =IFERROR(ROUND(E11*F11,2),"0,00") -> 0 | I11: =ROUND(G11*$C$2,2) -> 0 | J11: =ROUND(G11*0.5,2) -> 0
A12: A.7 | C12: =IF(B12>0,VLOOKUP(B12,Darbuotojai!C$67:H$86,2,FALSE),"") | D12: val. | E12: =IF(B12>0,ROUND(VLOOKUP(B12,Darbuotojai!C$67:H$86,5,FALSE),2),0) -> 0 | F12: =IF(B12>0,ROUND(VLOOKUP(B12,Darbuotojai!C$67:H$86,6,FALSE),2),0) -> 0 | G12: =IFERROR(ROUND(E12*F12,2),"0,00") -> 0 | I12: =ROUND(G12*$C$2,2) -> 0 | J12: =ROUND(G12*0.5,2) -> 0
A13: A.8 | C13: =IF(B13>0,VLOOKUP(B13,Darbuotojai!C$67:H$86,2,FALSE),"") | D13: val. | E13: =IF(B13>0,ROUND(VLOOKUP(B13,Darbuotojai!C$67:H$86,5,FALSE),2),0) -> 0 | F13: =IF(B13>0,ROUND(VLOOKUP(B13,Darbuotojai!C$67:H$86,6,FALSE),2),0) -> 0 | G13: =IFERROR(ROUND(E13*F13,2),"0,00") -> 0 | I13: =ROUND(G13*$C$2,2) -> 0 | J13: =ROUND(G13*0.5,2) -> 0
A14: A.9 | C14: =IF(B14>0,VLOOKUP(B14,Darbuotojai!C$67:H$86,2,FALSE),"") | D14: val. | E14: =IF(B14>0,ROUND(VLOOKUP(B14,Darbuotojai!C$67:H$86,5,FALSE),2),0) -> 0 | F14: =IF(B14>0,ROUND(VLOOKUP(B14,Darbuotojai!C$67:H$86,6,FALSE),2),0) -> 0 | G14: =IFERROR(ROUND(E14*F14,2),"0,00") -> 0 | I14: =ROUND(G14*$C$2,2) -> 0 | J14: =ROUND(G14*0.5,2) -> 0
A15: A.10 | C15: =IF(B15>0,VLOOKUP(B15,Darbuotojai!C$67:H$86,2,FALSE),"") | D15: val. | E15: =IF(B15>0,ROUND(VLOOKUP(B15,Darbuotojai!C$67:H$86,5,FALSE),2),0) -> 0 | F15: =IF(B15>0,ROUND(VLOOKUP(B15,Darbuotojai!C$67:H$86,6,FALSE),2),0) -> 0 | G15: =IFERROR(ROUND(E15*F15,2),"0,00") -> 0 | I15: =ROUND(G15*$C$2,2) -> 0 | J15: =ROUND(G15*0.5,2) -> 0
A16: A.11 | C16: =IF(B16>0,VLOOKUP(B16,Darbuotojai!C$67:H$86,2,FALSE),"") | D16: val. | E16: =IF(B16>0,ROUND(VLOOKUP(B16,Darbuotojai!C$67:H$86,5,FALSE),2),0) -> 0 | F16: =IF(B16>0,ROUND(VLOOKUP(B16,Darbuotojai!C$67:H$86,6,FALSE),2),0) -> 0 | G16: =IFERROR(ROUND(E16*F16,2),"0,00") -> 0 | I16: =ROUND(G16*$C$2,2) -> 0 | J16: =ROUND(G16*0.5,2) -> 0
A17: A.12 | C17: =IF(B17>0,VLOOKUP(B17,Darbuotojai!C$67:H$86,2,FALSE),"") | D17: val. | E17: =IF(B17>0,ROUND(VLOOKUP(B17,Darbuotojai!C$67:H$86,5,FALSE),2),0) -> 0 | F17: =IF(B17>0,ROUND(VLOOKUP(B17,Darbuotojai!C$67:H$86,6,FALSE),2),0) -> 0 | G17: =IFERROR(ROUND(E17*F17,2),"0,00") -> 0 | I17: =ROUND(G17*$C$2,2) -> 0 | J17: =ROUND(G17*0.5,2) -> 0
A18: A.13 | C18: =IF(B18>0,VLOOKUP(B18,Darbuotojai!C$67:H$86,2,FALSE),"") | D18: val. | E18: =IF(B18>0,ROUND(VLOOKUP(B18,Darbuotojai!C$67:H$86,5,FALSE),2),0) -> 0 | F18: =IF(B18>0,ROUND(VLOOKUP(B18,Darbuotojai!C$67:H$86,6,FALSE),2),0) -> 0 | G18: =IFERROR(ROUND(E18*F18,2),"0,00") -> 0 | I18: =ROUND(G18*$C$2,2) -> 0 | J18: =ROUND(G18*0.5,2) -> 0
... A25: A.20 | C25: =IF(B25>0,VLOOKUP(B25,Darbuotojai!C$67:H$86,2,FALSE),"") | D25: val. | E25: =IF(B25>0,ROUND(VLOOKUP(B25,Darbuotojai!C$67:H$86,5,FALSE),2),0) -> 0 | F25: =IF(B25>0,ROUND(VLOOKUP(B25,Darbuotojai!C$67:H$86,6,FALSE),2),0) -> 0 | G25: =IFERROR(ROUND(E25*F25,2),"0,00") -> 0 | I25: =ROUND(G25*$C$2,2) -> 0 | J25: =ROUND(G25*0.5,2) -> 0
A26: C1 | B26: Komandiruočių išlaidos | G26: =SUM(G27,G35,G43,G51,G59,G67,G75,G83,G91,G99,) -> 0 | H26: =SUM(H27,H35,H43,H51,H59,H67,H75,H83,H91,H99,) -> 0 | I26: =SUM(I27,I35,I43,I51,I59,I67,I75,I83,I91,I99,) -> 0 | J26: =SUM(J27,J35,J43,J51,J59,J67,J75,J83,J91,J99,) -> 0
A27: C1.1 | B27: Komandiruotės pavadinimas | C27: Iš viso: | D27: vnt. | G27: =E27*G28 -> 0 | H27: =E27*H28 -> 0 | I27: =ROUND((G27+H27)*$C$2,2) -> 0 | J27: =ROUND((G27+H27)*0.5,2) -> 0 | L27: Komandiruotės šalis:
C28: Vienos komandiruotės išlaidos | G28: =SUM(G29:G34) -> 0 | H28: =SUM(H29:H34) -> 0 | I28: =ROUND((G28+H28)*$C$2,2) -> 0 | J28: =ROUND((G28+H28)*0.5,2) -> 0 | L28: Komandiruotės trukmė: | N28: dienos
C29: Dienpinigiai | D29: dienos | E29: =M28 -> 0 | F29: =IF(M27>0,VLOOKUP(M27,'Dienpinigiai ir apgyvendinimas'!A$4:C$157,3,FALSE),0) -> 0 | G29: =ROUND(E29*F29*M29,2) -> 0 | I29: =ROUND((G29+H29)*$C$2,2) -> 0 | J29: =ROUND((G29+H29)*0.5,2) -> 0 | L29: Vykstančių asmenų skaičius: | N29: asmuo/asmenys
C30: Gyvenamojo ploto nuoma | D30: naktys | E30: =IF(E29>0,E29-1,0) -> 0 | F30: =IF(M27>0,VLOOKUP(M27,'Dienpinigiai ir apgyvendinimas'!A$4:C$157,2,FALSE),0) -> 0 | G30: =ROUND(E30*F30*M29,2) -> 0 | I30: =ROUND((G30+H30)*$C$2,2) -> 0 | J30: =ROUND((G30+H30)*0.5,2) -> 0
C31: Kelionės išlaidos | G31: =ROUND(E31*F31,2) -> 0 | I31: =ROUND((G31+H31)*$C$2,2) -> 0 | J31: =ROUND((G31+H31)*0.5,2) -> 0
C32: Dalyvavimo mokestis | G32: =ROUND(E32*F32,2) -> 0 | I32: =ROUND((G32+H32)*$C$2,2) -> 0 | J32: =ROUND((G32+H32)*0.5,2) -> 0
C33: Kitų išlaidų pavadinimas | G33: =ROUND(E33*F33,2) -> 0 | I33: =ROUND((G33+H33)*$C$2,2) -> 0 | J33: =ROUND((G33+H33)*0.5,2) -> 0
C34: Kitų išlaidų pavadinimas | G34: =ROUND(E34*F34,2) -> 0 | I34: =ROUND((G34+H34)*$C$2,2) -> 0 | J34: =ROUND((G34+H34)*0.5,2) -> 0
A35: C1.2 | B35: Komandiruotės pavadinimas | C35: Iš viso: | D35: vnt. | G35: =E35*G36 -> 0 | H35: =E35*H36 -> 0 | I35: =ROUND((G35+H35)*$C$2,2) -> 0 | J35: =ROUND((G35+H35)*0.5,2) -> 0 | L35: Komandiruotės šalis:
C36: Vienos komandiruotės išlaidos | G36: =SUM(G37:G42) -> 0 | H36: =SUM(H37:H42) -> 0 | I36: =ROUND((G36+H36)*$C$2,2) -> 0 | J36: =ROUND((G36+H36)*0.5,2) -> 0 | L36: Komandiruotės trukmė: | N36: dienos
C37: Dienpinigiai | D37: dienos | E37: =M36 -> 0 | F37: =IF(M35>0,VLOOKUP(M35,'Dienpinigiai ir apgyvendinimas'!A$4:C$157,3,FALSE),0) -> 0 | G37: =ROUND(E37*F37*M37,2) -> 0 | I37: =ROUND((G37+H37)*$C$2,2) -> 0 | J37: =ROUND((G37+H37)*0.5,2) -> 0 | L37: Vykstančių asmenų skaičius: | N37: asmuo/asmenys
C38: Gyvenamojo ploto nuoma | D38: naktys | E38: =IF(E37>0,E37-1,0) -> 0 | F38: =IF(M35>0,VLOOKUP(M35,'Dienpinigiai ir apgyvendinimas'!A$4:C$157,2,FALSE),0) -> 0 | G38: =ROUND(E38*F38*M37,2) -> 0 | I38: =ROUND((G38+H38)*$C$2,2) -> 0 | J38: =ROUND((G38+H38)*0.5,2) -> 0
C39: Kelionės išlaidos | G39: =ROUND(E39*F39,2) -> 0 | I39: =ROUND((G39+H39)*$C$2,2) -> 0 | J39: =ROUND((G39+H39)*0.5,2) -> 0
C40: Dalyvavimo mokestis | G40: =ROUND(E40*F40,2) -> 0 | I40: =ROUND((G40+H40)*$C$2,2) -> 0 | J40: =ROUND((G40+H40)*0.5,2) -> 0
C41: Kitų išlaidų pavadinimas | G41: =ROUND(E41*F41,2) -> 0 | I41: =ROUND((G41+H41)*$C$2,2) -> 0 | J41: =ROUND((G41+H41)*0.5,2) -> 0
C42: Kitų išlaidų pavadinimas | G42: =ROUND(E42*F42,2) -> 0 | I42: =ROUND((G42+H42)*$C$2,2) -> 0 | J42: =ROUND((G42+H42)*0.5,2) -> 0
A43: C1.3 | B43: Komandiruotės pavadinimas | C43: Iš viso: | D43: vnt. | G43: =E43*G44 -> 0 | H43: =E43*H44 -> 0 | I43: =ROUND((G43+H43)*$C$2,2) -> 0 | J43: =ROUND((G43+H43)*0.5,2) -> 0 | L43: Komandiruotės šalis:
C44: Vienos komandiruotės išlaidos | G44: =SUM(G45:G50) -> 0 | H44: =SUM(H45:H50) -> 0 | I44: =ROUND((G44+H44)*$C$2,2) -> 0 | J44: =ROUND((G44+H44)*0.5,2) -> 0 | L44: Komandiruotės trukmė: | N44: dienos
C45: Dienpinigiai | D45: dienos | E45: =M44 -> 0 | F45: =IF(M43>0,VLOOKUP(M43,'Dienpinigiai ir apgyvendinimas'!A$4:C$157,3,FALSE),0) -> 0 | G45: =ROUND(E45*F45*M45,2) -> 0 | I45: =ROUND((G45+H45)*$C$2,2) -> 0 | J45: =ROUND((G45+H45)*0.5,2) -> 0 | L45: Vykstančių asmenų skaičius: | N45: asmuo/asmenys
C46: Gyvenamojo ploto nuoma | D46: naktys | E46: =IF(E45>0,E45-1,0) -> 0 | F46: =IF(M43>0,VLOOKUP(M43,'Dienpinigiai ir apgyvendinimas'!A$4:C$157,2,FALSE),0) -> 0 | G46: =ROUND(E46*F46*M45,2) -> 0 | I46: =ROUND((G46+H46)*$C$2,2) -> 0 | J46: =ROUND((G46+H46)*0.5,2) -> 0
C47: Kelionės išlaidos | G47: =ROUND(E47*F47,2) -> 0 | I47: =ROUND((G47+H47)*$C$2,2) -> 0 | J47: =ROUND((G47+H47)*0.5,2) -> 0
...

Sheet 5
C1: =Darbuotojai!A87 -> Partnerio 4 pavadinimas
B2: Finansavimo intensyvumas: | D2: Didžiausias galimas intensyvumas yra 36 proc. (PFSA 5.1.9 p.)
A4: Nr. | B4: Išlaidų pavadinimas | D4: Matavimo vnt. | E4: Kiekis | F4: Vieneto kaina be PVM, Eur | G4: Tinkamų finansuoti išlaidų suma be PVM, Eur | H4: PVM suma, Eur (jei prašoma finansuoti) | I4: Finansavimas Europos regioninės plėtros fondo lėšomis | J4: Finansavimas Skaitmeninės Europos programos lėšomis | K4: WorkPakage Nr., kuriame bus patirtos išlaidos | L4: Išlaidų pagrindimo dokumentų pavadinimas, data ir Nr., skaičiavimų paaiškinimas
A5: A | B5: Darbo užmokesčio išlaidos | G5: =SUM(G6:G25) -> 0 | I5: =SUM(I6:I25) -> 0 | J5: =SUM(J6:J25) -> 0
A6: A.1 | C6: =IF(B6>0,VLOOKUP(B6,Darbuotojai!C$87:H$106,2,FALSE),"") | D6: val. | E6: =IF(B6>0,ROUND(VLOOKUP(B6,Darbuotojai!C$87:H$106,5,FALSE),2),0) -> 0 | F6: =IF(B6>0,ROUND(VLOOKUP(B6,Darbuotojai!C$87:H$106,6,FALSE),2),0) -> 0 | G6: =IFERROR(ROUND(E6*F6,2),"0,00") -> 0 | I6: =ROUND(G6*$C$2,2) -> 0 | J6: =ROUND(G6*0.5,2) -> 0 | L6: Kad galėtumėte pasirinkti dartuotojus, pirmiausia užpildykite lapą „Darbuotojai“
A7: A.2 | C7: =IF(B7>0,VLOOKUP(B7,Darbuotojai!C$87:H$106,2,FALSE),"") | D7: val. | E7: =IF(B7>0,ROUND(VLOOKUP(B7,Darbuotojai!C$87:H$106,5,FALSE),2),0) -> 0 | F7: =IF(B7>0,ROUND(VLOOKUP(B7,Darbuotojai!C$87:H$106,6,FALSE),2),0) -> 0 | G7: =IFERROR(ROUND(E7*F7,2),"0,00") -> 0 | I7: =ROUND(G7*$C$2,2) -> 0 | J7: =ROUND(G7*0.5,2) -> 0
A8: A.3 | C8: =IF(B8>0,VLOOKUP(B8,Darbuotojai!C$87:H$106,2,FALSE),"") | D8: val. | E8: =IF(B8>0,ROUND(VLOOKUP(B8,Darbuotojai!C$87:H$106,5,FALSE),2),0) -> 0 | F8: =IF(B8>0,ROUND(VLOOKUP(B8,Darbuotojai!C$87:H$106,6,FALSE),2),0) -> 0 | G8: =IFERROR(ROUND(E8*F8,2),"0,00") -> 0 | I8: =ROUND(G8*$C$2,2) -> 0 | J8: =ROUND(G8*0.5,2) -> 0
A9: A.4 | C9: =IF(B9>0,VLOOKUP(B9,Darbuotojai!C$87:H$106,2,FALSE),"") | D9: val. | E9: =IF(B9>0,ROUND(VLOOKUP(B9,Darbuotojai!C$87:H$106,5,FALSE),2),0) -> 0 | F9: =IF(B9>0,ROUND(VLOOKUP(B9,Darbuotojai!C$87:H$106,6,FALSE),2),0) -> 0 | G9: =IFERROR(ROUND(E9*F9,2),"0,00") -> 0 | I9: =ROUND(G9*$C$2,2) -> 0 | J9: =ROUND(G9*0.5,2) -> 0
A10: A.5 | C10: =IF(B10>0,VLOOKUP(B10,Darbuotojai!C$87:H$106,2,FALSE),"") | D10: val. | E10: =IF(B10>0,ROUND(VLOOKUP(B10,Darbuotojai!C$87:H$106,5,FALSE),2),0) -> 0 | F10: =IF(B10>0,ROUND(VLOOKUP(B10,Darbuotojai!C$87:H$106,6,FALSE),2),0) -> 0 | G10: =IFERROR(ROUND(E10*F10,2),"0,00") -> 0 | I10: =ROUND(G10*$C$2,2) -> 0 | J10: =ROUND(G10*0.5,2) -> 0
A11: A.6 | C11: =IF(B11>0,VLOOKUP(B11,Darbuotojai!C$87:H$106,2,FALSE),"") | D11: val. | E11: =IF(B11>0,ROUND(VLOOKUP(B11,Darbuotojai!C$87:H$106,5,FALSE),2),0) -> 0 | F11: =IF(B11>0,ROUND(VLOOKUP(B11,Darbuotojai!C$87:H$106,6,FALSE),2),0) -> 0 | G11: =IFERROR(ROUND(E11*F11,2),"0,00") -> 0 | I11: =ROUND(G11*$C$2,2) -> 0 | J11: =ROUND(G11*0.5,2) -> 0
A12: A.7 | C12: =IF(B12>0,VLOOKUP(B12,Darbuotojai!C$87:H$106,2,FALSE),"") | D12: val. | E12: =IF(B12>0,ROUND(VLOOKUP(B12,Darbuotojai!C$87:H$106,5,FALSE),2),0) -> 0 | F12: =IF(B12>0,ROUND(VLOOKUP(B12,Darbuotojai!C$87:H$106,6,FALSE),2),0) -> 0 | G12: =IFERROR(ROUND(E12*F12,2),"0,00") -> 0 | I12: =ROUND(G12*$C$2,2) -> 0 | J12: =ROUND(G12*0.5,2) -> 0
A13: A.8 | C13: =IF(B13>0,VLOOKUP(B13,Darbuotojai!C$87:H$106,2,FALSE),"") | D13: val. | E13: =IF(B13>0,ROUND(VLOOKUP(B13,Darbuotojai!C$87:H$106,5,FALSE),2),0) -> 0 | F13: =IF(B13>0,ROUND(VLOOKUP(B13,Darbuotojai!C$87:H$106,6,FALSE),2),0) -> 0 | G13: =IFERROR(ROUND(E13*F13,2),"0,00") -> 0 | I13: =ROUND(G13*$C$2,2) -> 0 | J13: =ROUND(G13*0.5,2) -> 0
A14: A.9 | C14: =IF(B14>0,VLOOKUP(B14,Darbuotojai!C$87:H$106,2,FALSE),"") | D14: val. | E14: =IF(B14>0,ROUND(VLOOKUP(B14,Darbuotojai!C$87:H$106,5,FALSE),2),0) -> 0 | F14: =IF(B14>0,ROUND(VLOOKUP(B14,Darbuotojai!C$87:H$106,6,FALSE),2),0) -> 0 | G14: =IFERROR(ROUND(E14*F14,2),"0,00") -> 0 | I14: =ROUND(G14*$C$2,2) -> 0 | J14: =ROUND(G14*0.5,2) -> 0
A15: A.10 | C15: =IF(B15>0,VLOOKUP(B15,Darbuotojai!C$87:H$106,2,FALSE),"") | D15: val. | E15: =IF(B15>0,ROUND(VLOOKUP(B15,Darbuotojai!C$87:H$106,5,FALSE),2),0) -> 0 | F15: =IF(B15>0,ROUND(VLOOKUP(B15,Darbuotojai!C$87:H$106,6,FALSE),2),0) -> 0 | G15: =IFERROR(ROUND(E15*F15,2),"0,00") -> 0 | I15: =ROUND(G15*$C$2,2) -> 0 | J15: =ROUND(G15*0.5,2) -> 0
A16: A.11 | C16: =IF(B16>0,VLOOKUP(B16,Darbuotojai!C$87:H$106,2,FALSE),"") | D16: val. | E16: =IF(B16>0,ROUND(VLOOKUP(B16,Darbuotojai!C$87:H$106,5,FALSE),2),0) -> 0 | F16: =IF(B16>0,ROUND(VLOOKUP(B16,Darbuotojai!C$87:H$106,6,FALSE),2),0) -> 0 | G16: =IFERROR(ROUND(E16*F16,2),"0,00") -> 0 | I16: =ROUND(G16*$C$2,2) -> 0 | J16: =ROUND(G16*0.5,2) -> 0
A17: A.12 | C17: =IF(B17>0,VLOOKUP(B17,Darbuotojai!C$87:H$106,2,FALSE),"") | D17: val. | E17: =IF(B17>0,ROUND(VLOOKUP(B17,Darbuotojai!C$87:H$106,5,FALSE),2),0) -> 0 | F17: =IF(B17>0,ROUND(VLOOKUP(B17,Darbuotojai!C$87:H$106,6,FALSE),2),0) -> 0 | G17: =IFERROR(ROUND(E17*F17,2),"0,00") -> 0 | I17: =ROUND(G17*$C$2,2) -> 0 | J17: =ROUND(G17*0.5,2) -> 0
A18: A.13 | C18: =IF(B18>0,VLOOKUP(B18,Darbuotojai!C$87:H$106,2,FALSE),"") | D18: val. | E18: =IF(B18>0,ROUND(VLOOKUP(B18,Darbuotojai!C$87:H$106,5,FALSE),2),0) -> 0 | F18: =IF(B18>0,ROUND(VLOOKUP(B18,Darbuotojai!C$87:H$106,6,FALSE),2),0) -> 0 | G18: =IFERROR(ROUND(E18*F18,2),"0,00") -> 0 | I18: =ROUND(G18*$C$2,2) -> 0 | J18: =ROUND(G18*0.5,2) -> 0
... A25: A.20 | C25: =IF(B25>0,VLOOKUP(B25,Darbuotojai!C$87:H$106,2,FALSE),"") | D25: val. | E25: =IF(B25>0,ROUND(VLOOKUP(B25,Darbuotojai!C$87:H$106,5,FALSE),2),0) -> 0 | F25: =IF(B25>0,ROUND(VLOOKUP(B25,Darbuotojai!C$87:H$106,6,FALSE),2),0) -> 0 | G25: =IFERROR(ROUND(E25*F25,2),"0,00") -> 0 | I25: =ROUND(G25*$C$2,2) -> 0 | J25: =ROUND(G25*0.5,2) -> 0
A26: C1 | B26: Komandiruočių išlaidos | G26: =SUM(G27,G35,G43,G51,G59,G67,G75,G83,G91,G99,) -> 0 | H26: =SUM(H27,H35,H43,H51,H59,H67,H75,H83,H91,H99,) -> 0 | I26: =SUM(I27,I35,I43,I51,I59,I67,I75,I83,I91,I99,) -> 0 | J26: =SUM(J27,J35,J43,J51,J59,J67,J75,J83,J91,J99,) -> 0
A27: C1.1 | B27: Komandiruotės pavadinimas | C27: Iš viso: | D27: vnt. | G27: =E27*G28 -> 0 | H27: =E27*H28 -> 0 | I27: =ROUND((G27+H27)*$C$2,2) -> 0 | J27: =ROUND((G27+H27)*0.5,2) -> 0 | L27: Komandiruotės šalis:
C28: Vienos komandiruotės išlaidos | G28: =SUM(G29:G34) -> 0 | H28: =SUM(H29:H34) -> 0 | I28: =ROUND((G28+H28)*$C$2,2) -> 0 | J28: =ROUND((G28+H28)*0.5,2) -> 0 | L28: Komandiruotės trukmė: | N28: dienos
C29: Dienpinigiai | D29: dienos | E29: =M28 -> 0 | F29: =IF(M27>0,VLOOKUP(M27,'Dienpinigiai ir apgyvendinimas'!A$4:C$157,3,FALSE),0) -> 0 | G29: =ROUND(E29*F29*M29,2) -> 0 | I29: =ROUND((G29+H29)*$C$2,2) -> 0 | J29: =ROUND((G29+H29)*0.5,2) -> 0 | L29: Vykstančių asmenų skaičius: | N29: asmuo/asmenys
C30: Gyvenamojo ploto nuoma | D30: naktys | E30: =IF(E29>0,E29-1,0) -> 0 | F30: =IF(M27>0,VLOOKUP(M27,'Dienpinigiai ir apgyvendinimas'!A$4:C$157,2,FALSE),0) -> 0 | G30: =ROUND(E30*F30*M29,2) -> 0 | I30: =ROUND((G30+H30)*$C$2,2) -> 0 | J30: =ROUND((G30+H30)*0.5,2) -> 0
C31: Kelionės išlaidos | G31: =ROUND(E31*F31,2) -> 0 | I31: =ROUND((G31+H31)*$C$2,2) -> 0 | J31: =ROUND((G31+H31)*0.5,2) -> 0
C32: Dalyvavimo mokestis | G32: =ROUND(E32*F32,2) -> 0 | I32: =ROUND((G32+H32)*$C$2,2) -> 0 | J32: =ROUND((G32+H32)*0.5,2) -> 0
C33: Traukinys | G33: =ROUND(E33*F33,2) -> 0 | I33: =ROUND((G33+H33)*$C$2,2) -> 0 | J33: =ROUND((G33+H33)*0.5,2) -> 0
C34: Kitų išlaidų pavadinimas | G34: =ROUND(E34*F34,2) -> 0 | I34: =ROUND((G34+H34)*$C$2,2) -> 0 | J34: =ROUND((G34+H34)*0.5,2) -> 0
A35: C1.2 | B35: Komandiruotės pavadinimas | C35: Iš viso: | D35: vnt. | G35: =E35*G36 -> 0 | H35: =E35*H36 -> 0 | I35: =ROUND((G35+H35)*$C$2,2) -> 0 | J35: =ROUND((G35+H35)*0.5,2) -> 0 | L35: Komandiruotės šalis:
C36: Vienos komandiruotės išlaidos | G36: =SUM(G37:G42) -> 0 | H36: =SUM(H37:H42) -> 0 | I36: =ROUND((G36+H36)*$C$2,2) -> 0 | J36: =ROUND((G36+H36)*0.5,2) -> 0 | L36: Komandiruotės trukmė: | N36: dienos
C37: Dienpinigiai | D37: dienos | E37: =M36 -> 0 | F37: =IF(M35>0,VLOOKUP(M35,'Dienpinigiai ir apgyvendinimas'!A$4:C$157,3,FALSE),0) -> 0 | G37: =ROUND(E37*F37*M37,2) -> 0 | I37: =ROUND((G37+H37)*$C$2,2) -> 0 | J37: =ROUND((G37+H37)*0.5,2) -> 0 | L37: Vykstančių asmenų skaičius: | N37: asmuo/asmenys
C38: Gyvenamojo ploto nuoma | D38: naktys | E38: =IF(E37>0,E37-1,0) -> 0 | F38: =IF(M35>0,VLOOKUP(M35,'Dienpinigiai ir apgyvendinimas'!A$4:C$157,2,FALSE),0) -> 0 | G38: =ROUND(E38*F38*M37,2) -> 0 | I38: =ROUND((G38+H38)*$C$2,2) -> 0 | J38: =ROUND((G38+H38)*0.5,2) -> 0
C39: Kelionės išlaidos | G39: =ROUND(E39*F39,2) -> 0 | I39: =ROUND((G39+H39)*$C$2,2) -> 0 | J39: =ROUND((G39+H39)*0.5,2) -> 0
C40: Dalyvavimo mokestis | G40: =ROUND(E40*F40,2) -> 0 | I40: =ROUND((G40+H40)*$C$2,2) -> 0 | J40: =ROUND((G40+H40)*0.5,2) -> 0
C41: Kitų išlaidų pavadinimas | G41: =ROUND(E41*F41,2) -> 0 | I41: =ROUND((G41+H41)*$C$2,2) -> 0 | J41: =ROUND((G41+H41)*0.5,2) -> 0
C42: Kitų išlaidų pavadinimas | G42: =ROUND(E42*F42,2) -> 0 | I42: =ROUND((G42+H42)*$C$2,2) -> 0 | J42: =ROUND((G42+H42)*0.5,2) -> 0
A43: C1.3 | B43: Komandiruotės pavadinimas | C43: Iš viso: | D43: vnt. | G43: =E43*G44 -> 0 | H43: =E43*H44 -> 0 | I43: =ROUND((G43+H43)*$C$2,2) -> 0 | J43: =ROUND((G43+H43)*0.5,2) -> 0 | L43: Komandiruotės šalis:
C44: Vienos komandiruotės išlaidos | G44: =SUM(G45:G50) -> 0 | H44: =SUM(H45:H50) -> 0 | I44: =ROUND((G44+H44)*$C$2,2) -> 0 | J44: =ROUND((G44+H44)*0.5,2) -> 0 | L44: Komandiruotės trukmė: | N44: dienos
C45: Dienpinigiai | D45: dienos | E45: =M44 -> 0 | F45: =IF(M43>0,VLOOKUP(M43,'Dienpinigiai ir apgyvendinimas'!A$4:C$157,3,FALSE),0) -> 0 | G45: =ROUND(E45*F45*M45,2) -> 0 | I45: =ROUND((G45+H45)*$C$2,2) -> 0 | J45: =ROUND((G45+H45)*0.5,2) -> 0 | L45: Vykstančių asmenų skaičius: | N45: asmuo/asmenys
