Workbook
Name Pareiškėjas: 'Darbuotojai ir paslaugos'!$C$6:$C$25
Name Partneris1: 'Darbuotojai ir paslaugos'!$C$26:$C$45

Sheet Suvestinė
A1: Pildyti tik žaliai pažymėtus langelius
A3: 1 lentelė: MTEP veiklų išlaidos pagal poveikles
A4: Nr. | B4: Poveiklės pavadinimas | C4: Tiesioginių išlaidų suma, Eur | D4: Netiesioginių išlaidų suma, Eur | E4: Tinkamų finansuoti išlaidų suma, Eur | F4: Prašomas finansavimas, Eur
A5: 1 | B5: ='1'!D$1 -> Moksliniai tyrimai (projekto vykdytojas) | C5: ='1'!$G$6 -> 0 | D5: ='1'!$G$152 -> 0 | E5: ='1'!$G$154 -> 0 | F5: ='1'!$H$154 -> 0
A6: 2 | B6: ='2'!D$1 -> Moksliniai tyrimai (partneris 1) | C6: ='2'!$G$6 -> 0 | D6: ='2'!$G$152 -> 0 | E6: ='2'!$G$154 -> 0 | F6: ='2'!$H$154 -> 0
A7: 3 | B7: ='3'!D$1 -> Moksliniai tyrimai (partneris 2) | C7: ='3'!$G$6 -> 0 | D7: ='3'!$G$152 -> 0 | E7: ='3'!$G$154 -> 0 | F7: ='3'!$H$154 -> 0
A8: 4 | B8: ='4'!D$1 -> Eksperimentinė plėtra (projekto vykdytojas) | C8: ='4'!$G$6 -> 0 | D8: ='4'!$G$152 -> 0 | E8: ='4'!$G$154 -> 0 | F8: ='4'!$H$154 -> 0
A9: 5 | B9: ='5'!D$1 -> Eksperimentinė plėtra (partneris 1) | C9: ='5'!$G$6 -> 0 | D9: ='5'!$G$152 -> 0 | E9: ='5'!$G$154 -> 0 | F9: ='5'!$H$154 -> 0
A10: 6 | B10: ='6'!D$1 -> Eksperimentinė plėtra (partneris 2) | C10: ='6'!$G$6 -> 0 | D10: ='6'!$G$152 -> 0 | E10: ='6'!$G$154 -> 0 | F10: ='6'!$H$154 -> 0
A11: Iš viso: | C11: =SUM(C5:C10) -> 0 | D11: =SUM(D5:D10) -> 0 | E11: =SUM(E5:E10) -> 0 | F11: =SUM(F5:F10) -> 0
A13: 2 lentelė: MTEP veiklų išlaidos pagal PFSA 11.5 papunktį
A14: Nr. | B14: Išlaidų pavadinimas | C14: Tiesioginių išlaidų suma, Eur | D14: Prašomas finansavimas, Eur
A15: 1 | B15: ='1'!B7 -> Projektą vykdančio personalo darbo užmokestis ir išlaidos su darbo santykiais susijusiems darbdavio įsipareigojimams | C15: ='1'!G7+'2'!G7+'3'!G7+'4'!G7+'5'!G7+'6'!G7 -> 0 | D15: ='1'!H7+'2'!H7+'3'!H7+'4'!H7+'5'!H7+'6'!H7 -> 0
A16: 2 | B16: ='1'!B28 -> Projektą vykdančio personalo komandiruočių išlaidos | C16: ='1'!G28+'2'!G28+'3'!G28+'4'!G28+'5'!G28+'6'!G28 -> 0 | D16: ='1'!H28+'2'!H28+'3'!H28+'4'!H28+'5'!H28+'6'!H28 -> 0
A17: 3 | B17: ='1'!B64 -> Nusidėvėjimo išlaidos priemonėms ir įrenginiams | C17: ='1'!G64+'2'!G64+'3'!G64+'4'!G64+'5'!G64+'6'!G64 -> 0 | D17: ='1'!H64+'2'!H64+'3'!H64+'4'!H64+'5'!H64+'6'!H64 -> 0
A18: 4 | B18: ='1'!B85 -> Išlaidos pagal sutartis vykdomiems moksliniams tyrimams, žinioms ir patentams | C18: ='1'!G85+'2'!G85+'3'!G85+'4'!G85+'5'!G85+'6'!G85 -> 0 | D18: ='1'!H85+'2'!H85+'3'!H85+'4'!H85+'5'!H85+'6'!H85 -> 0
A19: 5 | B19: ='1'!B96 -> Konsultavimo ir lygiaverčių paslaugų, naudojamų vien projektui, išlaidos | C19: ='1'!G96+'2'!G96+'3'!G96+'4'!G96+'5'!G96+'6'!G96 -> 0 | D19: ='1'!H96+'2'!H96+'3'!H96+'4'!H96+'5'!H96+'6'!H96 -> 0
A20: 6 | B20: ='1'!B107 -> Medžiagos, mažavertis inventorius, atsargos ir pan. produktai, priskirtini trumpalaikiam turtui ir tiesiogiai susiję su MTEP veikla | C20: ='1'!G107+'2'!G107+'3'!G107+'4'!G107+'5'!G107+'6'!G107 -> 0 | D20: ='1'!H107+'2'!H107+'3'!H107+'4'!H107+'5'!H107+'6'!H107 -> 0
A21: 7 | B21: ='1'!B133 -> Įrangos (išskyrus įsigytą iš ES fondų ar kitų ES finansinių priemonių lėšų) nuomos išlaidos, veiklai priskirtos pro rata principu | C21: ='1'!G133+'2'!G133+'3'!G133+'4'!G133+'5'!G133+'6'!G133 -> 0 | D21: ='1'!H133+'2'!H133+'3'!H133+'4'!H133+'5'!H133+'6'!H133 -> 0
A22: 8 | B22: ='1'!B144 -> Projektui įgyvendinti būtinų pastatų arba patalpų nuomos išlaidos | C22: ='1'!G144+'2'!G144+'3'!G144+'4'!G144+'5'!G144+'6'!G144 -> 0 | D22: ='1'!H144+'2'!H144+'3'!H144+'4'!H144+'5'!H144+'6'!H144 -> 0
A23: Iš viso TIESIOGINIŲ išlaidų: | C23: =SUM(C15:C22) -> 0 | D23: =SUM(D15:D22) -> 0
B25: Pasirinkite netiesioginių išlaidų normą (0 proc. arba 7 proc.) | D25: =IF(C25>7%,"DĖMESIO! Neteisioginių išlaidų norma negali viršyti 7 proc.","")
A27: 9 | B27: NETIESIOGINĖS išlaidos pagal fiksuotąją projekto išlaidų normą | C27: ='1'!G152+'2'!G152+'3'!G152+'4'!G152+'5'!G152+'6'!G152 -> 0 | D27: ='1'!H152+'2'!H152+'3'!H152+'4'!H152+'5'!H152+'6'!H152 -> 0
A29: Tinkamų finansuoti išlaidų suma: | C29: =SUM(C23,C27) -> 0 | D29: =SUM(D23,D27) -> 0 | E29: =IF(D29<100000,"DĖMESIO, finansavimo suma negali būti mažesnė nei 100.000,00 Eur","") -> DĖMESIO, finansavimo suma negali būti mažesnė nei 100.000,00 Eur
E30: =IF(D29>1500000,"DĖMESIO, finansavimo suma negali būti didesnė nei 1.500.000,00 Eur","")
A31: 3 išlaidų eilutės suma ir procentinė dalis | C31: =C17 -> 0 | D31: =IFERROR(C31/C29, "0%") -> 0% | E31: =IF(C31>(C29*0.5),"DĖMESIO! Patikrinkite, ar biudžeto eilutės Nr. 3 suma neviršija 50 proc. pagal PFSA 11.5.3 p. numatytų tinkamų finansuoti išlaidų.","")
A32: 4 ir 5 išlaidų eilučių suma ir procentinė dalis | C32: =C18+C19 -> 0 | D32: =IFERROR(C32/C29, "0%") -> 0% | E32: =IF(C32>(C29*0.5),"DĖMESIO, patikrinkite, ar biudžeto eilučių Nr. 4 ir 5 suma neviršija 50 proc. pagal PFSA 11.5.4 p. numatytų tinkamų finansuoti išlaidų.","")
A33: 8 išlaidų eilutės suma ir procentinė dalis | C33: =C22 -> 0 | D33: =IFERROR(C33/C29, "0%") -> 0% | E33: =IF(C33>(C29*0.1),"DĖMESIO! Patikrinkite, ar biudžeto eilutės Nr. 8 suma neviršija 10 proc. pagal PFSA 11.5.7 p. numatytų tinkamų finansuoti išlaidų.","")
A35: 3 lentelė: MTEP veiklų išlaidų paskirstymas pagal pareiškėją ir partnerį(-ius)
A36: Nr. | B36: Pareiškėjo / partnerio (-ių) išlaidos, Eur | C36: Tinkamų finansuoti išlaidų suma | D36: Prašomas finansavimas, Eur
A37: 1 | B37: ='Darbuotojai ir paslaugos'!A6 -> Projekto vykdytojo pavadinimas | C37: =E5+E8 -> 0 | D37: =F5+F8 -> 0
B38: Procentinė tinkamų finansuoti išlaidų dalis, proc. | C38: =IFERROR(C37/C44, "0%") -> 0%
A39: 2 | B39: ='Darbuotojai ir paslaugos'!A26 -> Partnerio Nr. 1 pavadinimas | C39: =E6+E9 -> 0 | D39: =F6+F9 -> 0
B40: Procentinė tinkamų finansuoti išlaidų dalis, proc. | C40: =IFERROR(C39/C44, "0%") -> 0%
A41: 3 | B41: ='Darbuotojai ir paslaugos'!A46 -> Partnerio Nr. 2 pavadinimas | C41: =E7+E10 -> 0 | D41: =F7+F10 -> 0
B42: Procentinė tinkamų finansuoti išlaidų dalis, proc. | C42: =IFERROR(C41/C44, "0%") -> 0%
B43: Iš viso, proc. | C43: =C38+C40+C42 -> 0
A44: Iš viso, Eur: | C44: =C37+C39+C41 -> 0 | D44: =D37+D39+D41 -> 0

Sheet Darbuotojai ir paslaugos
A2: INFORMACIJA APIE PRISKAITYTĄ IR IŠMOKĖTĄ DARBO UŽMOKESTĮ
A4: Žemiau esančioje lentelėje įrašykite pareiškėjo ir partnerio(-ių) esamus ar paluojamus įdarbinti darbuotojus, kurie vykdys projektą.
B5: Nr. | C5: Vardas, pavardė | D5: Pareigos | E5: Bendras valandų skaičius projekte | F5: Darbo užmokesčio valandinis įkainis, Eur/val.
A6: Projekto vykdytojo pavadinimas | B6: 1 | E6: ='Vykdymo planas'!H$16+'Vykdymo planas'!H$64 -> 0 | F6: 28.85
B7: 2 | E7: ='Vykdymo planas'!I$16+'Vykdymo planas'!I$64 -> 0 | F7: 28.85
B8: 3 | E8: ='Vykdymo planas'!J$16+'Vykdymo planas'!J$64 -> 0 | F8: 28.85
B9: 4 | E9: ='Vykdymo planas'!K$16+'Vykdymo planas'!K$64 -> 0 | F9: 28.85
B10: 5 | E10: ='Vykdymo planas'!L$16+'Vykdymo planas'!L$64 -> 0 | F10: 28.85
B11: 6 | E11: ='Vykdymo planas'!M$16+'Vykdymo planas'!M$64 -> 0 | F11: 28.85
B12: 7 | E12: ='Vykdymo planas'!N$16+'Vykdymo planas'!N$64 -> 0 | F12: 28.85
B13: 8 | E13: ='Vykdymo planas'!O$16+'Vykdymo planas'!O$64 -> 0 | F13: 28.85
B14: 9 | E14: ='Vykdymo planas'!P$16+'Vykdymo planas'!P$64 -> 0 | F14: 28.85
B15: 10 | E15: ='Vykdymo planas'!Q$16+'Vykdymo planas'!Q$64 -> 0 | F15: 28.85
B16: 11 | E16: ='Vykdymo planas'!R$16+'Vykdymo planas'!R$64 -> 0 | F16: 28.85
B17: 12 | E17: ='Vykdymo planas'!S$16+'Vykdymo planas'!S$64 -> 0 | F17: 28.85
B18: 13 | E18: ='Vykdymo planas'!T$16+'Vykdymo planas'!T$64 -> 0 | F18: 28.85
B19: 14 | E19: ='Vykdymo planas'!U$16+'Vykdymo planas'!U$64 -> 0 | F19: 28.85
B20: 15 | E20: ='Vykdymo planas'!V$16+'Vykdymo planas'!V$64 -> 0 | F20: 28.85
B21: 16 | E21: ='Vykdymo planas'!W$16+'Vykdymo planas'!W$64 -> 0 | F21: 28.85
B22: 17 | E22: ='Vykdymo planas'!X$16+'Vykdymo planas'!X$64 -> 0 | F22: 28.85
B23: 18 | E23: ='Vykdymo planas'!Y$16+'Vykdymo planas'!Y$64 -> 0 | F23: 28.85
B24: 19 | E24: ='Vykdymo planas'!Z$16+'Vykdymo planas'!Z$64 -> 0 | F24: 28.85
B25: 20 | E25: ='Vykdymo planas'!AA$16+'Vykdymo planas'!AA$64 -> 0 | F25: 28.85
A26: Partnerio Nr. 1 pavadinimas | B26: 1 | E26: ='Vykdymo planas'!H$32+'Vykdymo planas'!H$80 -> 0 | F26: 28.85
B27: 2 | E27: ='Vykdymo planas'!I$32+'Vykdymo planas'!I$80 -> 0 | F27: 28.85
B28: 3 | E28: ='Vykdymo planas'!J$32+'Vykdymo planas'!J$80 -> 0 | F28: 28.85
B29: 4 | E29: ='Vykdymo planas'!K$32+'Vykdymo planas'!K$80 -> 0 | F29: 28.85
B30: 5 | E30: ='Vykdymo planas'!L$32+'Vykdymo planas'!L$80 -> 0 | F30: 28.85
B31: 6 | E31: ='Vykdymo planas'!M$32+'Vykdymo planas'!M$80 -> 0 | F31: 28.85
B32: 7 | E32: ='Vykdymo planas'!N$32+'Vykdymo planas'!N$80 -> 0 | F32: 28.85
B33: 8 | E33: ='Vykdymo planas'!O$32+'Vykdymo planas'!O$80 -> 0 | F33: 28.85
B34: 9 | E34: ='Vykdymo planas'!P$32+'Vykdymo planas'!P$80 -> 0 | F34: 28.85
B35: 10 | E35: ='Vykdymo planas'!Q$32+'Vykdymo planas'!Q$80 -> 0 | F35: 28.85
B36: 11 | E36: ='Vykdymo planas'!R$32+'Vykdymo planas'!R$80 -> 0 | F36: 28.85
B37: 12 | E37: ='Vykdymo planas'!S$32+'Vykdymo planas'!S$80 -> 0 | F37: 28.85
B38: 13 | E38: ='Vykdymo planas'!T$32+'Vykdymo planas'!T$80 -> 0 | F38: 28.85
B39: 14 | E39: ='Vykdymo planas'!U$32+'Vykdymo planas'!U$80 -> 0 | F39: 28.85
B40: 15 | E40: ='Vykdymo planas'!V$32+'Vykdymo planas'!V$80 -> 0 | F40: 28.85
B41: 16 | E41: ='Vykdymo planas'!W$32+'Vykdymo planas'!W$80 -> 0 | F41: 28.85
B42: 17 | E42: ='Vykdymo planas'!X$32+'Vykdymo planas'!X$80 -> 0 | F42: 28.85
...

Sheet Užduotys
A2: Poveiklės pavadinimas | B2: Užduoties Nr. | C2: Užduoties pavadinimas | D2: TPL | E2: Užduoties aprašymas | F2: Užduoties rezultatas (bandymo protokolas, testavimo ataskaita, maketo brėžiniai, nuotraukos ir pan.)
A3: Moksliniai tyrimai (projekto vykdytojas)
A15: Moksliniai tyrimai (partneris 1)
A27: Moksliniai tyrimai (partneris 2)
A39: Eksperimentinė plėtra (projekto vykdytojas)
A51: Eksperimentinė plėtra (partneris 1)
A63: Eksperimentinė plėtra (partneris 2)

Sheet Vykdymo planas
A2: Poveiklės pavadinimas | B2: TPL | C2: Užduoties Nr. | D2: Užduoties pavadinimas | E2: Užduoties pradžia (projekto mėnuo) | F2: Užduoties pabaiga (projekto mėnuo) | G2: Užduočiai atlikti reikalingos paslaugos | H2: Projekto vykdytojo darbuotojai
D3: Užduoties pavadinimas | E3: Užduoties pradžia (projekto mėnuo) | F3: Užduoties pabaiga (projekto mėnuo) | H3: ='Darbuotojai ir paslaugos'!$C6 -> 0 | I3: ='Darbuotojai ir paslaugos'!$C7 -> 0 | J3: ='Darbuotojai ir paslaugos'!$C8 -> 0 | K3: ='Darbuotojai ir paslaugos'!$C9 -> 0 | L3: ='Darbuotojai ir paslaugos'!$C10 -> 0 | M3: ='Darbuotojai ir paslaugos'!$C11 -> 0 | N3: ='Darbuotojai ir paslaugos'!$C12 -> 0 | O3: ='Darbuotojai ir paslaugos'!$C13 -> 0 | P3: ='Darbuotojai ir paslaugos'!$C14 -> 0 | Q3: ='Darbuotojai ir paslaugos'!$C15 -> 0 | R3: ='Darbuotojai ir paslaugos'!$C16 -> 0 | S3: ='Darbuotojai ir paslaugos'!$C17 -> 0 | T3: ='Darbuotojai ir paslaugos'!$C18 -> 0 | U3: ='Darbuotojai ir paslaugos'!$C19 -> 0 | V3: ='Darbuotojai ir paslaugos'!$C20 -> 0 | W3: ='Darbuotojai ir paslaugos'!$C21 -> 0 | X3: ='Darbuotojai ir paslaugos'!$C22 -> 0 | Y3: ='Darbuotojai ir paslaugos'!$C23 -> 0 | Z3: ='Darbuotojai ir paslaugos'!$C24 -> 0 | AA3: ='Darbuotojai ir paslaugos'!$C25 -> 0
A4: Moksliniai tyrimai (projekto vykdytojas) | B4: =IF(C4>0,VLOOKUP(C4,Užduotys!B$3:D$14,3),"") | D4: =IF(C4>0,VLOOKUP(C4,Užduotys!B$3:D$14,2),"")
B5: =IF(C5>0,VLOOKUP(C5,Užduotys!B$3:D$14,3),"") | D5: =IF(C5>0,VLOOKUP(C5,Užduotys!B$3:D$14,2),"")
B6: =IF(C6>0,VLOOKUP(C6,Užduotys!B$3:D$14,3),"") | D6: =IF(C6>0,VLOOKUP(C6,Užduotys!B$3:D$14,2),"")
B7: =IF(C7>0,VLOOKUP(C7,Užduotys!B$3:D$14,3),"") | D7: =IF(C7>0,VLOOKUP(C7,Užduotys!B$3:D$14,2),"")
B8: =IF(C8>0,VLOOKUP(C8,Užduotys!B$3:D$14,3),"") | D8: =IF(C8>0,VLOOKUP(C8,Užduotys!B$3:D$14,2),"")
B9: =IF(C9>0,VLOOKUP(C9,Užduotys!B$3:D$14,3),"") | D9: =IF(C9>0,VLOOKUP(C9,Užduotys!B$3:D$14,2),"")
B10: =IF(C10>0,VLOOKUP(C10,Užduotys!B$3:D$14,3),"") | D10: =IF(C10>0,VLOOKUP(C10,Užduotys!B$3:D$14,2),"")
B11: =IF(C11>0,VLOOKUP(C11,Užduotys!B$3:D$14,3),"") | D11: =IF(C11>0,VLOOKUP(C11,Užduotys!B$3:D$14,2),"")
B12: =IF(C12>0,VLOOKUP(C12,Užduotys!B$3:D$14,3),"") | D12: =IF(C12>0,VLOOKUP(C12,Užduotys!B$3:D$14,2),"")
B13: =IF(C13>0,VLOOKUP(C13,Užduotys!B$3:D$14,3),"") | D13: =IF(C13>0,VLOOKUP(C13,Užduotys!B$3:D$14,2),"")
B14: =IF(C14>0,VLOOKUP(C14,Užduotys!B$3:D$14,3),"") | D14: =IF(C14>0,VLOOKUP(C14,Užduotys!B$3:D$14,2),"")
B15: =IF(C15>0,VLOOKUP(C15,Užduotys!B$3:D$14,3),"") | D15: =IF(C15>0,VLOOKUP(C15,Užduotys!B$3:D$14,2),"")
A16: Iš viso valandų poveiklėje: | H16: =SUM(H4:H15) -> 0 | I16: =SUM(I4:I15) -> 0 | J16: =SUM(J4:J15) -> 0 | K16: =SUM(K4:K15) -> 0 | L16: =SUM(L4:L15) -> 0 | M16: =SUM(M4:M15) -> 0 | N16: =SUM(N4:N15) -> 0 | O16: =SUM(O4:O15) -> 0 | ... AA16: =SUM(AA4:AA15) -> 0
A18: Poveiklės pavadinimas | B18: TPL | C18: Užduoties Nr. | D18: Užduoties pavadinimas | E18: Užduoties pradžia (projekto mėnuo) | F18: Užduoties pabaiga (projekto mėnuo) | G18: Užduočiai atlikti reikalingos paslaugos | H18: Partnerio Nr. 1 darbuotojai
D19: Užduoties pavadinimas | E19: Užduoties pradžia (projekto mėnuo) | F19: Užduoties pabaiga (projekto mėnuo) | H19: ='Darbuotojai ir paslaugos'!$C26 -> 0 | I19: ='Darbuotojai ir paslaugos'!$C27 -> 0 | J19: ='Darbuotojai ir paslaugos'!$C28 -> 0 | K19: ='Darbuotojai ir paslaugos'!$C29 -> 0 | L19: ='Darbuotojai ir paslaugos'!$C30 -> 0 | M19: ='Darbuotojai ir paslaugos'!$C31 -> 0 | N19: ='Darbuotojai ir paslaugos'!$C32 -> 0 | O19: ='Darbuotojai ir paslaugos'!$C33 -> 0 | P19: ='Darbuotojai ir paslaugos'!$C34 -> 0 | Q19: ='Darbuotojai ir paslaugos'!$C35 -> 0 | R19: ='Darbuotojai ir paslaugos'!$C36 -> 0 | S19: ='Darbuotojai ir paslaugos'!$C37 -> 0 | T19: ='Darbuotojai ir paslaugos'!$C38 -> 0 | U19: ='Darbuotojai ir paslaugos'!$C39 -> 0 | V19: ='Darbuotojai ir paslaugos'!$C40 -> 0 | W19: ='Darbuotojai ir paslaugos'!$C41 -> 0 | X19: ='Darbuotojai ir paslaugos'!$C42 -> 0 | Y19: ='Darbuotojai ir paslaugos'!$C43 -> 0 | Z19: ='Darbuotojai ir paslaugos'!$C44 -> 0 | AA19: ='Darbuotojai ir paslaugos'!$C45 -> 0
A20: =Užduotys!A15 -> Moksliniai tyrimai (partneris 1) | B20: =IF(C20>0,VLOOKUP(C20,Užduotys!B$15:D$26,3),"") | D20: =IF(C20>0,VLOOKUP(C20,Užduotys!B$15:D$26,2),"")
B21: =IF(C21>0,VLOOKUP(C21,Užduotys!B$15:D$26,3),"") | D21: =IF(C21>0,VLOOKUP(C21,Užduotys!B$15:D$26,2),"")
B22: =IF(C22>0,VLOOKUP(C22,Užduotys!B$15:D$26,3),"") | D22: =IF(C22>0,VLOOKUP(C22,Užduotys!B$15:D$26,2),"")
B23: =IF(C23>0,VLOOKUP(C23,Užduotys!B$15:D$26,3),"") | D23: =IF(C23>0,VLOOKUP(C23,Užduotys!B$15:D$26,2),"")
B24: =IF(C24>0,VLOOKUP(C24,Užduotys!B$15:D$26,3),"") | D24: =IF(C24>0,VLOOKUP(C24,Užduotys!B$15:D$26,2),"")
B25: =IF(C25>0,VLOOKUP(C25,Užduotys!B$15:D$26,3),"") | D25: =IF(C25>0,VLOOKUP(C25,Užduotys!B$15:D$26,2),"")
B26: =IF(C26>0,VLOOKUP(C26,Užduotys!B$15:D$26,3),"") | D26: =IF(C26>0,VLOOKUP(C26,Užduotys!B$15:D$26,2),"")
B27: =IF(C27>0,VLOOKUP(C27,Užduotys!B$15:D$26,3),"") | D27: =IF(C27>0,VLOOKUP(C27,Užduotys!B$15:D$26,2),"")
B28: =IF(C28>0,VLOOKUP(C28,Užduotys!B$15:D$26,3),"") | D28: =IF(C28>0,VLOOKUP(C28,Užduotys!B$15:D$26,2),"")
B29: =IF(C29>0,VLOOKUP(C29,Užduotys!B$15:D$26,3),"") | D29: =IF(C29>0,VLOOKUP(C29,Užduotys!B$15:D$26,2),"")
B30: =IF(C30>0,VLOOKUP(C30,Užduotys!B$15:D$26,3),"") | D30: =IF(C30>0,VLOOKUP(C30,Užduotys!B$15:D$26,2),"")
B31: =IF(C31>0,VLOOKUP(C31,Užduotys!B$15:D$26,3),"") | D31: =IF(C31>0,VLOOKUP(C31,Užduotys!B$15:D$26,2),"")
A32: Iš viso valandų poveiklėje: | H32: =SUM(H20:H31) -> 0 | I32: =SUM(I20:I31) -> 0 | J32: =SUM(J20:J31) -> 0 | K32: =SUM(K20:K31) -> 0 | L32: =SUM(L20:L31) -> 0 | M32: =SUM(M20:M31) -> 0 | N32: =SUM(N20:N31) -> 0 | O32: =SUM(O20:O31) -> 0 | ... AA32: =SUM(AA20:AA31) -> 0
A34: Poveiklės pavadinimas | B34: TPL | C34: Užduoties Nr. | D34: Užduoties pavadinimas | E34: Užduoties pradžia (projekto mėnuo) | F34: Užduoties pabaiga (projekto mėnuo) | G34: Užduočiai atlikti reikalingos paslaugos | H34: Partnerio Nr. 2 darbuotojai
D35: Užduoties pavadinimas | E35: Užduoties pradžia (projekto mėnuo) | F35: Užduoties pabaiga (projekto mėnuo) | H35: ='Darbuotojai ir paslaugos'!$C$46 -> 0 | I35: ='Darbuotojai ir paslaugos'!$C$47 -> 0 | J35: ='Darbuotojai ir paslaugos'!$C$48 -> 0 | K35: ='Darbuotojai ir paslaugos'!$C$49 -> 0 | L35: ='Darbuotojai ir paslaugos'!$C$50 -> 0 | M35: ='Darbuotojai ir paslaugos'!$C$51 -> 0 | N35: ='Darbuotojai ir paslaugos'!$C$52 -> 0 | O35: ='Darbuotojai ir paslaugos'!$C$53 -> 0 | P35: ='Darbuotojai ir paslaugos'!$C$54 -> 0 | Q35: ='Darbuotojai ir paslaugos'!$C$55 -> 0 | R35: ='Darbuotojai ir paslaugos'!$C$56 -> 0 | S35: ='Darbuotojai ir paslaugos'!$C$57 -> 0 | T35: ='Darbuotojai ir paslaugos'!$C$58 -> 0 | U35: ='Darbuotojai ir paslaugos'!$C$59 -> 0 | V35: ='Darbuotojai ir paslaugos'!$C$60 -> 0 | W35: ='Darbuotojai ir paslaugos'!$C$61 -> 0 | X35: ='Darbuotojai ir paslaugos'!$C$62 -> 0 | Y35: ='Darbuotojai ir paslaugos'!$C$63 -> 0 | Z35: ='Darbuotojai ir paslaugos'!$C$64 -> 0 | AA35: ='Darbuotojai ir paslaugos'!$C$65 -> 0
A36: =Užduotys!A27 -> Moksliniai tyrimai (partneris 2) | B36: =IF(C36>0,VLOOKUP(C36,Užduotys!B$27:D$38,3),"") | D36: =IF(C36>0,VLOOKUP(C36,Užduotys!B$27:D$38,2),"")
B37: =IF(C37>0,VLOOKUP(C37,Užduotys!B$27:D$38,3),"") | D37: =IF(C37>0,VLOOKUP(C37,Užduotys!B$27:D$38,2),"")
B38: =IF(C38>0,VLOOKUP(C38,Užduotys!B$27:D$38,3),"") | D38: =IF(C38>0,VLOOKUP(C38,Užduotys!B$27:D$38,2),"")
B39: =IF(C39>0,VLOOKUP(C39,Užduotys!B$27:D$38,3),"") | D39: =IF(C39>0,VLOOKUP(C39,Užduotys!B$27:D$38,2),"")
B40: =IF(C40>0,VLOOKUP(C40,Užduotys!B$27:D$38,3),"") | D40: =IF(C40>0,VLOOKUP(C40,Užduotys!B$27:D$38,2),"")
B41: =IF(C41>0,VLOOKUP(C41,Užduotys!B$27:D$38,3),"") | D41: =IF(C41>0,VLOOKUP(C41,Užduotys!B$27:D$38,2),"")
B42: =IF(C42>0,VLOOKUP(C42,Užduotys!B$27:D$38,3),"") | D42: =IF(C42>0,VLOOKUP(C42,Užduotys!B$27:D$38,2),"")
B43: =IF(C43>0,VLOOKUP(C43,Užduotys!B$27:D$38,3),"") | D43: =IF(C43>0,VLOOKUP(C43,Užduotys!B$27:D$38,2),"")
...

Sheet 1
C1: Poveiklės pavadinimas: | D1: Moksliniai tyrimai (projekto vykdytojas)
A2: Projekto vykdytojas, partneris: | D2: {='Darbuotojai ir paslaugos'!A6:A6} -> Projekto vykdytojo pavadinimas
C3: Finansavimo intensyvumas:
A5: Nr. | B5: Išlaidų pavadinimas | D5: Matavimo vnt. | E5: Kiekis | F5: Vieneto kaina be PVM, Eur | G5: Tinkamų finansuoti išlaidų suma be PVM, Eur | H5: Prašomas finansavimas, Eur | I5: Išlaidų pagrindimo dokumentų pavadinimas, data ir Nr., skaičiavimų paaiškinimas
B6: Iš viso tiesioginių išlaidų: | G6: =G7+G28+G64+G85+G96+G107+G133+G144 -> 0 | H6: =H7+H28+H64+H85+H96+H107+H133+H144 -> 0
A7: 1 | B7: Projektą vykdančio personalo darbo užmokestis ir išlaidos su darbo santykiais susijusiems darbdavio įsipareigojimams | G7: =SUM(G8:G27) -> 0 | H7: =SUM(H8:H27) -> 0
A8: 1.1 | C8: =IF(B8>0,VLOOKUP(B8,'Darbuotojai ir paslaugos'!C$6:F$65,2,FALSE),"") | D8: val. | E8: =IF(B8<>"",HLOOKUP(B8,'Vykdymo planas'!H$3:AA$16,14,FALSE),"") | F8: =IF(B8>0,ROUND(VLOOKUP(B8,'Darbuotojai ir paslaugos'!C$6:F$65,4,FALSE),2),0) -> 0 | G8: =IFERROR(ROUND(E8*F8,2),"0,00") -> 0,00 | H8: =ROUND(G8*$D$3,2) -> 0 | I8: Kad galėtumėte pasirinkti dartuotojus, pirmiausia užpildykite lapą „Darbuotojai ir paslaugos“
A9: 1.2 | C9: =IF(B9>0,VLOOKUP(B9,'Darbuotojai ir paslaugos'!C$6:F$65,2,FALSE),"") | D9: val. | E9: =IF(B9<>"",HLOOKUP(B9,'Vykdymo planas'!H$3:AA$16,14,FALSE),"") | F9: =IF(B9>0,ROUND(VLOOKUP(B9,'Darbuotojai ir paslaugos'!C$6:F$65,4,FALSE),2),0) -> 0 | G9: =IFERROR(ROUND(E9*F9,2),"0,00") -> 0,00 | H9: =ROUND(G9*$D$3,2) -> 0
A10: 1.3 | C10: =IF(B10>0,VLOOKUP(B10,'Darbuotojai ir paslaugos'!C$6:F$65,2,FALSE),"") | D10: val. | E10: =IF(B10<>"",HLOOKUP(B10,'Vykdymo planas'!H$3:AA$16,14,FALSE),"") | F10: =IF(B10>0,ROUND(VLOOKUP(B10,'Darbuotojai ir paslaugos'!C$6:F$65,4,FALSE),2),0) -> 0 | G10: =IFERROR(ROUND(E10*F10,2),"0,00") -> 0,00 | H10: =ROUND(G10*$D$3,2) -> 0
A11: 1.4 | C11: =IF(B11>0,VLOOKUP(B11,'Darbuotojai ir paslaugos'!C$6:F$65,2,FALSE),"") | D11: val. | E11: =IF(B11<>"",HLOOKUP(B11,'Vykdymo planas'!H$3:AA$16,14,FALSE),"") | F11: =IF(B11>0,ROUND(VLOOKUP(B11,'Darbuotojai ir paslaugos'!C$6:F$65,4,FALSE),2),0) -> 0 | G11: =IFERROR(ROUND(E11*F11,2),"0,00") -> 0,00 | H11: =ROUND(G11*$D$3,2) -> 0
A12: 1.5 | C12: =IF(B12>0,VLOOKUP(B12,'Darbuotojai ir paslaugos'!C$6:F$65,2,FALSE),"") | D12: val. | E12: =IF(B12<>"",HLOOKUP(B12,'Vykdymo planas'!H$3:AA$16,14,FALSE),"") | F12: =IF(B12>0,ROUND(VLOOKUP(B12,'Darbuotojai ir paslaugos'!C$6:F$65,4,FALSE),2),0) -> 0 | G12: =IFERROR(ROUND(E12*F12,2),"0,00") -> 0,00 | H12: =ROUND(G12*$D$3,2) -> 0
A13: 1.6 | C13: =IF(B13>0,VLOOKUP(B13,'Darbuotojai ir paslaugos'!C$6:F$65,2,FALSE),"") | D13: val. | E13: =IF(B13<>"",HLOOKUP(B13,'Vykdymo planas'!H$3:AA$16,14,FALSE),"") | F13: =IF(B13>0,ROUND(VLOOKUP(B13,'Darbuotojai ir paslaugos'!C$6:F$65,4,FALSE),2),0) -> 0 | G13: =IFERROR(ROUND(E13*F13,2),"0,00") -> 0,00 | H13: =ROUND(G13*$D$3,2) -> 0
A14: 1.7 | C14: =IF(B14>0,VLOOKUP(B14,'Darbuotojai ir paslaugos'!C$6:F$65,2,FALSE),"") | D14: val. | E14: =IF(B14<>"",HLOOKUP(B14,'Vykdymo planas'!H$3:AA$16,14,FALSE),"") | F14: =IF(B14>0,ROUND(VLOOKUP(B14,'Darbuotojai ir paslaugos'!C$6:F$65,4,FALSE),2),0) -> 0 | G14: =IFERROR(ROUND(E14*F14,2),"0,00") -> 0,00 | H14: =ROUND(G14*$D$3,2) -> 0
A15: 1.8 | C15: =IF(B15>0,VLOOKUP(B15,'Darbuotojai ir paslaugos'!C$6:F$65,2,FALSE),"") | D15: val. | E15: =IF(B15<>"",HLOOKUP(B15,'Vykdymo planas'!H$3:AA$16,14,FALSE),"") | F15: =IF(B15>0,ROUND(VLOOKUP(B15,'Darbuotojai ir paslaugos'!C$6:F$65,4,FALSE),2),0) -> 0 | G15: =IFERROR(ROUND(E15*F15,2),"0,00") -> 0,00 | H15: =ROUND(G15*$D$3,2) -> 0
A16: 1.9 | C16: =IF(B16>0,VLOOKUP(B16,'Darbuotojai ir paslaugos'!C$6:F$65,2,FALSE),"") | D16: val. | E16: =IF(B16<>"",HLOOKUP(B16,'Vykdymo planas'!H$3:AA$16,14,FALSE),"") | F16: =IF(B16>0,ROUND(VLOOKUP(B16,'Darbuotojai ir paslaugos'!C$6:F$65,4,FALSE),2),0) -> 0 | G16: =IFERROR(ROUND(E16*F16,2),"0,00") -> 0,00 | H16: =ROUND(G16*$D$3,2) -> 0
A17: 1.10 | C17: =IF(B17>0,VLOOKUP(B17,'Darbuotojai ir paslaugos'!C$6:F$65,2,FALSE),"") | D17: val. | E17: =IF(B17<>"",HLOOKUP(B17,'Vykdymo planas'!H$3:AA$16,14,FALSE),"") | F17: =IF(B17>0,ROUND(VLOOKUP(B17,'Darbuotojai ir paslaugos'!C$6:F$65,4,FALSE),2),0) -> 0 | G17: =IFERROR(ROUND(E17*F17,2),"0,00") -> 0,00 | H17: =ROUND(G17*$D$3,2) -> 0
A18: 1.11 | C18: =IF(B18>0,VLOOKUP(B18,'Darbuotojai ir paslaugos'!C$6:F$65,2,FALSE),"") | D18: val. | E18: =IF(B18<>"",HLOOKUP(B18,'Vykdymo planas'!H$3:AA$16,14,FALSE),"") | F18: =IF(B18>0,ROUND(VLOOKUP(B18,'Darbuotojai ir paslaugos'!C$6:F$65,4,FALSE),2),0) -> 0 | G18: =IFERROR(ROUND(E18*F18,2),"0,00") -> 0,00 | H18: =ROUND(G18*$D$3,2) -> 0
A19: 1.12 | C19: =IF(B19>0,VLOOKUP(B19,'Darbuotojai ir paslaugos'!C$6:F$65,2,FALSE),"") | D19: val. | E19: =IF(B19<>"",HLOOKUP(B19,'Vykdymo planas'!H$3:AA$16,14,FALSE),"") | F19: =IF(B19>0,ROUND(VLOOKUP(B19,'Darbuotojai ir paslaugos'!C$6:F$65,4,FALSE),2),0) -> 0 | G19: =IFERROR(ROUND(E19*F19,2),"0,00") -> 0,00 | H19: =ROUND(G19*$D$3,2) -> 0
A20: 1.13 | C20: =IF(B20>0,VLOOKUP(B20,'Darbuotojai ir paslaugos'!C$6:F$65,2,FALSE),"") | D20: val. | E20: =IF(B20<>"",HLOOKUP(B20,'Vykdymo planas'!H$3:AA$16,14,FALSE),"") | F20: =IF(B20>0,ROUND(VLOOKUP(B20,'Darbuotojai ir paslaugos'!C$6:F$65,4,FALSE),2),0) -> 0 | G20: =IFERROR(ROUND(E20*F20,2),"0,00") -> 0,00 | H20: =ROUND(G20*$D$3,2) -> 0
... A27: 1.20 | C27: =IF(B27>0,VLOOKUP(B27,'Darbuotojai ir paslaugos'!C$6:F$65,2,FALSE),"") | D27: val. | E27: =IF(B27<>"",HLOOKUP(B27,'Vykdymo planas'!H$3:AA$16,14,FALSE),"") | F27: =IF(B27>0,ROUND(VLOOKUP(B27,'Darbuotojai ir paslaugos'!C$6:F$65,4,FALSE),2),0) -> 0 | G27: =IFERROR(ROUND(E27*F27,2),"0,00") -> 0,00 | H27: =ROUND(G27*$D$3,2) -> 0
A28: 2 | B28: Projektą vykdančio personalo komandiruočių išlaidos | G28: =SUM(G29,G36,G43,G50,G57) -> 0 | H28: =SUM(H29,H36,H43,H50,H57) -> 0
A29: 2.1 | B29: Komandiruotės pavadinimas | C29: Iš viso komandiruotei | G29: =SUM(G30:G35) -> 0 | H29: =ROUND(G29*$D$3,2) -> 0 | I29: Komandiruotės šalis:
C30: Dienpinigiai | D30: dienos | E30: =J30 -> 0 | G30: =ROUND(E30*F30*J31,2) -> 0 | H30: =ROUND(G30*$D$3,2) -> 0 | I30: Komandiruotės trukmė: | K30: dienos
C31: Gyvenamojo ploto nuoma | D31: naktys | E31: =IF(E30>0,E30-1,0) -> 0 | G31: =ROUND(E31*F31*J31,2) -> 0 | H31: =ROUND(G31*$D$3,2) -> 0 | I31: Vykstančių asmenų skaičius: | K31: asmuo/asmenys
C32: Kelionės išlaidos | G32: =ROUND(E32*F32,2) -> 0 | H32: =ROUND(G32*$D$3,2) -> 0
C33: Dalyvavimo mokestis | G33: =ROUND(E33*F33,2) -> 0 | H33: =ROUND(G33*$D$3,2) -> 0
C34: Kitos išlaidų pavadinimas | G34: =ROUND(E34*F34,2) -> 0 | H34: =ROUND(G34*$D$3,2) -> 0
C35: Kitos išlaidų pavadinimas | G35: =ROUND(E35*F35,2) -> 0 | H35: =ROUND(G35*$D$3,2) -> 0
A36: 2.2 | B36: Komandiruotės pavadinimas | C36: Iš viso komandiruotei | G36: =SUM(G37:G42) -> 0 | H36: =ROUND(G36*$D$3,2) -> 0 | I36: Komandiruotės šalis:
C37: Dienpinigiai | D37: dienos | E37: =J37 -> 0 | G37: =ROUND(E37*F37*J38,2) -> 0 | H37: =ROUND(G37*$D$3,2) -> 0 | I37: Komandiruotės trukmė: | K37: dienos
C38: Gyvenamojo ploto nuoma | D38: naktys | E38: =IF(E37>0,E37-1,0) -> 0 | G38: =ROUND(E38*F38*J38,2) -> 0 | H38: =ROUND(G38*$D$3,2) -> 0 | I38: Vykstančių asmenų skaičius: | K38: asmuo/asmenys
C39: Kelionės išlaidos | G39: =ROUND(E39*F39,2) -> 0 | H39: =ROUND(G39*$D$3,2) -> 0
C40: Dalyvavimo mokestis | G40: =ROUND(E40*F40,2) -> 0 | H40: =ROUND(G40*$D$3,2) -> 0
C41: Kitos išlaidų pavadinimas | G41: =ROUND(E41*F41,2) -> 0 | H41: =ROUND(G41*$D$3,2) -> 0
C42: Kitos išlaidų pavadinimas | G42: =ROUND(E42*F42,2) -> 0 | H42: =ROUND(G42*$D$3,2) -> 0
A43: 2.3 | B43: Komandiruotės pavadinimas | C43: Iš viso komandiruotei | G43: =SUM(G44:G49) -> 0 | H43: =ROUND(G43*$D$3,2) -> 0 | I43: Komandiruotės šalis:
C44: Dienpinigiai | D44: dienos | E44: =J44 -> 0 | G44: =ROUND(E44*F44*J45,2) -> 0 | H44: =ROUND(G44*$D$3,2) -> 0 | I44: Komandiruotės trukmė: | K44: dienos
C45: Gyvenamojo ploto nuoma | D45: naktys | E45: =IF(E44>0,E44-1,0) -> 0 | G45: =ROUND(E45*F45*J45,2) -> 0 | H45: =ROUND(G45*$D$3,2) -> 0 | I45: Vykstančių asmenų skaičius: | K45: asmuo/asmenys
C46: Kelionės išlaidos | G46: =ROUND(E46*F46,2) -> 0 | H46: =ROUND(G46*$D$3,2) -> 0
C47: Dalyvavimo mokestis | G47: =ROUND(E47*F47,2) -> 0 | H47: =ROUND(G47*$D$3,2) -> 0
...

Sheet 2
C1: Poveiklės pavadinimas: | D1: Moksliniai tyrimai (partneris 1)
A2: Projekto vykdytojas, partneris: | D2: ='Darbuotojai ir paslaugos'!A26 -> Partnerio Nr. 1 pavadinimas
C3: Finansavimo intensyvumas:
A5: Nr. | B5: Išlaidų pavadinimas | D5: Matavimo vnt. | E5: Kiekis | F5: Vieneto kaina be PVM, Eur | G5: Tinkamų finansuoti išlaidų suma be PVM, Eur | H5: Prašomas finansavimas, Eur | I5: Išlaidų pagrindimo dokumentų pavadinimas, data ir Nr., skaičiavimų paaiškinimas
B6: Iš viso tiesioginių išlaidų: | G6: =G7+G28+G64+G85+G96+G107+G133+G144 -> 0 | H6: =H7+H28+H64+H85+H96+H107+H133+H144 -> 0
A7: 1 | B7: Projektą vykdančio personalo darbo užmokestis ir išlaidos su darbo santykiais susijusiems darbdavio įsipareigojimams | G7: =SUM(G8:G27) -> 0 | H7: =SUM(H8:H27) -> 0
A8: 1.1 | C8: =IF(B8>0,VLOOKUP(B8,'Darbuotojai ir paslaugos'!C$6:F$65,2,FALSE),"") | D8: val. | E8: =IF(B8<>"",HLOOKUP(B8,'Vykdymo planas'!H$19:AA$32,14,FALSE),"") | F8: =IF(B8>0,ROUND(VLOOKUP(B8,'Darbuotojai ir paslaugos'!C$6:F$65,4,FALSE),2),0) -> 0 | G8: =IFERROR(ROUND(E8*F8,2),"0,00") -> 0,00 | H8: =ROUND(G8*$D$3,2) -> 0 | I8: Kad galėtumėte pasirinkti dartuotojus, pirmiausia užpildykite lapą „Darbuotojai ir paslaugos“
A9: 1.2 | C9: =IF(B9>0,VLOOKUP(B9,'Darbuotojai ir paslaugos'!C$6:F$65,2,FALSE),"") | D9: val. | E9: =IF(B9<>"",HLOOKUP(B9,'Vykdymo planas'!H$19:AA$32,14,FALSE),"") | F9: =IF(B9>0,ROUND(VLOOKUP(B9,'Darbuotojai ir paslaugos'!C$6:F$65,4,FALSE),2),0) -> 0 | G9: =IFERROR(ROUND(E9*F9,2),"0,00") -> 0,00 | H9: =ROUND(G9*$D$3,2) -> 0
A10: 1.3 | C10: =IF(B10>0,VLOOKUP(B10,'Darbuotojai ir paslaugos'!C$6:F$65,2,FALSE),"") | D10: val. | E10: =IF(B10<>"",HLOOKUP(B10,'Vykdymo planas'!H$19:AA$32,14,FALSE),"") | F10: =IF(B10>0,ROUND(VLOOKUP(B10,'Darbuotojai ir paslaugos'!C$6:F$65,4,FALSE),2),0) -> 0 | G10: =IFERROR(ROUND(E10*F10,2),"0,00") -> 0,00 | H10: =ROUND(G10*$D$3,2) -> 0
A11: 1.4 | C11: =IF(B11>0,VLOOKUP(B11,'Darbuotojai ir paslaugos'!C$6:F$65,2,FALSE),"") | D11: val. | E11: =IF(B11<>"",HLOOKUP(B11,'Vykdymo planas'!H$19:AA$32,14,FALSE),"") | F11: =IF(B11>0,ROUND(VLOOKUP(B11,'Darbuotojai ir paslaugos'!C$6:F$65,4,FALSE),2),0) -> 0 | G11: =IFERROR(ROUND(E11*F11,2),"0,00") -> 0,00 | H11: =ROUND(G11*$D$3,2) -> 0
A12: 1.5 | C12: =IF(B12>0,VLOOKUP(B12,'Darbuotojai ir paslaugos'!C$6:F$65,2,FALSE),"") | D12: val. | E12: =IF(B12<>"",HLOOKUP(B12,'Vykdymo planas'!H$19:AA$32,14,FALSE),"") | F12: =IF(B12>0,ROUND(VLOOKUP(B12,'Darbuotojai ir paslaugos'!C$6:F$65,4,FALSE),2),0) -> 0 | G12: =IFERROR(ROUND(E12*F12,2),"0,00") -> 0,00 | H12: =ROUND(G12*$D$3,2) -> 0
A13: 1.6 | C13: =IF(B13>0,VLOOKUP(B13,'Darbuotojai ir paslaugos'!C$6:F$65,2,FALSE),"") | D13: val. | E13: =IF(B13<>"",HLOOKUP(B13,'Vykdymo planas'!H$19:AA$32,14,FALSE),"") | F13: =IF(B13>0,ROUND(VLOOKUP(B13,'Darbuotojai ir paslaugos'!C$6:F$65,4,FALSE),2),0) -> 0 | G13: =IFERROR(ROUND(E13*F13,2),"0,00") -> 0,00 | H13: =ROUND(G13*$D$3,2) -> 0
A14: 1.7 | C14: =IF(B14>0,VLOOKUP(B14,'Darbuotojai ir paslaugos'!C$6:F$65,2,FALSE),"") | D14: val. | E14: =IF(B14<>"",HLOOKUP(B14,'Vykdymo planas'!H$19:AA$32,14,FALSE),"") | F14: =IF(B14>0,ROUND(VLOOKUP(B14,'Darbuotojai ir paslaugos'!C$6:F$65,4,FALSE),2),0) -> 0 | G14: =IFERROR(ROUND(E14*F14,2),"0,00") -> 0,00 | H14: =ROUND(G14*$D$3,2) -> 0
A15: 1.8 | C15: =IF(B15>0,VLOOKUP(B15,'Darbuotojai ir paslaugos'!C$6:F$65,2,FALSE),"") | D15: val. | E15: =IF(B15<>"",HLOOKUP(B15,'Vykdymo planas'!H$19:AA$32,14,FALSE),"") | F15: =IF(B15>0,ROUND(VLOOKUP(B15,'Darbuotojai ir paslaugos'!C$6:F$65,4,FALSE),2),0) -> 0 | G15: =IFERROR(ROUND(E15*F15,2),"0,00") -> 0,00 | H15: =ROUND(G15*$D$3,2) -> 0
A16: 1.9 | C16: =IF(B16>0,VLOOKUP(B16,'Darbuotojai ir paslaugos'!C$6:F$65,2,FALSE),"") | D16: val. | E16: =IF(B16<>"",HLOOKUP(B16,'Vykdymo planas'!H$19:AA$32,14,FALSE),"") | F16: =IF(B16>0,ROUND(VLOOKUP(B16,'Darbuotojai ir paslaugos'!C$6:F$65,4,FALSE),2),0) -> 0 | G16: =IFERROR(ROUND(E16*F16,2),"0,00") -> 0,00 | H16: =ROUND(G16*$D$3,2) -> 0
A17: 1.10 | C17: =IF(B17>0,VLOOKUP(B17,'Darbuotojai ir paslaugos'!C$6:F$65,2,FALSE),"") | D17: val. | E17: =IF(B17<>"",HLOOKUP(B17,'Vykdymo planas'!H$19:AA$32,14,FALSE),"") | F17: =IF(B17>0,ROUND(VLOOKUP(B17,'Darbuotojai ir paslaugos'!C$6:F$65,4,FALSE),2),0) -> 0 | G17: =IFERROR(ROUND(E17*F17,2),"0,00") -> 0,00 | H17: =ROUND(G17*$D$3,2) -> 0
A18: 1.11 | C18: =IF(B18>0,VLOOKUP(B18,'Darbuotojai ir paslaugos'!C$6:F$65,2,FALSE),"") | D18: val. | E18: =IF(B18<>"",HLOOKUP(B18,'Vykdymo planas'!H$19:AA$32,14,FALSE),"") | F18: =IF(B18>0,ROUND(VLOOKUP(B18,'Darbuotojai ir paslaugos'!C$6:F$65,4,FALSE),2),0) -> 0 | G18: =IFERROR(ROUND(E18*F18,2),"0,00") -> 0,00 | H18: =ROUND(G18*$D$3,2) -> 0
A19: 1.12 | C19: =IF(B19>0,VLOOKUP(B19,'Darbuotojai ir paslaugos'!C$6:F$65,2,FALSE),"") | D19: val. | E19: =IF(B19<>"",HLOOKUP(B19,'Vykdymo planas'!H$19:AA$32,14,FALSE),"") | F19: =IF(B19>0,ROUND(VLOOKUP(B19,'Darbuotojai ir paslaugos'!C$6:F$65,4,FALSE),2),0) -> 0 | G19: =IFERROR(ROUND(E19*F19,2),"0,00") -> 0,00 | H19: =ROUND(G19*$D$3,2) -> 0
A20: 1.13 | C20: =IF(B20>0,VLOOKUP(B20,'Darbuotojai ir paslaugos'!C$6:F$65,2,FALSE),"") | D20: val. | E20: =IF(B20<>"",HLOOKUP(B20,'Vykdymo planas'!H$19:AA$32,14,FALSE),"") | F20: =IF(B20>0,ROUND(VLOOKUP(B20,'Darbuotojai ir paslaugos'!C$6:F$65,4,FALSE),2),0) -> 0 | G20: =IFERROR(ROUND(E20*F20,2),"0,00") -> 0,00 | H20: =ROUND(G20*$D$3,2) -> 0
... A27: 1.20 | C27: =IF(B27>0,VLOOKUP(B27,'Darbuotojai ir paslaugos'!C$6:F$65,2,FALSE),"") | D27: val. | E27: =IF(B27<>"",HLOOKUP(B27,'Vykdymo planas'!H$19:AA$32,14,FALSE),"") | F27: =IF(B27>0,ROUND(VLOOKUP(B27,'Darbuotojai ir paslaugos'!C$6:F$65,4,FALSE),2),0) -> 0 | G27: =IFERROR(ROUND(E27*F27,2),"0,00") -> 0,00 | H27: =ROUND(G27*$D$3,2) -> 0
A28: 2 | B28: Projektą vykdančio personalo komandiruočių išlaidos | G28: =SUM(G29,G36,G43,G50,G57) -> 0 | H28: =SUM(H29,H36,H43,H50,H57) -> 0
A29: 2.1 | B29: Komandiruotės pavadinimas | C29: Iš viso komandiruotei | G29: =SUM(G30:G35) -> 0 | H29: =ROUND(G29*$D$3,2) -> 0 | I29: Komandiruotės šalis:
C30: Dienpinigiai | D30: dienos | E30: =J30 -> 0 | G30: =ROUND(E30*F30*J31,2) -> 0 | H30: =ROUND(G30*$D$3,2) -> 0 | I30: Komandiruotės trukmė: | K30: dienos
C31: Gyvenamojo ploto nuoma | D31: naktys | E31: =IF(E30>0,E30-1,0) -> 0 | G31: =ROUND(E31*F31*J31,2) -> 0 | H31: =ROUND(G31*$D$3,2) -> 0 | I31: Vykstančių asmenų skaičius: | K31: asmuo/asmenys
C32: Kelionės išlaidos | G32: =ROUND(E32*F32,2) -> 0 | H32: =ROUND(G32*$D$3,2) -> 0
C33: Dalyvavimo mokestis | G33: =ROUND(E33*F33,2) -> 0 | H33: =ROUND(G33*$D$3,2) -> 0
C34: Kitos išlaidų pavadinimas | G34: =ROUND(E34*F34,2) -> 0 | H34: =ROUND(G34*$D$3,2) -> 0
C35: Kitos išlaidų pavadinimas | G35: =ROUND(E35*F35,2) -> 0 | H35: =ROUND(G35*$D$3,2) -> 0
A36: 2.2 | B36: Komandiruotės pavadinimas | C36: Iš viso komandiruotei | G36: =SUM(G37:G42) -> 0 | H36: =ROUND(G36*$D$3,2) -> 0 | I36: Komandiruotės šalis:
C37: Dienpinigiai | D37: dienos | E37: =J37 -> 0 | G37: =ROUND(E37*F37*J38,2) -> 0 | H37: =ROUND(G37*$D$3,2) -> 0 | I37: Komandiruotės trukmė: | K37: dienos
C38: Gyvenamojo ploto nuoma | D38: naktys | E38: =IF(E37>0,E37-1,0) -> 0 | G38: =ROUND(E38*F38*J38,2) -> 0 | H38: =ROUND(G38*$D$3,2) -> 0 | I38: Vykstančių asmenų skaičius: | K38: asmuo/asmenys
C39: Kelionės išlaidos | G39: =ROUND(E39*F39,2) -> 0 | H39: =ROUND(G39*$D$3,2) -> 0
C40: Dalyvavimo mokestis | G40: =ROUND(E40*F40,2) -> 0 | H40: =ROUND(G40*$D$3,2) -> 0
C41: Kitos išlaidų pavadinimas | G41: =ROUND(E41*F41,2) -> 0 | H41: =ROUND(G41*$D$3,2) -> 0
C42: Kitos išlaidų pavadinimas | G42: =ROUND(E42*F42,2) -> 0 | H42: =ROUND(G42*$D$3,2) -> 0
A43: 2.3 | B43: Komandiruotės pavadinimas | C43: Iš viso komandiruotei | G43: =SUM(G44:G49) -> 0 | H43: =ROUND(G43*$D$3,2) -> 0 | I43: Komandiruotės šalis:
C44: Dienpinigiai | D44: dienos | E44: =J44 -> 0 | G44: =ROUND(E44*F44*J45,2) -> 0 | H44: =ROUND(G44*$D$3,2) -> 0 | I44: Komandiruotės trukmė: | K44: dienos
C45: Gyvenamojo ploto nuoma | D45: naktys | E45: =IF(E44>0,E44-1,0) -> 0 | G45: =ROUND(E45*F45*J45,2) -> 0 | H45: =ROUND(G45*$D$3,2) -> 0 | I45: Vykstančių asmenų skaičius: | K45: asmuo/asmenys
C46: Kelionės išlaidos | G46: =ROUND(E46*F46,2) -> 0 | H46: =ROUND(G46*$D$3,2) -> 0
C47: Dalyvavimo mokestis | G47: =ROUND(E47*F47,2) -> 0 | H47: =ROUND(G47*$D$3,2) -> 0
...

Sheet 3
C1: Poveiklės pavadinimas: | D1: Moksliniai tyrimai (partneris 2)
A2: Projekto vykdytojas, partneris: | D2: ='Darbuotojai ir paslaugos'!A46 -> Partnerio Nr. 2 pavadinimas
C3: Finansavimo intensyvumas:
A5: Nr. | B5: Išlaidų pavadinimas | D5: Matavimo vnt. | E5: Kiekis | F5: Vieneto kaina be PVM, Eur | G5: Tinkamų finansuoti išlaidų suma be PVM, Eur | H5: Prašomas finansavimas, Eur | I5: Išlaidų pagrindimo dokumentų pavadinimas, data ir Nr., skaičiavimų paaiškinimas
B6: Iš viso tiesioginių išlaidų: | G6: =G7+G28+G64+G85+G96+G107+G133+G144 -> 0 | H6: =H7+H28+H64+H85+H96+H107+H133+H144 -> 0
A7: 1 | B7: Projektą vykdančio personalo darbo užmokestis ir išlaidos su darbo santykiais susijusiems darbdavio įsipareigojimams | G7: =SUM(G8:G27) -> 0 | H7: =SUM(H8:H27) -> 0
A8: 1.1 | C8: =IF(B8>0,VLOOKUP(B8,'Darbuotojai ir paslaugos'!C$6:F$65,2,FALSE),"") | D8: val. | E8: =IF(B8<>"",HLOOKUP(B8,'Vykdymo planas'!H$35:AA$48,14,FALSE),"") | F8: =IF(B8>0,ROUND(VLOOKUP(B8,'Darbuotojai ir paslaugos'!C$6:F$65,4,FALSE),2),0) -> 0 | G8: =IFERROR(ROUND(E8*F8,2),"0,00") -> 0,00 | H8: =ROUND(G8*$D$3,2) -> 0 | I8: Kad galėtumėte pasirinkti dartuotojus, pirmiausia užpildykite lapą „Darbuotojai ir paslaugos“
A9: 1.2 | C9: =IF(B9>0,VLOOKUP(B9,'Darbuotojai ir paslaugos'!C$6:F$65,2,FALSE),"") | D9: val. | E9: =IF(B9<>"",HLOOKUP(B9,'Vykdymo planas'!H$35:AA$48,14,FALSE),"") | F9: =IF(B9>0,ROUND(VLOOKUP(B9,'Darbuotojai ir paslaugos'!C$6:F$65,4,FALSE),2),0) -> 0 | G9: =IFERROR(ROUND(E9*F9,2),"0,00") -> 0,00 | H9: =ROUND(G9*$D$3,2) -> 0
A10: 1.3 | C10: =IF(B10>0,VLOOKUP(B10,'Darbuotojai ir paslaugos'!C$6:F$65,2,FALSE),"") | D10: val. | E10: =IF(B10<>"",HLOOKUP(B10,'Vykdymo planas'!H$35:AA$48,14,FALSE),"") | F10: =IF(B10>0,ROUND(VLOOKUP(B10,'Darbuotojai ir paslaugos'!C$6:F$65,4,FALSE),2),0) -> 0 | G10: =IFERROR(ROUND(E10*F10,2),"0,00") -> 0,00 | H10: =ROUND(G10*$D$3,2) -> 0
A11: 1.4 | C11: =IF(B11>0,VLOOKUP(B11,'Darbuotojai ir paslaugos'!C$6:F$65,2,FALSE),"") | D11: val. | E11: =IF(B11<>"",HLOOKUP(B11,'Vykdymo planas'!H$35:AA$48,14,FALSE),"") | F11: =IF(B11>0,ROUND(VLOOKUP(B11,'Darbuotojai ir paslaugos'!C$6:F$65,4,FALSE),2),0) -> 0 | G11: =IFERROR(ROUND(E11*F11,2),"0,00") -> 0,00 | H11: =ROUND(G11*$D$3,2) -> 0
A12: 1.5 | C12: =IF(B12>0,VLOOKUP(B12,'Darbuotojai ir paslaugos'!C$6:F$65,2,FALSE),"") | D12: val. | E12: =IF(B12<>"",HLOOKUP(B12,'Vykdymo planas'!H$35:AA$48,14,FALSE),"") | F12: =IF(B12>0,ROUND(VLOOKUP(B12,'Darbuotojai ir paslaugos'!C$6:F$65,4,FALSE),2),0) -> 0 | G12: =IFERROR(ROUND(E12*F12,2),"0,00") -> 0,00 | H12: =ROUND(G12*$D$3,2) -> 0
A13: 1.6 | C13: =IF(B13>0,VLOOKUP(B13,'Darbuotojai ir paslaugos'!C$6:F$65,2,FALSE),"") | D13: val. | E13: =IF(B13<>"",HLOOKUP(B13,'Vykdymo planas'!H$35:AA$48,14,FALSE),"") | F13: =IF(B13>0,ROUND(VLOOKUP(B13,'Darbuotojai ir paslaugos'!C$6:F$65,4,FALSE),2),0) -> 0 | G13: =IFERROR(ROUND(E13*F13,2),"0,00") -> 0,00 | H13: =ROUND(G13*$D$3,2) -> 0
A14: 1.7 | C14: =IF(B14>0,VLOOKUP(B14,'Darbuotojai ir paslaugos'!C$6:F$65,2,FALSE),"") | D14: val. | E14: =IF(B14<>"",HLOOKUP(B14,'Vykdymo planas'!H$35:AA$48,14,FALSE),"") | F14: =IF(B14>0,ROUND(VLOOKUP(B14,'Darbuotojai ir paslaugos'!C$6:F$65,4,FALSE),2),0) -> 0 | G14: =IFERROR(ROUND(E14*F14,2),"0,00") -> 0,00 | H14: =ROUND(G14*$D$3,2) -> 0
A15: 1.8 | C15: =IF(B15>0,VLOOKUP(B15,'Darbuotojai ir paslaugos'!C$6:F$65,2,FALSE),"") | D15: val. | E15: =IF(B15<>"",HLOOKUP(B15,'Vykdymo planas'!H$35:AA$48,14,FALSE),"") | F15: =IF(B15>0,ROUND(VLOOKUP(B15,'Darbuotojai ir paslaugos'!C$6:F$65,4,FALSE),2),0) -> 0 | G15: =IFERROR(ROUND(E15*F15,2),"0,00") -> 0,00 | H15: =ROUND(G15*$D$3,2) -> 0
A16: 1.9 | C16: =IF(B16>0,VLOOKUP(B16,'Darbuotojai ir paslaugos'!C$6:F$65,2,FALSE),"") | D16: val. | E16: =IF(B16<>"",HLOOKUP(B16,'Vykdymo planas'!H$35:AA$48,14,FALSE),"") | F16: =IF(B16>0,ROUND(VLOOKUP(B16,'Darbuotojai ir paslaugos'!C$6:F$65,4,FALSE),2),0) -> 0 | G16: =IFERROR(ROUND(E16*F16,2),"0,00") -> 0,00 | H16: =ROUND(G16*$D$3,2) -> 0
A17: 1.10 | C17: =IF(B17>0,VLOOKUP(B17,'Darbuotojai ir paslaugos'!C$6:F$65,2,FALSE),"") | D17: val. | E17: =IF(B17<>"",HLOOKUP(B17,'Vykdymo planas'!H$35:AA$48,14,FALSE),"") | F17: =IF(B17>0,ROUND(VLOOKUP(B17,'Darbuotojai ir paslaugos'!C$6:F$65,4,FALSE),2),0) -> 0 | G17: =IFERROR(ROUND(E17*F17,2),"0,00") -> 0,00 | H17: =ROUND(G17*$D$3,2) -> 0
A18: 1.11 | C18: =IF(B18>0,VLOOKUP(B18,'Darbuotojai ir paslaugos'!C$6:F$65,2,FALSE),"") | D18: val. | E18: =IF(B18<>"",HLOOKUP(B18,'Vykdymo planas'!H$35:AA$48,14,FALSE),"") | F18: =IF(B18>0,ROUND(VLOOKUP(B18,'Darbuotojai ir paslaugos'!C$6:F$65,4,FALSE),2),0) -> 0 | G18: =IFERROR(ROUND(E18*F18,2),"0,00") -> 0,00 | H18: =ROUND(G18*$D$3,2) -> 0
A19: 1.12 | C19: =IF(B19>0,VLOOKUP(B19,'Darbuotojai ir paslaugos'!C$6:F$65,2,FALSE),"") | D19: val. | E19: =IF(B19<>"",HLOOKUP(B19,'Vykdymo planas'!H$35:AA$48,14,FALSE),"") | F19: =IF(B19>0,ROUND(VLOOKUP(B19,'Darbuotojai ir paslaugos'!C$6:F$65,4,FALSE),2),0) -> 0 | G19: =IFERROR(ROUND(E19*F19,2),"0,00") -> 0,00 | H19: =ROUND(G19*$D$3,2) -> 0
A20: 1.13 | C20: =IF(B20>0,VLOOKUP(B20,'Darbuotojai ir paslaugos'!C$6:F$65,2,FALSE),"") | D20: val. | E20: =IF(B20<>"",HLOOKUP(B20,'Vykdymo planas'!H$35:AA$48,14,FALSE),"") | F20: =IF(B20>0,ROUND(VLOOKUP(B20,'Darbuotojai ir paslaugos'!C$6:F$65,4,FALSE),2),0) -> 0 | G20: =IFERROR(ROUND(E20*F20,2),"0,00") -> 0,00 | H20: =ROUND(G20*$D$3,2) -> 0
... A27: 1.20 | C27: =IF(B27>0,VLOOKUP(B27,'Darbuotojai ir paslaugos'!C$6:F$65,2,FALSE),"") | D27: val. | E27: =IF(B27<>"",HLOOKUP(B27,'Vykdymo planas'!H$35:AA$48,14,FALSE),"") | F27: =IF(B27>0,ROUND(VLOOKUP(B27,'Darbuotojai ir paslaugos'!C$6:F$65,4,FALSE),2),0) -> 0 | G27: =IFERROR(ROUND(E27*F27,2),"0,00") -> 0,00 | H27: =ROUND(G27*$D$3,2) -> 0
A28: 2 | B28: Projektą vykdančio personalo komandiruočių išlaidos | G28: =SUM(G29,G36,G43,G50,G57) -> 0 | H28: =SUM(H29,H36,H43,H50,H57) -> 0
A29: 2.1 | B29: Komandiruotės pavadinimas | C29: Iš viso komandiruotei | G29: =SUM(G30:G35) -> 0 | H29: =ROUND(G29*$D$3,2) -> 0 | I29: Komandiruotės šalis:
C30: Dienpinigiai | D30: dienos | E30: =J30 -> 0 | G30: =ROUND(E30*F30*J31,2) -> 0 | H30: =ROUND(G30*$D$3,2) -> 0 | I30: Komandiruotės trukmė: | K30: dienos
C31: Gyvenamojo ploto nuoma | D31: naktys | E31: =IF(E30>0,E30-1,0) -> 0 | G31: =ROUND(E31*F31*J31,2) -> 0 | H31: =ROUND(G31*$D$3,2) -> 0 | I31: Vykstančių asmenų skaičius: | K31: asmuo/asmenys
C32: Kelionės išlaidos | G32: =ROUND(E32*F32,2) -> 0 | H32: =ROUND(G32*$D$3,2) -> 0
C33: Dalyvavimo mokestis | G33: =ROUND(E33*F33,2) -> 0 | H33: =ROUND(G33*$D$3,2) -> 0
C34: Kitos išlaidų pavadinimas | G34: =ROUND(E34*F34,2) -> 0 | H34: =ROUND(G34*$D$3,2) -> 0
C35: Kitos išlaidų pavadinimas | G35: =ROUND(E35*F35,2) -> 0 | H35: =ROUND(G35*$D$3,2) -> 0
A36: 2.2 | B36: Komandiruotės pavadinimas | C36: Iš viso komandiruotei | G36: =SUM(G37:G42) -> 0 | H36: =ROUND(G36*$D$3,2) -> 0 | I36: Komandiruotės šalis:
C37: Dienpinigiai | D37: dienos | E37: =J37 -> 0 | G37: =ROUND(E37*F37*J38,2) -> 0 | H37: =ROUND(G37*$D$3,2) -> 0 | I37: Komandiruotės trukmė: | K37: dienos
C38: Gyvenamojo ploto nuoma | D38: naktys | E38: =IF(E37>0,E37-1,0) -> 0 | G38: =ROUND(E38*F38*J38,2) -> 0 | H38: =ROUND(G38*$D$3,2) -> 0 | I38: Vykstančių asmenų skaičius: | K38: asmuo/asmenys
C39: Kelionės išlaidos | G39: =ROUND(E39*F39,2) -> 0 | H39: =ROUND(G39*$D$3,2) -> 0
C40: Dalyvavimo mokestis | G40: =ROUND(E40*F40,2) -> 0 | H40: =ROUND(G40*$D$3,2) -> 0
C41: Kitos išlaidų pavadinimas | G41: =ROUND(E41*F41,2) -> 0 | H41: =ROUND(G41*$D$3,2) -> 0
C42: Kitos išlaidų pavadinimas | G42: =ROUND(E42*F42,2) -> 0 | H42: =ROUND(G42*$D$3,2) -> 0
A43: 2.3 | B43: Komandiruotės pavadinimas | C43: Iš viso komandiruotei | G43: =SUM(G44:G49) -> 0 | H43: =ROUND(G43*$D$3,2) -> 0 | I43: Komandiruotės šalis:
C44: Dienpinigiai | D44: dienos | E44: =J44 -> 0 | G44: =ROUND(E44*F44*J45,2) -> 0 | H44: =ROUND(G44*$D$3,2) -> 0 | I44: Komandiruotės trukmė: | K44: dienos
C45: Gyvenamojo ploto nuoma | D45: naktys | E45: =IF(E44>0,E44-1,0) -> 0 | G45: =ROUND(E45*F45*J45,2) -> 0 | H45: =ROUND(G45*$D$3,2) -> 0 | I45: Vykstančių asmenų skaičius: | K45: asmuo/asmenys
C46: Kelionės išlaidos | G46: =ROUND(E46*F46,2) -> 0 | H46: =ROUND(G46*$D$3,2) -> 0
C47: Dalyvavimo mokestis | G47: =ROUND(E47*F47,2) -> 0 | H47: =ROUND(G47*$D$3,2) -> 0
...

Sheet 4
C1: Poveiklės pavadinimas: | D1: Eksperimentinė plėtra (projekto vykdytojas)
A2: Projekto vykdytojas, partneris: | D2: {='Darbuotojai ir paslaugos'!A6:A6} -> Projekto vykdytojo pavadinimas
C3: Finansavimo intensyvumas:
A5: Nr. | B5: Išlaidų pavadinimas | D5: Matavimo vnt. | E5: Kiekis | F5: Vieneto kaina be PVM, Eur | G5: Tinkamų finansuoti išlaidų suma be PVM, Eur | H5: Prašomas finansavimas, Eur | I5: Išlaidų pagrindimo dokumentų pavadinimas, data ir Nr., skaičiavimų paaiškinimas
B6: Iš viso tiesioginių išlaidų: | G6: =G7+G28+G64+G85+G96+G107+G133+G144 -> 0 | H6: =H7+H28+H64+H85+H96+H107+H133+H144 -> 0
A7: 1 | B7: Projektą vykdančio personalo darbo užmokestis ir išlaidos su darbo santykiais susijusiems darbdavio įsipareigojimams | G7: =SUM(G8:G27) -> 0 | H7: =SUM(H8:H27) -> 0
A8: 1.1 | C8: =IF(B8>0,VLOOKUP(B8,'Darbuotojai ir paslaugos'!C$6:F$65,2,FALSE),"") | D8: val. | E8: =IF(B8<>"",HLOOKUP(B8,'Vykdymo planas'!H$51:AA$64,14,FALSE),"") | F8: =IF(B8>0,ROUND(VLOOKUP(B8,'Darbuotojai ir paslaugos'!C$6:F$65,4,FALSE),2),0) -> 0 | G8: =IFERROR(ROUND(E8*F8,2),"0,00") -> 0,00 | H8: =ROUND(G8*$D$3,2) -> 0 | I8: Kad galėtumėte pasirinkti dartuotojus, pirmiausia užpildykite lapą „Darbuotojai ir paslaugos“
A9: 1.2 | C9: =IF(B9>0,VLOOKUP(B9,'Darbuotojai ir paslaugos'!C$6:F$65,2,FALSE),"") | D9: val. | E9: =IF(B9<>"",HLOOKUP(B9,'Vykdymo planas'!H$51:AA$64,14,FALSE),"") | F9: =IF(B9>0,ROUND(VLOOKUP(B9,'Darbuotojai ir paslaugos'!C$6:F$65,4,FALSE),2),0) -> 0 | G9: =IFERROR(ROUND(E9*F9,2),"0,00") -> 0,00 | H9: =ROUND(G9*$D$3,2) -> 0
A10: 1.3 | C10: =IF(B10>0,VLOOKUP(B10,'Darbuotojai ir paslaugos'!C$6:F$65,2,FALSE),"") | D10: val. | E10: =IF(B10<>"",HLOOKUP(B10,'Vykdymo planas'!H$51:AA$64,14,FALSE),"") | F10: =IF(B10>0,ROUND(VLOOKUP(B10,'Darbuotojai ir paslaugos'!C$6:F$65,4,FALSE),2),0) -> 0 | G10: =IFERROR(ROUND(E10*F10,2),"0,00") -> 0,00 | H10: =ROUND(G10*$D$3,2) -> 0
A11: 1.4 | C11: =IF(B11>0,VLOOKUP(B11,'Darbuotojai ir paslaugos'!C$6:F$65,2,FALSE),"") | D11: val. | E11: =IF(B11<>"",HLOOKUP(B11,'Vykdymo planas'!H$51:AA$64,14,FALSE),"") | F11: =IF(B11>0,ROUND(VLOOKUP(B11,'Darbuotojai ir paslaugos'!C$6:F$65,4,FALSE),2),0) -> 0 | G11: =IFERROR(ROUND(E11*F11,2),"0,00") -> 0,00 | H11: =ROUND(G11*$D$3,2) -> 0
A12: 1.5 | C12: =IF(B12>0,VLOOKUP(B12,'Darbuotojai ir paslaugos'!C$6:F$65,2,FALSE),"") | D12: val. | E12: =IF(B12<>"",HLOOKUP(B12,'Vykdymo planas'!H$51:AA$64,14,FALSE),"") | F12: =IF(B12>0,ROUND(VLOOKUP(B12,'Darbuotojai ir paslaugos'!C$6:F$65,4,FALSE),2),0) -> 0 | G12: =IFERROR(ROUND(E12*F12,2),"0,00") -> 0,00 | H12: =ROUND(G12*$D$3,2) -> 0
A13: 1.6 | C13: =IF(B13>0,VLOOKUP(B13,'Darbuotojai ir paslaugos'!C$6:F$65,2,FALSE),"") | D13: val. | E13: =IF(B13<>"",HLOOKUP(B13,'Vykdymo planas'!H$51:AA$64,14,FALSE),"") | F13: =IF(B13>0,ROUND(VLOOKUP(B13,'Darbuotojai ir paslaugos'!C$6:F$65,4,FALSE),2),0) -> 0 | G13: =IFERROR(ROUND(E13*F13,2),"0,00") -> 0,00 | H13: =ROUND(G13*$D$3,2) -> 0
A14: 1.7 | C14: =IF(B14>0,VLOOKUP(B14,'Darbuotojai ir paslaugos'!C$6:F$65,2,FALSE),"") | D14: val. | E14: =IF(B14<>"",HLOOKUP(B14,'Vykdymo planas'!H$51:AA$64,14,FALSE),"") | F14: =IF(B14>0,ROUND(VLOOKUP(B14,'Darbuotojai ir paslaugos'!C$6:F$65,4,FALSE),2),0) -> 0 | G14: =IFERROR(ROUND(E14*F14,2),"0,00") -> 0,00 | H14: =ROUND(G14*$D$3,2) -> 0
A15: 1.8 | C15: =IF(B15>0,VLOOKUP(B15,'Darbuotojai ir paslaugos'!C$6:F$65,2,FALSE),"") | D15: val. | E15: =IF(B15<>"",HLOOKUP(B15,'Vykdymo planas'!H$51:AA$64,14,FALSE),"") | F15: =IF(B15>0,ROUND(VLOOKUP(B15,'Darbuotojai ir paslaugos'!C$6:F$65,4,FALSE),2),0) -> 0 | G15: =IFERROR(ROUND(E15*F15,2),"0,00") -> 0,00 | H15: =ROUND(G15*$D$3,2) -> 0
A16: 1.9 | C16: =IF(B16>0,VLOOKUP(B16,'Darbuotojai ir paslaugos'!C$6:F$65,2,FALSE),"") | D16: val. | E16: =IF(B16<>"",HLOOKUP(B16,'Vykdymo planas'!H$51:AA$64,14,FALSE),"") | F16: =IF(B16>0,ROUND(VLOOKUP(B16,'Darbuotojai ir paslaugos'!C$6:F$65,4,FALSE),2),0) -> 0 | G16: =IFERROR(ROUND(E16*F16,2),"0,00") -> 0,00 | H16: =ROUND(G16*$D$3,2) -> 0
A17: 1.10 | C17: =IF(B17>0,VLOOKUP(B17,'Darbuotojai ir paslaugos'!C$6:F$65,2,FALSE),"") | D17: val. | E17: =IF(B17<>"",HLOOKUP(B17,'Vykdymo planas'!H$51:AA$64,14,FALSE),"") | F17: =IF(B17>0,ROUND(VLOOKUP(B17,'Darbuotojai ir paslaugos'!C$6:F$65,4,FALSE),2),0) -> 0 | G17: =IFERROR(ROUND(E17*F17,2),"0,00") -> 0,00 | H17: =ROUND(G17*$D$3,2) -> 0
A18: 1.11 | C18: =IF(B18>0,VLOOKUP(B18,'Darbuotojai ir paslaugos'!C$6:F$65,2,FALSE),"") | D18: val. | E18: =IF(B18<>"",HLOOKUP(B18,'Vykdymo planas'!H$51:AA$64,14,FALSE),"") | F18: =IF(B18>0,ROUND(VLOOKUP(B18,'Darbuotojai ir paslaugos'!C$6:F$65,4,FALSE),2),0) -> 0 | G18: =IFERROR(ROUND(E18*F18,2),"0,00") -> 0,00 | H18: =ROUND(G18*$D$3,2) -> 0
A19: 1.12 | C19: =IF(B19>0,VLOOKUP(B19,'Darbuotojai ir paslaugos'!C$6:F$65,2,FALSE),"") | D19: val. | E19: =IF(B19<>"",HLOOKUP(B19,'Vykdymo planas'!H$51:AA$64,14,FALSE),"") | F19: =IF(B19>0,ROUND(VLOOKUP(B19,'Darbuotojai ir paslaugos'!C$6:F$65,4,FALSE),2),0) -> 0 | G19: =IFERROR(ROUND(E19*F19,2),"0,00") -> 0,00 | H19: =ROUND(G19*$D$3,2) -> 0
A20: 1.13 | C20: =IF(B20>0,VLOOKUP(B20,'Darbuotojai ir paslaugos'!C$6:F$65,2,FALSE),"") | D20: val. | E20: =IF(B20<>"",HLOOKUP(B20,'Vykdymo planas'!H$51:AA$64,14,FALSE),"") | F20: =IF(B20>0,ROUND(VLOOKUP(B20,'Darbuotojai ir paslaugos'!C$6:F$65,4,FALSE),2),0) -> 0 | G20: =IFERROR(ROUND(E20*F20,2),"0,00") -> 0,00 | H20: =ROUND(G20*$D$3,2) -> 0
... A27: 1.20 | C27: =IF(B27>0,VLOOKUP(B27,'Darbuotojai ir paslaugos'!C$6:F$65,2,FALSE),"") | D27: val. | E27: =IF(B27<>"",HLOOKUP(B27,'Vykdymo planas'!H$51:AA$64,14,FALSE),"") | F27: =IF(B27>0,ROUND(VLOOKUP(B27,'Darbuotojai ir paslaugos'!C$6:F$65,4,FALSE),2),0) -> 0 | G27: =IFERROR(ROUND(E27*F27,2),"0,00") -> 0,00 | H27: =ROUND(G27*$D$3,2) -> 0
A28: 2 | B28: Projektą vykdančio personalo komandiruočių išlaidos | G28: =SUM(G29,G36,G43,G50,G57) -> 0 | H28: =SUM(H29,H36,H43,H50,H57) -> 0
A29: 2.1 | B29: Komandiruotės pavadinimas | C29: Iš viso komandiruotei | G29: =SUM(G30:G35) -> 0 | H29: =ROUND(G29*$D$3,2) -> 0 | I29: Komandiruotės šalis:
C30: Dienpinigiai | D30: dienos | E30: =J30 -> 0 | G30: =ROUND(E30*F30*J31,2) -> 0 | H30: =ROUND(G30*$D$3,2) -> 0 | I30: Komandiruotės trukmė: | K30: dienos
C31: Gyvenamojo ploto nuoma | D31: naktys | E31: =IF(E30>0,E30-1,0) -> 0 | G31: =ROUND(E31*F31*J31,2) -> 0 | H31: =ROUND(G31*$D$3,2) -> 0 | I31: Vykstančių asmenų skaičius: | K31: asmuo/asmenys
C32: Kelionės išlaidos | G32: =ROUND(E32*F32,2) -> 0 | H32: =ROUND(G32*$D$3,2) -> 0
C33: Dalyvavimo mokestis | G33: =ROUND(E33*F33,2) -> 0 | H33: =ROUND(G33*$D$3,2) -> 0
C34: Kitos išlaidų pavadinimas | G34: =ROUND(E34*F34,2) -> 0 | H34: =ROUND(G34*$D$3,2) -> 0
C35: Kitos išlaidų pavadinimas | G35: =ROUND(E35*F35,2) -> 0 | H35: =ROUND(G35*$D$3,2) -> 0
A36: 2.2 | B36: Komandiruotės pavadinimas | C36: Iš viso komandiruotei | G36: =SUM(G37:G42) -> 0 | H36: =ROUND(G36*$D$3,2) -> 0 | I36: Komandiruotės šalis:
C37: Dienpinigiai | D37: dienos | E37: =J37 -> 0 | G37: =ROUND(E37*F37*J38,2) -> 0 | H37: =ROUND(G37*$D$3,2) -> 0 | I37: Komandiruotės trukmė: | K37: dienos
C38: Gyvenamojo ploto nuoma | D38: naktys | E38: =IF(E37>0,E37-1,0) -> 0 | G38: =ROUND(E38*F38*J38,2) -> 0 | H38: =ROUND(G38*$D$3,2) -> 0 | I38: Vykstančių asmenų skaičius: | K38: asmuo/asmenys
C39: Kelionės išlaidos | G39: =ROUND(E39*F39,2) -> 0 | H39: =ROUND(G39*$D$3,2) -> 0
C40: Dalyvavimo mokestis | G40: =ROUND(E40*F40,2) -> 0 | H40: =ROUND(G40*$D$3,2) -> 0
C41: Kitos išlaidų pavadinimas | G41: =ROUND(E41*F41,2) -> 0 | H41: =ROUND(G41*$D$3,2) -> 0
C42: Kitos išlaidų pavadinimas | G42: =ROUND(E42*F42,2) -> 0 | H42: =ROUND(G42*$D$3,2) -> 0
A43: 2.3 | B43: Komandiruotės pavadinimas | C43: Iš viso komandiruotei | G43: =SUM(G44:G49) -> 0 | H43: =ROUND(G43*$D$3,2) -> 0 | I43: Komandiruotės šalis:
C44: Dienpinigiai | D44: dienos | E44: =J44 -> 0 | G44: =ROUND(E44*F44*J45,2) -> 0 | H44: =ROUND(G44*$D$3,2) -> 0 | I44: Komandiruotės trukmė: | K44: dienos
C45: Gyvenamojo ploto nuoma | D45: naktys | E45: =IF(E44>0,E44-1,0) -> 0 | G45: =ROUND(E45*F45*J45,2) -> 0 | H45: =ROUND(G45*$D$3,2) -> 0 | I45: Vykstančių asmenų skaičius: | K45: asmuo/asmenys
C46: Kelionės išlaidos | G46: =ROUND(E46*F46,2) -> 0 | H46: =ROUND(G46*$D$3,2) -> 0
C47: Dalyvavimo mokestis | G47: =ROUND(E47*F47,2) -> 0 | H47: =ROUND(G47*$D$3,2) -> 0
...

Sheet 5
C1: Poveiklės pavadinimas: | D1: Eksperimentinė plėtra (partneris 1)
A2: Projekto vykdytojas, partneris: | D2: ='Darbuotojai ir paslaugos'!A26 -> Partnerio Nr. 1 pavadinimas
C3: Finansavimo intensyvumas:
A5: Nr. | B5: Išlaidų pavadinimas | D5: Matavimo vnt. | E5: Kiekis | F5: Vieneto kaina be PVM, Eur | G5: Tinkamų finansuoti išlaidų suma be PVM, Eur | H5: Prašomas finansavimas, Eur | I5: Išlaidų pagrindimo dokumentų pavadinimas, data ir Nr., skaičiavimų paaiškinimas
B6: Iš viso tiesioginių išlaidų: | G6: =G7+G28+G64+G85+G96+G107+G133+G144 -> 0 | H6: =H7+H28+H64+H85+H96+H107+H133+H144 -> 0
A7: 1 | B7: Projektą vykdančio personalo darbo užmokestis ir išlaidos su darbo santykiais susijusiems darbdavio įsipareigojimams | G7: =SUM(G8:G27) -> 0 | H7: =SUM(H8:H27) -> 0
A8: 1.1 | C8: =IF(B8>0,VLOOKUP(B8,'Darbuotojai ir paslaugos'!C$6:F$65,2,FALSE),"") | D8: val. | E8: =IF(B8<>"",HLOOKUP(B8,'Vykdymo planas'!H$67:AA$80,14,FALSE),"") | F8: =IF(B8>0,ROUND(VLOOKUP(B8,'Darbuotojai ir paslaugos'!C$6:F$65,4,FALSE),2),0) -> 0 | G8: =IFERROR(ROUND(E8*F8,2),"0,00") -> 0,00 | H8: =ROUND(G8*$D$3,2) -> 0 | I8: Kad galėtumėte pasirinkti dartuotojus, pirmiausia užpildykite lapą „Darbuotojai ir paslaugos“
A9: 1.2 | C9: =IF(B9>0,VLOOKUP(B9,'Darbuotojai ir paslaugos'!C$6:F$65,2,FALSE),"") | D9: val. | E9: =IF(B9<>"",HLOOKUP(B9,'Vykdymo planas'!H$67:AA$80,14,FALSE),"") | F9: =IF(B9>0,ROUND(VLOOKUP(B9,'Darbuotojai ir paslaugos'!C$6:F$65,4,FALSE),2),0) -> 0 | G9: =IFERROR(ROUND(E9*F9,2),"0,00") -> 0,00 | H9: =ROUND(G9*$D$3,2) -> 0
A10: 1.3 | C10: =IF(B10>0,VLOOKUP(B10,'Darbuotojai ir paslaugos'!C$6:F$65,2,FALSE),"") | D10: val. | E10: =IF(B10<>"",HLOOKUP(B10,'Vykdymo planas'!H$67:AA$80,14,FALSE),"") | F10: =IF(B10>0,ROUND(VLOOKUP(B10,'Darbuotojai ir paslaugos'!C$6:F$65,4,FALSE),2),0) -> 0 | G10: =IFERROR(ROUND(E10*F10,2),"0,00") -> 0,00 | H10: =ROUND(G10*$D$3,2) -> 0
A11: 1.4 | C11: =IF(B11>0,VLOOKUP(B11,'Darbuotojai ir paslaugos'!C$6:F$65,2,FALSE),"") | D11: val. | E11: =IF(B11<>"",HLOOKUP(B11,'Vykdymo planas'!H$67:AA$80,14,FALSE),"") | F11: =IF(B11>0,ROUND(VLOOKUP(B11,'Darbuotojai ir paslaugos'!C$6:F$65,4,FALSE),2),0) -> 0 | G11: =IFERROR(ROUND(E11*F11,2),"0,00") -> 0,00 | H11: =ROUND(G11*$D$3,2) -> 0
A12: 1.5 | C12: =IF(B12>0,VLOOKUP(B12,'Darbuotojai ir paslaugos'!C$6:F$65,2,FALSE),"") | D12: val. | E12: =IF(B12<>"",HLOOKUP(B12,'Vykdymo planas'!H$67:AA$80,14,FALSE),"") | F12: =IF(B12>0,ROUND(VLOOKUP(B12,'Darbuotojai ir paslaugos'!C$6:F$65,4,FALSE),2),0) -> 0 | G12: =IFERROR(ROUND(E12*F12,2),"0,00") -> 0,00 | H12: =ROUND(G12*$D$3,2) -> 0
A13: 1.6 | C13: =IF(B13>0,VLOOKUP(B13,'Darbuotojai ir paslaugos'!C$6:F$65,2,FALSE),"") | D13: val. | E13: =IF(B13<>"",HLOOKUP(B13,'Vykdymo planas'!H$67:AA$80,14,FALSE),"") | F13: =IF(B13>0,ROUND(VLOOKUP(B13,'Darbuotojai ir paslaugos'!C$6:F$65,4,FALSE),2),0) -> 0 | G13: =IFERROR(ROUND(E13*F13,2),"0,00") -> 0,00 | H13: =ROUND(G13*$D$3,2) -> 0
A14: 1.7 | C14: =IF(B14>0,VLOOKUP(B14,'Darbuotojai ir paslaugos'!C$6:F$65,2,FALSE),"") | D14: val. | E14: =IF(B14<>"",HLOOKUP(B14,'Vykdymo planas'!H$67:AA$80,14,FALSE),"") | F14: =IF(B14>0,ROUND(VLOOKUP(B14,'Darbuotojai ir paslaugos'!C$6:F$65,4,FALSE),2),0) -> 0 | G14: =IFERROR(ROUND(E14*F14,2),"0,00") -> 0,00 | H14: =ROUND(G14*$D$3,2) -> 0
A15: 1.8 | C15: =IF(B15>0,VLOOKUP(B15,'Darbuotojai ir paslaugos'!C$6:F$65,2,FALSE),"") | D15: val. | E15: =IF(B15<>"",HLOOKUP(B15,'Vykdymo planas'!H$67:AA$80,14,FALSE),"") | F15: =IF(B15>0,ROUND(VLOOKUP(B15,'Darbuotojai ir paslaugos'!C$6:F$65,4,FALSE),2),0) -> 0 | G15: =IFERROR(ROUND(E15*F15,2),"0,00") -> 0,00 | H15: =ROUND(G15*$D$3,2) -> 0
A16: 1.9 | C16: =IF(B16>0,VLOOKUP(B16,'Darbuotojai ir paslaugos'!C$6:F$65,2,FALSE),"") | D16: val. | E16: =IF(B16<>"",HLOOKUP(B16,'Vykdymo planas'!H$67:AA$80,14,FALSE),"") | F16: =IF(B16>0,ROUND(VLOOKUP(B16,'Darbuotojai ir paslaugos'!C$6:F$65,4,FALSE),2),0) -> 0 | G16: =IFERROR(ROUND(E16*F16,2),"0,00") -> 0,00 | H16: =ROUND(G16*$D$3,2) -> 0
A17: 1.10 | C17: =IF(B17>0,VLOOKUP(B17,'Darbuotojai ir paslaugos'!C$6:F$65,2,FALSE),"") | D17: val. | E17: =IF(B17<>"",HLOOKUP(B17,'Vykdymo planas'!H$67:AA$80,14,FALSE),"") | F17: =IF(B17>0,ROUND(VLOOKUP(B17,'Darbuotojai ir paslaugos'!C$6:F$65,4,FALSE),2),0) -> 0 | G17: =IFERROR(ROUND(E17*F17,2),"0,00") -> 0,00 | H17: =ROUND(G17*$D$3,2) -> 0
A18: 1.11 | C18: =IF(B18>0,VLOOKUP(B18,'Darbuotojai ir paslaugos'!C$6:F$65,2,FALSE),"") | D18: val. | E18: =IF(B18<>"",HLOOKUP(B18,'Vykdymo planas'!H$67:AA$80,14,FALSE),"") | F18: =IF(B18>0,ROUND(VLOOKUP(B18,'Darbuotojai ir paslaugos'!C$6:F$65,4,FALSE),2),0) -> 0 | G18: =IFERROR(ROUND(E18*F18,2),"0,00") -> 0,00 | H18: =ROUND(G18*$D$3,2) -> 0
A19: 1.12 | C19: =IF(B19>0,VLOOKUP(B19,'Darbuotojai ir paslaugos'!C$6:F$65,2,FALSE),"") | D19: val. | E19: =IF(B19<>"",HLOOKUP(B19,'Vykdymo planas'!H$67:AA$80,14,FALSE),"") | F19: =IF(B19>0,ROUND(VLOOKUP(B19,'Darbuotojai ir paslaugos'!C$6:F$65,4,FALSE),2),0) -> 0 | G19: =IFERROR(ROUND(E19*F19,2),"0,00") -> 0,00 | H19: =ROUND(G19*$D$3,2) -> 0
A20: 1.13 | C20: =IF(B20>0,VLOOKUP(B20,'Darbuotojai ir paslaugos'!C$6:F$65,2,FALSE),"") | D20: val. | E20: =IF(B20<>"",HLOOKUP(B20,'Vykdymo planas'!H$67:AA$80,14,FALSE),"") | F20: =IF(B20>0,ROUND(VLOOKUP(B20,'Darbuotojai ir paslaugos'!C$6:F$65,4,FALSE),2),0) -> 0 | G20: =IFERROR(ROUND(E20*F20,2),"0,00") -> 0,00 | H20: =ROUND(G20*$D$3,2) -> 0
... A27: 1.20 | C27: =IF(B27>0,VLOOKUP(B27,'Darbuotojai ir paslaugos'!C$6:F$65,2,FALSE),"") | D27: val. | E27: =IF(B27<>"",HLOOKUP(B27,'Vykdymo planas'!H$67:AA$80,14,FALSE),"") | F27: =IF(B27>0,ROUND(VLOOKUP(B27,'Darbuotojai ir paslaugos'!C$6:F$65,4,FALSE),2),0) -> 0 | G27: =IFERROR(ROUND(E27*F27,2),"0,00") -> 0,00 | H27: =ROUND(G27*$D$3,2) -> 0
A28: 2 | B28: Projektą vykdančio personalo komandiruočių išlaidos | G28: =SUM(G29,G36,G43,G50,G57) -> 0 | H28: =SUM(H29,H36,H43,H50,H57) -> 0
A29: 2.1 | B29: Komandiruotės pavadinimas | C29: Iš viso komandiruotei | G29: =SUM(G30:G35) -> 0 | H29: =ROUND(G29*$D$3,2) -> 0 | I29: Komandiruotės šalis:
C30: Dienpinigiai | D30: dienos | E30: =J30 -> 0 | G30: =ROUND(E30*F30*J31,2) -> 0 | H30: =ROUND(G30*$D$3,2) -> 0 | I30: Komandiruotės trukmė: | K30: dienos
C31: Gyvenamojo ploto nuoma | D31: naktys | E31: =IF(E30>0,E30-1,0) -> 0 | G31: =ROUND(E31*F31*J31,2) -> 0 | H31: =ROUND(G31*$D$3,2) -> 0 | I31: Vykstančių asmenų skaičius: | K31: asmuo/asmenys
C32: Kelionės išlaidos | G32: =ROUND(E32*F32,2) -> 0 | H32: =ROUND(G32*$D$3,2) -> 0
C33: Dalyvavimo mokestis | G33: =ROUND(E33*F33,2) -> 0 | H33: =ROUND(G33*$D$3,2) -> 0
C34: Kitos išlaidų pavadinimas | G34: =ROUND(E34*F34,2) -> 0 | H34: =ROUND(G34*$D$3,2) -> 0
C35: Kitos išlaidų pavadinimas | G35: =ROUND(E35*F35,2) -> 0 | H35: =ROUND(G35*$D$3,2) -> 0
A36: 2.2 | B36: Komandiruotės pavadinimas | C36: Iš viso komandiruotei | G36: =SUM(G37:G42) -> 0 | H36: =ROUND(G36*$D$3,2) -> 0 | I36: Komandiruotės šalis:
C37: Dienpinigiai | D37: dienos | E37: =J37 -> 0 | G37: =ROUND(E37*F37*J38,2) -> 0 | H37: =ROUND(G37*$D$3,2) -> 0 | I37: Komandiruotės trukmė: | K37: dienos
C38: Gyvenamojo ploto nuoma | D38: naktys | E38: =IF(E37>0,E37-1,0) -> 0 | G38: =ROUND(E38*F38*J38,2) -> 0 | H38: =ROUND(G38*$D$3,2) -> 0 | I38: Vykstančių asmenų skaičius: | K38: asmuo/asmenys
C39: Kelionės išlaidos | G39: =ROUND(E39*F39,2) -> 0 | H39: =ROUND(G39*$D$3,2) -> 0
C40: Dalyvavimo mokestis | G40: =ROUND(E40*F40,2) -> 0 | H40: =ROUND(G40*$D$3,2) -> 0
C41: Kitos išlaidų pavadinimas | G41: =ROUND(E41*F41,2) -> 0 | H41: =ROUND(G41*$D$3,2) -> 0
C42: Kitos išlaidų pavadinimas | G42: =ROUND(E42*F42,2) -> 0 | H42: =ROUND(G42*$D$3,2) -> 0
A43: 2.3 | B43: Komandiruotės pavadinimas | C43: Iš viso komandiruotei | G43: =SUM(G44:G49) -> 0 | H43: =ROUND(G43*$D$3,2) -> 0 | I43: Komandiruotės šalis:
C44: Dienpinigiai | D44: dienos | E44: =J44 -> 0 | G44: =ROUND(E44*F44*J45,2) -> 0 | H44: =ROUND(G44*$D$3,2) -> 0 | I44: Komandiruotės trukmė: | K44: dienos
C45: Gyvenamojo ploto nuoma | D45: naktys | E45: =IF(E44>0,E44-1,0) -> 0 | G45: =ROUND(E45*F45*J45,2) -> 0 | H45: =ROUND(G45*$D$3,2) -> 0 | I45: Vykstančių asmenų skaičius: | K45: asmuo/asmenys
C46: Kelionės išlaidos | G46: =ROUND(E46*F46,2) -> 0 | H46: =ROUND(G46*$D$3,2) -> 0
C47: Dalyvavimo mokestis | G47: =ROUND(E47*F47,2) -> 0 | H47: =ROUND(G47*$D$3,2) -> 0
...

Sheet 6
C1: Poveiklės pavadinimas: | D1: Eksperimentinė plėtra (partneris 2)
A2: Projekto vykdytojas, partneris: | D2: ='Darbuotojai ir paslaugos'!A46 -> Partnerio Nr. 2 pavadinimas
C3: Finansavimo intensyvumas:
A5: Nr. | B5: Išlaidų pavadinimas | D5: Matavimo vnt. | E5: Kiekis | F5: Vieneto kaina be PVM, Eur | G5: Tinkamų finansuoti išlaidų suma be PVM, Eur | H5: Prašomas finansavimas, Eur | I5: Išlaidų pagrindimo dokumentų pavadinimas, data ir Nr., skaičiavimų paaiškinimas
B6: Iš viso tiesioginių išlaidų: | G6: =G7+G28+G64+G85+G96+G107+G133+G144 -> 0 | H6: =H7+H28+H64+H85+H96+H107+H133+H144 -> 0
A7: 1 | B7: Projektą vykdančio personalo darbo užmokestis ir išlaidos su darbo santykiais susijusiems darbdavio įsipareigojimams | G7: =SUM(G8:G27) -> 0 | H7: =SUM(H8:H27) -> 0
