Workbook
Name Pareiškėjas: 'Darbuotojai ir paslaugos'!$C$6:$C$25
Name Partneris1: 'Darbuotojai ir paslaugos'!$C$26:$C$45

Sheet Suvestinė
A1: Pildyti tik žaliai pažymėtus langelius
A3: 1 lentelė: MTEP veiklų išlaidos pagal poveikles
A4: Nr. | B4: Poveiklės pavadinimas | C4: Tiesioginių išlaidų suma, Eur | D4: Netiesioginių išlaidų suma, Eur | E4: Tinkamų finansuoti išlaidų suma, Eur | F4: Prašomas finansavimas, Eur
A5: 1 | B5: ='1'!D$1 -> Moksliniai tyrimai (projekto vykdytojas) | C5: ='1'!$G$6 -> 0 | D5: ='1'!$G$152 -> 0 | E5: ='1'!$G$154 -> 0 | F5: ='1'!$H$154 -> 0
A6: 2 | B6: ='2'!D$1 -> Moksliniai tyrimai (partneris 1) | C6: ='2'!$G$6 -> 0 | D6: ='2'!$G$152 -> 0 | E6: ='2'!$G$154 -> 0 | F6: ='2'!$H$154 -> 0
A7: 3 | B7: ='3'!D$1 -> Moksliniai tyrimai (partneris 2) | C7: ='3'!$G$6 -> 0 | D7: ='3'!$G$152 -> 0 | E7: ='3'!$G$154 -> 0 | F7: ='3'!$H$154 -> 0
A8: 4 | B8: ='4'!D$1 -> Eksperimentinė plėtra (projekto vykdytojas) | C8: ='4'!$G$6 -> 0 | D8: ='4'!$G$152 -> 0 | E8: ='4'!$G$154 -> 0 | F8: ='4'!$H$154 -> 0
A9: 5 | B9: ='5'!D$1 -> Eksperimentinė plėtra (partneris 1) | C9: ='5'!$G$6 -> 0 | D9: ='5'!$G$152 -> 0 | E9: ='5'!$G$154 -> 0 | F9: ='5'!$H$154 -> 0
A10: 6 | B10: ='6'!D$1 -> Eksperimentinė plėtra (partneris 2) | C10: ='6'!$G$6 -> 0 | D10: ='6'!$G$152 -> 0 | E10: ='6'!$G$154 -> 0 | F10: ='6'!$H$154 -> 0
A11: Iš viso: | C11: =SUM(C5:C10) -> 0 | D11: =SUM(D5:D10) -> 0 | E11: =SUM(E5:E10) -> 0 | F11: =SUM(F5:F10) -> 0
A13: 2 lentelė: MTEP veiklų išlaidos pagal PFSA 11.5 papunktį
A14: Nr. | B14: Išlaidų pavadinimas | C14: Tiesioginių išlaidų suma, Eur | D14: Prašomas finansavimas, Eur
A15: 1 | B15: ='1'!B7 -> Projektą vykdančio personalo darbo užmokestis ir išlaidos su darbo santykiais susijusiems darbdavio įsipareigojimams | C15: ='1'!G7+'2'!G7+'3'!G7+'4'!G7+'5'!G7+'6'!G7 -> 0 | D15: ='1'!H7+'2'!H7+'3'!H7+'4'!H7+'5'!H7+'6'!H7 -> 0
A16: 2 | B16: ='1'!B28 -> Projektą vykdančio personalo komandiruočių išlaidos | C16: ='1'!G28+'2'!G28+'3'!G28+'4'!G28+'5'!G28+'6'!G28 -> 0 | D16: ='1'!H28+'2'!H28+'3'!H28+'4'!H28+'5'!H28+'6'!H28 -> 0
A17: 3 | B17: ='1'!B64 -> Nusidėvėjimo išlaidos priemonėms ir įrenginiams | C17: ='1'!G64+'2'!G64+'3'!G64+'4'!G64+'5'!G64+'6'!G64 -> 0 | D17: ='1'!H64+'2'!H64+'3'!H64+'4'!H64+'5'!H64+'6'!H64 -> 0
A18: 4 | B18: ='1'!B85 -> Išlaidos pagal sutartis vykdomiems moksliniams tyrimams, žinioms ir patentams | C18: ='1'!G85+'2'!G85+'3'!G85+'4'!G85+'5'!G85+'6'!G85 -> 0 | D18: ='1'!H85+'2'!H85+'3'!H85+'4'!H85+'5'!H85+'6'!H85 -> 0
A19: 5 | B19: ='1'!B96 -> Konsultavimo ir lygiaverčių paslaugų, naudojamų vien projektui, išlaidos | C19: ='1'!G96+'2'!G96+'3'!G96+'4'!G96+'5'!G96+'6'!G96 -> 0 | D19: ='1'!H96+'2'!H96+'3'!H96+'4'!H96+'5'!H96+'6'!H96 -> 0
A20: 6 | B20: ='1'!B107 -> Medžiagos, mažavertis inventorius, atsargos ir pan. produktai, priskirtini trumpalaikiam turtui ir tiesiogiai susiję su MTEP veikla | C20: ='1'!G107+'2'!G107+'3'!G107+'4'!G107+'5'!G107+'6'!G107 -> 0 | D20: ='1'!H107+'2'!H107+'3'!H107+'4'!H107+'5'!H107+'6'!H107 -> 0
A21: 7 | B21: ='1'!B133 -> Įrangos (išskyrus įsigytą iš ES fondų ar kitų ES finansinių priemonių lėšų) nuomos išlaidos, veiklai priskirtos pro rata principu | C21: ='1'!G133+'2'!G133+'3'!G133+'4'!G133+'5'!G133+'6'!G133 -> 0 | D21: ='1'!H133+'2'!H133+'3'!H133+'4'!H133+'5'!H133+'6'!H133 -> 0
A22: 8 | B22: ='1'!B144 -> Projektui įgyvendinti būtinų pastatų arba patalpų nuomos išlaidos | C22: ='1'!G144+'2'!G144+'3'!G144+'4'!G144+'5'!G144+'6'!G144 -> 0 | D22: ='1'!H144+'2'!H144+'3'!H144+'4'!H144+'5'!H144+'6'!H144 -> 0
A23: Iš viso TIESIOGINIŲ išlaidų: | C23: =SUM(C15:C22) -> 0 | D23: =SUM(D15:D22) -> 0
B25: Pasirinkite netiesioginių išlaidų normą (0 proc. arba 7 proc.) | D25: =IF(C25>7%,"DĖMESIO! Neteisioginių išlaidų norma negali viršyti 7 proc.","")
A27: 9 | B27: NETIESIOGINĖS išlaidos pagal fiksuotąją projekto išlaidų normą | C27: ='1'!G152+'2'!G152+'3'!G152+'4'!G152+'5'!G152+'6'!G152 -> 0 | D27: ='1'!H152+'2'!H152+'3'!H152+'4'!H152+'5'!H152+'6'!H152 -> 0
A29: Tinkamų finansuoti išlaidų suma: | C29: =SUM(C23,C27) -> 0 | D29: =SUM(D23,D27) -> 0 | E29: =IF(D29<100000,"DĖMESIO, finansavimo suma negali būti mažesnė nei 100.000,00 Eur","") -> DĖMESIO, finansavimo suma negali būti mažesnė nei 100.000,00 Eur
E30: =IF(D29>1500000,"DĖMESIO, finansavimo suma negali būti didesnė nei 1.500.000,00 Eur","")
A31: 3 išlaidų eilutės suma ir procentinė dalis | C31: =C17 -> 0 | D31: =IFERROR(C31/C29, "0%") -> 0% | E31: =IF(C31>(C29*0.5),"DĖMESIO! Patikrinkite, ar biudžeto eilutės Nr. 3 suma neviršija 50 proc. pagal PFSA 11.5.3 p. numatytų tinkamų finansuoti išlaidų.","")
A32: 4 ir 5 išlaidų eilučių suma ir procentinė dalis | C32: =C18+C19 -> 0 | D32: =IFERROR(C32/C29, "0%") -> 0% | E32: =IF(C32>(C29*0.5),"DĖMESIO, patikrinkite, ar biudžeto eilučių Nr. 4 ir 5 suma neviršija 50 proc. pagal PFSA 11.5.4 p. numatytų tinkamų finansuoti išlaidų.","")
A33: 8 išlaidų eilutės suma ir procentinė dalis | C33: =C22 -> 0 | D33: =IFERROR(C33/C29, "0%") -> 0% | E33: =IF(C33>(C29*0.1),"DĖMESIO! Patikrinkite, ar biudžeto eilutės Nr. 8 suma neviršija 10 proc. pagal PFSA 11.5.7 p. numatytų tinkamų finansuoti išlaidų.","")
A35: 3 lentelė: MTEP veiklų išlaidų paskirstymas pagal pareiškėją ir partnerį(-ius)
A36: Nr. | B36: Pareiškėjo / partnerio (-ių) išlaidos, Eur | C36: Tinkamų finansuoti išlaidų suma | D36: Prašomas finansavimas, Eur
A37: 1 | B37: ='Darbuotojai ir paslaugos'!A6 -> Projekto vykdytojo pavadinimas | C37: =E5+E8 -> 0 | D37: =F5+F8 -> 0
B38: Procentinė tinkamų finansuoti išlaidų dalis, proc. | C38: =IFERROR(C37/C44, "0%") -> 0%
A39: 2 | B39: ='Darbuotojai ir paslaugos'!A26 -> Partnerio Nr. 1 pavadinimas | C39: =E6+E9 -> 0 | D39: =F6+F9 -> 0
B40: Procentinė tinkamų finansuoti išlaidų dalis, proc. | C40: =IFERROR(C39/C44, "0%") -> 0%
A41: 3 | B41: ='Darbuotojai ir paslaugos'!A46 -> Partnerio Nr. 2 pavadinimas | C41: =E7+E10 -> 0 | D41: =F7+F10 -> 0
B42: Procentinė tinkamų finansuoti išlaidų dalis, proc. | C42: =IFERROR(C41/C44, "0%") -> 0%
B43: Iš viso, proc. | C43: =C38+C40+C42 -> 0
A44: Iš viso, Eur: | C44: =C37+C39+C41 -> 0 | D44: =D37+D39+D41 -> 0

Sheet Darbuotojai ir paslaugos
A2: INFORMACIJA APIE PRISKAITYTĄ IR IŠMOKĖTĄ DARBO UŽMOKESTĮ
A4: Žemiau esančioje lentelėje įrašykite pareiškėjo ir partnerio(-ių) esamus ar paluojamus įdarbinti darbuotojus, kurie vykdys projektą.
B5: Nr. | C5: Vardas, pavardė | D5: Pareigos | E5: Bendras valandų skaičius projekte | F5: Darbo užmokesčio valandinis įkainis, Eur/val.
A6: Projekto vykdytojo pavadinimas | B6: 1 | E6: ='Vykdymo planas'!H$16+'Vykdymo planas'!H$64 -> 0 | F6: 28.85
B7: 2 | E7: ='Vykdymo planas'!I$16+'Vykdymo planas'!I$64 -> 0 | F7: 28.85
B8: 3 | E8: ='Vykdymo planas'!J$16+'Vykdymo planas'!J$64 -> 0 | F8: 28.85
B9: 4 | E9: ='Vykdymo planas'!K$16+'Vykdymo planas'!K$64 -> 0 | F9: 28.85
B10: 5 | E10: ='Vykdymo planas'!L$16+'Vykdymo planas'!L$64 -> 0 | F10: 28.85
B11: 6 | E11: ='Vykdymo planas'!M$16+'Vykdymo planas'!M$64 -> 0 | F11: 28.85
B12: 7 | E12: ='Vykdymo planas'!N$16+'Vykdymo planas'!N$64 -> 0 | F12: 28.85
B13: 8 | E13: ='Vykdymo planas'!O$16+'Vykdymo planas'!O$64 -> 0 | F13: 28.85
B14: 9 | E14: ='Vykdymo planas'!P$16+'Vykdymo planas'!P$64 -> 0 | F14: 28.85
B15: 10 | E15: ='Vykdymo planas'!Q$16+'Vykdymo planas'!Q$64 -> 0 | F15: 28.85
B16: 11 | E16: ='Vykdymo planas'!R$16+'Vykdymo planas'!R$64 -> 0 | F16: 28.85
B17: 12 | E17: ='Vykdymo planas'!S$16+'Vykdymo planas'!S$64 -> 0 | F17: 28.85
B18: 13 | E18: ='Vykdymo planas'!T$16+'Vykdymo planas'!T$64 -> 0 | F18: 28.85
B19: 14 | E19: ='Vykdymo planas'!U$16+'Vykdymo planas'!U$64 -> 0 | F19: 28.85
B20: 15 | E20: ='Vykdymo planas'!V$16+'Vykdymo planas'!V$64 -> 0 | F20: 28.85
B21: 16 | E21: ='Vykdymo planas'!W$16+'Vykdymo planas'!W$64 -> 0 | F21: 28.85
B22: 17 | E22: ='Vykdymo planas'!X$16+'Vykdymo planas'!X$64 -> 0 | F22: 28.85
B23: 18 | E23: ='Vykdymo planas'!Y$16+'Vykdymo planas'!Y$64 -> 0 | F23: 28.85
B24: 19 | E24: ='Vykdymo planas'!Z$16+'Vykdymo planas'!Z$64 -> 0 | F24: 28.85
B25: 20 | E25: ='Vykdymo planas'!AA$16+'Vykdymo planas'!AA$64 -> 0 | F25: 28.85
A26: Partnerio Nr. 1 pavadinimas | B26: 1 | E26: ='Vykdymo planas'!H$32+'Vykdymo planas'!H$80 -> 0 | F26: 28.85
B27: 2 | E27: ='Vykdymo planas'!I$32+'Vykdymo planas'!I$80 -> 0 | F27: 28.85
B28: 3 | E28: ='Vykdymo planas'!J$32+'Vykdymo planas'!J$80 -> 0 | F28: 28.85
B29: 4 | E29: ='Vykdymo planas'!K$32+'Vykdymo planas'!K$80 -> 0 | F29: 28.85
B30: 5 | E30: ='Vykdymo planas'!L$32+'Vykdymo planas'!L$80 -> 0 | F30: 28.85
B31: 6 | E31: ='Vykdymo planas'!M$32+'Vykdymo planas'!M$80 -> 0 | F31: 28.85
B32: 7 | E32: ='Vykdymo planas'!N$32+'Vykdymo planas'!N$80 -> 0 | F32: 28.85
B33: 8 | E33: ='Vykdymo planas'!O$32+'Vykdymo planas'!O$80 -> 0 | F33: 28.85
B34: 9 | E34: ='Vykdymo planas'!P$32+'Vykdymo planas'!P$80 -> 0 | F34: 28.85
B35: 10 | E35: ='Vykdymo planas'!Q$32+'Vykdymo planas'!Q$80 -> 0 | F35: 28.85
B36: 11 | E36: ='Vykdymo planas'!R$32+'Vykdymo planas'!R$80 -> 0 | F36: 28.85
B37: 12 | E37: ='Vykdymo planas'!S$32+'Vykdymo planas'!S$80 -> 0 | F37: 28.85
B38: 13 | E38: ='Vykdymo planas'!T$32+'Vykdymo planas'!T$80 -> 0 | F38: 28.85
B39: 14 | E39: ='Vykdymo planas'!U$32+'Vykdymo planas'!U$80 -> 0 | F39: 28.85
B40: 15 | E40: ='Vykdymo planas'!V$32+'Vykdymo planas'!V$80 -> 0 | F40: 28.85
B41: 16 | E41: ='Vykdymo planas'!W$32+'Vykdymo planas'!W$80 -> 0 | F41: 28.85
B42: 17 | E42: ='Vykdymo planas'!X$32+'Vykdymo planas'!X$80 -> 0 | F42: 28.85
B43: 18 | E43: ='Vykdymo planas'!Y$32+'Vykdymo planas'!Y$80 -> 0 | F43: 28.85
B44: 19 | E44: ='Vykdymo planas'!Z$32+'Vykdymo planas'!Z$80 -> 0 | F44: 28.85
B45: 20 | E45: ='Vykdymo planas'!AA$32+'Vykdymo planas'!AA$80 -> 0 | F45: 28.85
A46: Partnerio Nr. 2 pavadinimas | B46: 1 | E46: ='Vykdymo planas'!H$48+'Vykdymo planas'!H$96 -> 0 | F46: 28.85
B47: 2 | E47: ='Vykdymo planas'!I$48+'Vykdymo planas'!I$96 -> 0 | F47: 28.85
B48: 3 | E48: ='Vykdymo planas'!J$48+'Vykdymo planas'!J$96 -> 0 | F48: 28.85
B49: 4 | E49: ='Vykdymo planas'!K$48+'Vykdymo planas'!K$96 -> 0 | F49: 28.85
B50: 5 | E50: ='Vykdymo planas'!L$48+'Vykdymo planas'!L$96 -> 0 | F50: 28.85
B51: 6 | E51: ='Vykdymo planas'!M$48+'Vykdymo planas'!M$96 -> 0 | F51: 28.85
B52: 7 | E52: ='Vykdymo planas'!N$48+'Vykdymo planas'!N$96 -> 0 | F52: 28.85
B53: 8 | E53: ='Vykdymo planas'!O$48+'Vykdymo planas'!O$96 -> 0 | F53: 28.85
B54: 9 | E54: ='Vykdymo planas'!P$48+'Vykdymo planas'!P$96 -> 0 | F54: 28.85
B55: 10 | E55: ='Vykdymo planas'!Q$48+'Vykdymo planas'!Q$96 -> 0 | F55: 28.85
B56: 11 | E56: ='Vykdymo planas'!R$48+'Vykdymo planas'!R$96 -> 0 | F56: 28.85
B57: 12 | E57: ='Vykdymo planas'!S$48+'Vykdymo planas'!S$96 -> 0 | F57: 28.85
B58: 13 | E58: ='Vykdymo planas'!T$48+'Vykdymo planas'!T$96 -> 0 | F58: 28.85
B59: 14 | E59: ='Vykdymo planas'!U$48+'Vykdymo planas'!U$96 -> 0 | F59: 28.85
B60: 15 | E60: ='Vykdymo planas'!V$48+'Vykdymo planas'!V$96 -> 0 | F60: 28.85
B61: 16 | E61: ='Vykdymo planas'!W$48+'Vykdymo planas'!W$96 -> 0 | F61: 28.85
B62: 17 | E62: ='Vykdymo planas'!X$48+'Vykdymo planas'!X$96 -> 0 | F62: 28.85
B63: 18 | E63: ='Vykdymo planas'!Y$48+'Vykdymo planas'!Y$96 -> 0 | F63: 28.85
B64: 19 | E64: ='Vykdymo planas'!Z$48+'Vykdymo planas'!Z$96 -> 0 | F64: 28.85
B65: 20 | E65: ='Vykdymo planas'!AA$48+'Vykdymo planas'!AA$96 -> 0 | F65: 28.85
A67: INFORMACIJA APIE PLANUOJAMAS ĮSIGYTI PASLAUGAS
B68: Nr. | C68: Paslaugos pavadinimas | E68: Išlaidų pagrindimo dokumentai
A69: =A6 -> Projekto vykdytojo pavadinimas | B69: 1
B70: 2
B71: 3
B72: 4
B73: 5
B74: 6
B75: 7
B76: 8
B77: 9
B78: 10
A79: =A26 -> Partnerio Nr. 1 pavadinimas | B79: 1
B80: 2
B81: 3
B82: 4
B83: 5
B84: 6
B85: 7
B86: 8
B87: 9
B88: 10
A89: =A46 -> Partnerio Nr. 2 pavadinimas | B89: 1
B90: 2
B91: 3
B92: 4
B93: 5
B94: 6
B95: 7
B96: 8
B97: 9
B98: 10

Sheet Užduotys
A2: Poveiklės pavadinimas | B2: Užduoties Nr. | C2: Užduoties pavadinimas | D2: TPL | E2: Užduoties aprašymas | F2: Užduoties rezultatas (bandymo protokolas, testavimo ataskaita, maketo brėžiniai, nuotraukos ir pan.)
A3: Moksliniai tyrimai (projekto vykdytojas)
A15: Moksliniai tyrimai (partneris 1)
A27: Moksliniai tyrimai (partneris 2)
A39: Eksperimentinė plėtra (projekto vykdytojas)
A51: Eksperimentinė plėtra (partneris 1)
A63: Eksperimentinė plėtra (partneris 2)

Sheet Vykdymo planas
A2: Poveiklės pavadinimas | B2: TPL | C2: Užduoties Nr. | D2: Užduoties pavadinimas | E2: Užduoties pradžia (projekto mėnuo) | F2: Užduoties pabaiga (projekto mėnuo) | G2: Užduočiai atlikti reikalingos paslaugos | H2: Projekto vykdytojo darbuotojai
D3: Užduoties pavadinimas | E3: Užduoties pradžia (projekto mėnuo) | F3: Užduoties pabaiga (projekto mėnuo) | H3: ='Darbuotojai ir paslaugos'!$C6 -> 0 | I3: ='Darbuotojai ir paslaugos'!$C7 -> 0 | J3: ='Darbuotojai ir paslaugos'!$C8 -> 0 | K3: ='Darbuotojai ir paslaugos'!$C9 -> 0 | L3: ='Darbuotojai ir paslaugos'!$C10 -> 0 | M3: ='Darbuotojai ir paslaugos'!$C11 -> 0 | N3: ='Darbuotojai ir paslaugos'!$C12 -> 0 | O3: ='Darbuotojai ir paslaugos'!$C13 -> 0 | P3: ='Darbuotojai ir paslaugos'!$C14 -> 0 | Q3: ='Darbuotojai ir paslaugos'!$C15 -> 0 | R3: ='Darbuotojai ir paslaugos'!$C16 -> 0 | S3: ='Darbuotojai ir paslaugos'!$C17 -> 0 | T3: ='Darbuotojai ir paslaugos'!$C18 -> 0 | U3: ='Darbuotojai ir paslaugos'!$C19 -> 0 | V3: ='Darbuotojai ir paslaugos'!$C20 -> 0 | W3: ='Darbuotojai ir paslaugos'!$C21 -> 0 | X3: ='Darbuotojai ir paslaugos'!$C22 -> 0 | Y3: ='Darbuotojai ir paslaugos'!$C23 -> 0 | Z3: ='Darbuotojai ir paslaugos'!$C24 -> 0 | AA3: ='Darbuotojai ir paslaugos'!$C25 -> 0
A4: Moksliniai tyrimai (projekto vykdytojas) | B4: =IF(C4>0,VLOOKUP(C4,Užduotys!B$3:D$14,3),"") | D4: =IF(C4>0,VLOOKUP(C4,Užduotys!B$3:D$14,2),"")
B5: =IF(C5>0,VLOOKUP(C5,Užduotys!B$3:D$14,3),"") | D5: =IF(C5>0,VLOOKUP(C5,Užduotys!B$3:D$14,2),"")
B6: =IF(C6>0,VLOOKUP(C6,Užduotys!B$3:D$14,3),"") | D6: =IF(C6>0,VLOOKUP(C6,Užduotys!B$3:D$14,2),"")
B7: =IF(C7>0,VLOOKUP(C7,Užduotys!B$3:D$14,3),"") | D7: =IF(C7>0,VLOOKUP(C7,Užduotys!B$3:D$14,2),"")
B8: =IF(C8>0,VLOOKUP(C8,Užduotys!B$3:D$14,3),"") | D8: =IF(C8>0,VLOOKUP(C8,Užduotys!B$3:D$14,2),"")
B9: =IF(C9>0,VLOOKUP(C9,Užduotys!B$3:D$14,3),"") | D9: =IF(C9>0,VLOOKUP(C9,Užduotys!B$3:D$14,2),"")
B10: =IF(C10>0,VLOOKUP(C10,Užduotys!B$3:D$14,3),"") | D10: =IF(C10>0,VLOOKUP(C10,Užduotys!B$3:D$14,2),"")
B11: =IF(C11>0,VLOOKUP(C11,Užduotys!B$3:D$14,3),"") | D11: =IF(C11>0,VLOOKUP(C11,Užduotys!B$3:D$14,2),"")
B12: =IF(C12>0,VLOOKUP(C12,Užduotys!B$3:D$14,3),"") | D12: =IF(C12>0,VLOOKUP(C12,Užduotys!B$3:D$14,2),"")
B13: =IF(C13>0,VLOOKUP(C13,Užduotys!B$3:D$14,3),"") | D13: =IF(C13>0,VLOOKUP(C13,Užduotys!B$3:D$14,2),"")
B14: =IF(C14>0,VLOOKUP(C14,Užduotys!B$3:D$14,3),"") | D14: =IF(C14>0,VLOOKUP(C14,Užduotys!B$3:D$14,2),"")
B15: =IF(C15>0,VLOOKUP(C15,Užduotys!B$3:D$14,3),"") | D15: =IF(C15>0,VLOOKUP(C15,Užduotys!B$3:D$14,2),"")
A16: Iš viso valandų poveiklėje: | H16: =SUM(H4:H15) -> 0 | I16: =SUM(I4:I15) -> 0 | J16: =SUM(J4:J15) -> 0 | K16: =SUM(K4:K15) -> 0 | L16: =SUM(L4:L15) -> 0 | M16: =SUM(M4:M15) -> 0 | N16: =SUM(N4:N15) -> 0 | O16: =SUM(O4:O15) -> 0 | ... AA16: =SUM(AA4:AA15) -> 0
A18: Poveiklės pavadinimas | B18: TPL | C18: Užduoties Nr. | D18: Užduoties pavadinimas | E18: Užduoties pradžia (projekto mėnuo) | F18: Užduoties pabaiga (projekto mėnuo) | G18: Užduočiai atlikti reikalingos paslaugos | H18: Partnerio Nr. 1 darbuotojai
D19: Užduoties pavadinimas | E19: Užduoties pradžia (projekto mėnuo) | F19: Užduoties pabaiga (projekto mėnuo) | H19: ='Darbuotojai ir paslaugos'!$C26 -> 0 | I19: ='Darbuotojai ir paslaugos'!$C27 -> 0 | J19: ='Darbuotojai ir paslaugos'!$C28 -> 0 | K19: ='Darbuotojai ir paslaugos'!$C29 -> 0 | L19: ='Darbuotojai ir paslaugos'!$C30 -> 0 | M19: ='Darbuotojai ir paslaugos'!$C31 -> 0 | N19: ='Darbuotojai ir paslaugos'!$C32 -> 0 | O19: ='Darbuotojai ir paslaugos'!$C33 -> 0 | P19: ='Darbuotojai ir paslaugos'!$C34 -> 0 | Q19: ='Darbuotojai ir paslaugos'!$C35 -> 0 | R19: ='Darbuotojai ir paslaugos'!$C36 -> 0 | S19: ='Darbuotojai ir paslaugos'!$C37 -> 0 | T19: ='Darbuotojai ir paslaugos'!$C38 -> 0 | U19: ='Darbuotojai ir paslaugos'!$C39 -> 0 | V19: ='Darbuotojai ir paslaugos'!$C40 -> 0 | W19: ='Darbuotojai ir paslaugos'!$C41 -> 0 | X19: ='Darbuotojai ir paslaugos'!$C42 -> 0 | Y19: ='Darbuotojai ir paslaugos'!$C43 -> 0 | Z19: ='Darbuotojai ir paslaugos'!$C44 -> 0 | AA19: ='Darbuotojai ir paslaugos'!$C45 -> 0
A20: =Užduotys!A15 -> Moksliniai tyrimai (partneris 1) | B20: =IF(C20>0,VLOOKUP(C20,Užduotys!B$15:D$26,3),"") | D20: =IF(C20>0,VLOOKUP(C20,Užduotys!B$15:D$26,2),"")
B21: =IF(C21>0,VLOOKUP(C21,Užduotys!B$15:D$26,3),"") | D21: =IF(C21>0,VLOOKUP(C21,Užduotys!B$15:D$26,2),"")
B22: =IF(C22>0,VLOOKUP(C22,Užduotys!B$15:D$26,3),"") | D22: =IF(C22>0,VLOOKUP(C22,Užduotys!B$15:D$26,2),"")
B23: =IF(C23>0,VLOOKUP(C23,Užduotys!B$15:D$26,3),"") | D23: =IF(C23>0,VLOOKUP(C23,Užduotys!B$15:D$26,2),"")
B24: =IF(C24>0,VLOOKUP(C24,Užduotys!B$15:D$26,3),"") | D24: =IF(C24>0,VLOOKUP(C24,Užduotys!B$15:D$26,2),"")
B25: =IF(C25>0,VLOOKUP(C25,Užduotys!B$15:D$26,3),"") | D25: =IF(C25>0,VLOOKUP(C25,Užduotys!B$15:D$26,2),"")
B26: =IF(C26>0,VLOOKUP(C26,Užduotys!B$15:D$26,3),"") | D26: =IF(C26>0,VLOOKUP(C26,Užduotys!B$15:D$26,2),"")
B27: =IF(C27>0,VLOOKUP(C27,Užduotys!B$15:D$26,3),"") | D27: =IF(C27>0,VLOOKUP(C27,Užduotys!B$15:D$26,2),"")
B28: =IF(C28>0,VLOOKUP(C28,Užduotys!B$15:D$26,3),"") | D28: =IF(C28>0,VLOOKUP(C28,Užduotys!B$15:D$26,2),"")
B29: =IF(C29>0,VLOOKUP(C29,Užduotys!B$15:D$26,3),"") | D29: =IF(C29>0,VLOOKUP(C29,Užduotys!B$15:D$26,2),"")
B30: =IF(C30>0,VLOOKUP(C30,Užduotys!B$15:D$26,3),"") | D30: =IF(C30>0,VLOOKUP(C30,Užduotys!B$15:D$26,2),"")
B31: =IF(C31>0,VLOOKUP(C31,Užduotys!B$15:D$26,3),"") | D31: =IF(C31>0,VLOOKUP(C31,Užduotys!B$15:D$26,2),"")
A32: Iš viso valandų poveiklėje: | H32: =SUM(H20:H31) -> 0 | I32: =SUM(I20:I31) -> 0 | J32: =SUM(J20:J31) -> 0 | K32: =SUM(K20:K31) -> 0 | L32: =SUM(L20:L31) -> 0 | M32: =SUM(M20:M31) -> 0 | N32: =SUM(N20:N31) -> 0 | O32: =SUM(O20:O31) -> 0 | ... AA32: =SUM(AA20:AA31) -> 0
A34: Poveiklės pavadinimas | B34: TPL | C34: Užduoties Nr. | D34: Užduoties pavadinimas | E34: Užduoties pradžia (projekto mėnuo) | F34: Užduoties pabaiga (projekto mėnuo) | G34: Užduočiai atlikti reikalingos paslaugos | H34: Partnerio Nr. 2 darbuotojai
D35: Užduoties pavadinimas | E35: Užduoties pradžia (projekto mėnuo) | F35: Užduoties pabaiga (projekto mėnuo) | H35: ='Darbuotojai ir paslaugos'!$C$46 -> 0 | I35: ='Darbuotojai ir paslaugos'!$C$47 -> 0 | J35: ='Darbuotojai ir paslaugos'!$C$48 -> 0 | K35: ='Darbuotojai ir paslaugos'!$C$49 -> 0 | L35: ='Darbuotojai ir paslaugos'!$C$50 -> 0 | M35: ='Darbuotojai ir paslaugos'!$C$51 -> 0 | N35: ='Darbuotojai ir paslaugos'!$C$52 -> 0 | O35: ='Darbuotojai ir paslaugos'!$C$53 -> 0 | P35: ='Darbuotojai ir paslaugos'!$C$54 -> 0 | Q35: ='Darbuotojai ir paslaugos'!$C$55 -> 0 | R35: ='Darbuotojai ir paslaugos'!$C$56 -> 0 | S35: ='Darbuotojai ir paslaugos'!$C$57 -> 0 | T35: ='Darbuotojai ir paslaugos'!$C$58 -> 0 | U35: ='Darbuotojai ir paslaugos'!$C$59 -> 0 | V35: ='Darbuotojai ir paslaugos'!$C$60 -> 0 | W35: ='Darbuotojai ir paslaugos'!$C$61 -> 0 | X35: ='Darbuotojai ir paslaugos'!$C$62 -> 0 | Y35: ='Darbuotojai ir paslaugos'!$C$63 -> 0 | Z35: ='Darbuotojai ir paslaugos'!$C$64 -> 0 | AA35: ='Darbuotojai ir paslaugos'!$C$65 -> 0
A36: =Užduotys!A27 -> Moksliniai tyrimai (partneris 2) | B36: =IF(C36>0,VLOOKUP(C36,Užduotys!B$27:D$38,3),"") | D36: =IF(C36>0,VLOOKUP(C36,Užduotys!B$27:D$38,2),"")
B37: =IF(C37>0,VLOOKUP(C37,Užduotys!B$27:D$38,3),"") | D37: =IF(C37>0,VLOOKUP(C37,Užduotys!B$27:D$38,2),"")
B38: =IF(C38>0,VLOOKUP(C38,Užduotys!B$27:D$38,3),"") | D38: =IF(C38>0,VLOOKUP(C38,Užduotys!B$27:D$38,2),"")
B39: =IF(C39>0,VLOOKUP(C39,Užduotys!B$27:D$38,3),"") | D39: =IF(C39>0,VLOOKUP(C39,Užduotys!B$27:D$38,2),"")
B40: =IF(C40>0,VLOOKUP(C40,Užduotys!B$27:D$38,3),"") | D40: =IF(C40>0,VLOOKUP(C40,Užduotys!B$27:D$38,2),"")
B41: =IF(C41>0,VLOOKUP(C41,Užduotys!B$27:D$38,3),"") | D41: =IF(C41>0,VLOOKUP(C41,Užduotys!B$27:D$38,2),"")
B42: =IF(C42>0,VLOOKUP(C42,Užduotys!B$27:D$38,3),"") | D42: =IF(C42>0,VLOOKUP(C42,Užduotys!B$27:D$38,2),"")
B43: =IF(C43>0,VLOOKUP(C43,Užduotys!B$27:D$38,3),"") | D43: =IF(C43>0,VLOOKUP(C43,Užduotys!B$27:D$38,2),"")
B44: =IF(C44>0,VLOOKUP(C44,Užduotys!B$27:D$38,3),"") | D44: =IF(C44>0,VLOOKUP(C44,Užduotys!B$27:D$38,2),"")
B45: =IF(C45>0,VLOOKUP(C45,Užduotys!B$27:D$38,3),"") | D45: =IF(C45>0,VLOOKUP(C45,Užduotys!B$27:D$38,2),"")
B46: =IF(C46>0,VLOOKUP(C46,Užduotys!B$27:D$38,3),"") | D46: =IF(C46>0,VLOOKUP(C46,Užduotys!B$27:D$38,2),"")
B47: =IF(C47>0,VLOOKUP(C47,Užduotys!B$27:D$38,3),"") | D47: =IF(C47>0,VLOOKUP(C47,Užduotys!B$27:D$38,2),"")
A48: Iš viso valandų poveiklėje: | H48: =SUM(H36:H47) -> 0 | I48: =SUM(I36:I47) -> 0 | J48: =SUM(J36:J47) -> 0 | K48: =SUM(K36:K47) -> 0 | L48: =SUM(L36:L47) -> 0 | M48: =SUM(M36:M47) -> 0 | N48: =SUM(N36:N47) -> 0 | O48: =SUM(O36:O47) -> 0 | ... AA48: =SUM(AA36:AA47) -> 0
A50: Poveiklės pavadinimas | B50: TPL | C50: Užduoties Nr. | D50: Užduoties pavadinimas | E50: Užduoties pradžia (projekto mėnuo) | F50: Užduoties pabaiga (projekto mėnuo) | G50: Užduočiai atlikti reikalingos paslaugos | H50: Projekto vykdytojo darbuotojai
D51: Užduoties pavadinimas | E51: Užduoties pradžia (projekto mėnuo) | F51: Užduoties pabaiga (projekto mėnuo) | H51: ='Darbuotojai ir paslaugos'!$C6 -> 0 | I51: ='Darbuotojai ir paslaugos'!$C7 -> 0 | J51: ='Darbuotojai ir paslaugos'!$C8 -> 0 | K51: ='Darbuotojai ir paslaugos'!$C9 -> 0 | L51: ='Darbuotojai ir paslaugos'!$C10 -> 0 | M51: ='Darbuotojai ir paslaugos'!$C11 -> 0 | N51: ='Darbuotojai ir paslaugos'!$C12 -> 0 | O51: ='Darbuotojai ir paslaugos'!$C13 -> 0 | P51: ='Darbuotojai ir paslaugos'!$C14 -> 0 | Q51: ='Darbuotojai ir paslaugos'!$C15 -> 0 | R51: ='Darbuotojai ir paslaugos'!$C16 -> 0 | S51: ='Darbuotojai ir paslaugos'!$C17 -> 0 | T51: ='Darbuotojai ir paslaugos'!$C18 -> 0 | U51: ='Darbuotojai ir paslaugos'!$C19 -> 0 | V51: ='Darbuotojai ir paslaugos'!$C20 -> 0 | W51: ='Darbuotojai ir paslaugos'!$C21 -> 0 | X51: ='Darbuotojai ir paslaugos'!$C22 -> 0 | Y51: ='Darbuotojai ir paslaugos'!$C23 -> 0 | Z51: ='Darbuotojai ir paslaugos'!$C24 -> 0 | AA51: ='Darbuotojai ir paslaugos'!$C25 -> 0
A52: =Užduotys!A39 -> Eksperimentinė plėtra (projekto vykdytojas) | B52: =IF(C52>0,VLOOKUP(C52,Užduotys!B$39:D$50,3),"") | D52: =IF(C52>0,VLOOKUP(C52,Užduotys!B$39:D$50,2),"")
B53: =IF(C53>0,VLOOKUP(C53,Užduotys!B$39:D$50,3),"") | D53: =IF(C53>0,VLOOKUP(C53,Užduotys!B$39:D$50,2),"")
B54: =IF(C54>0,VLOOKUP(C54,Užduotys!B$39:D$50,3),"") | D54: =IF(C54>0,VLOOKUP(C54,Užduotys!B$39:D$50,2),"")
B55: =IF(C55>0,VLOOKUP(C55,Užduotys!B$39:D$50,3),"") | D55: =IF(C55>0,VLOOKUP(C55,Užduotys!B$39:D$50,2),"")
B56: =IF(C56>0,VLOOKUP(C56,Užduotys!B$39:D$50,3),"") | D56: =IF(C56>0,VLOOKUP(C56,Užduotys!B$39:D$50,2),"")
B57: =IF(C57>0,VLOOKUP(C57,Užduotys!B$39:D$50,3),"") | D57: =IF(C57>0,VLOOKUP(C57,Užduotys!B$39:D$50,2),"")
B58: =IF(C58>0,VLOOKUP(C58,Užduotys!B$39:D$50,3),"") | D58: =IF(C58>0,VLOOKUP(C58,Užduotys!B$39:D$50,2),"")
B59: =IF(C59>0,VLOOKUP(C59,Užduotys!B$39:D$50,3),"") | D59: =IF(C59>0,VLOOKUP(C59,Užduotys!B$39:D$50,2),"")
B60: =IF(C60>0,VLOOKUP(C60,Užduotys!B$39:D$50,3),"") | D60: =IF(C60>0,VLOOKUP(C60,Užduotys!B$39:D$50,2),"")
B61: =IF(C61>0,VLOOKUP(C61,Užduotys!B$39:D$50,3),"") | D61: =IF(C61>0,VLOOKUP(C61,Užduotys!B$39:D$50,2),"")
B62: =IF(C62>0,VLOOKUP(C62,Užduotys!B$39:D$50,3),"") | D62: =IF(C62>0,VLOOKUP(C62,Užduotys!B$39:D$50,2),"")
B63: =IF(C63>0,VLOOKUP(C63,Užduotys!B$39:D$50,3),"") | D63: =IF(C63>0,VLOOKUP(C63,Užduotys!B$39:D$50,2),"")
A64: Iš viso valandų poveiklėje: | H64: =SUM(H52:H63) -> 0 | I64: =SUM(I52:I63) -> 0 | J64: =SUM(J52:J63) -> 0 | K64: =SUM(K52:K63) -> 0 | L64: =SUM(L52:L63) -> 0 | M64: =SUM(M52:M63) -> 0 | N64: =SUM(N52:N63) -> 0 | O64: =SUM(O52:O63) -> 0 | ... AA64: =SUM(AA52:AA63) -> 0
A66: Poveiklės pavadinimas | B66: TPL | C66: Užduoties Nr. | D66: Užduoties pavadinimas | E66: Užduoties pradžia (projekto mėnuo) | F66: Užduoties pabaiga (projekto mėnuo) | G66: Užduočiai atlikti reikalingos paslaugos | H66: Partnerio Nr. 1 darbuotojai
D67: Užduoties pavadinimas | E67: Užduoties pradžia (projekto mėnuo) | F67: Užduoties pabaiga (projekto mėnuo) | H67: ='Darbuotojai ir paslaugos'!$C26 -> 0 | I67: ='Darbuotojai ir paslaugos'!$C27 -> 0 | J67: ='Darbuotojai ir paslaugos'!$C28 -> 0 | K67: ='Darbuotojai ir paslaugos'!$C29 -> 0 | L67: ='Darbuotojai ir paslaugos'!$C30 -> 0 | M67: ='Darbuotojai ir paslaugos'!$C31 -> 0 | N67: ='Darbuotojai ir paslaugos'!$C32 -> 0 | O67: ='Darbuotojai ir paslaugos'!$C33 -> 0 | P67: ='Darbuotojai ir paslaugos'!$C34 -> 0 | Q67: ='Darbuotojai ir paslaugos'!$C35 -> 0 | R67: ='Darbuotojai ir paslaugos'!$C36 -> 0 | S67: ='Darbuotojai ir paslaugos'!$C37 -> 0 | T67: ='Darbuotojai ir paslaugos'!$C38 -> 0 | U67: ='Darbuotojai ir paslaugos'!$C39 -> 0 | V67: ='Darbuotojai ir paslaugos'!$C40 -> 0 | W67: ='Darbuotojai ir paslaugos'!$C41 -> 0 | X67: ='Darbuotojai ir paslaugos'!$C42 -> 0 | Y67: ='Darbuotojai ir paslaugos'!$C43 -> 0 | Z67: ='Darbuotojai ir paslaugos'!$C44 -> 0 | AA67: ='Darbuotojai ir paslaugos'!$C45 -> 0
A68: =Užduotys!A51 -> Eksperimentinė plėtra (partneris 1) | B68: =IF(C68>0,VLOOKUP(C68,Užduotys!B$51:D$62,3),"") | D68: =IF(C68>0,VLOOKUP(C68,Užduotys!B$51:D$62,2),"")
B69: =IF(C69>0,VLOOKUP(C69,Užduotys!B$51:D$62,3),"") | D69: =IF(C69>0,VLOOKUP(C69,Užduotys!B$51:D$62,2),"")
B70: =IF(C70>0,VLOOKUP(C70,Užduotys!B$51:D$62,3),"") | D70: =IF(C70>0,VLOOKUP(C70,Užduotys!B$51:D$62,2),"")
B71: =IF(C71>0,VLOOKUP(C71,Užduotys!B$51:D$62,3),"") | D71: =IF(C71>0,VLOOKUP(C71,Užduotys!B$51:D$62,2),"")
B72: =IF(C72>0,VLOOKUP(C72,Užduotys!B$51:D$62,3),"") | D72: =IF(C72>0,VLOOKUP(C72,Užduotys!B$51:D$62,2),"")
B73: =IF(C73>0,VLOOKUP(C73,Užduotys!B$51:D$62,3),"") | D73: =IF(C73>0,VLOOKUP(C73,Užduotys!B$51:D$62,2),"")
B74: =IF(C74>0,VLOOKUP(C74,Užduotys!B$51:D$62,3),"") | D74: =IF(C74>0,VLOOKUP(C74,Užduotys!B$51:D$62,2),"")
B75: =IF(C75>0,VLOOKUP(C75,Užduotys!B$51:D$62,3),"") | D75: =IF(C75>0,VLOOKUP(C75,Užduotys!B$51:D$62,2),"")
B76: =IF(C76>0,VLOOKUP(C76,Užduotys!B$51:D$62,3),"") | D76: =IF(C76>0,VLOOKUP(C76,Užduotys!B$51:D$62,2),"")
B77: =IF(C77>0,VLOOKUP(C77,Užduotys!B$51:D$62,3),"") | D77: =IF(C77>0,VLOOKUP(C77,Užduotys!B$51:D$62,2),"")
B78: =IF(C78>0,VLOOKUP(C78,Užduotys!B$51:D$62,3),"") | D78: =IF(C78>0,VLOOKUP(C78,Užduotys!B$51:D$62,2),"")
B79: =IF(C79>0,VLOOKUP(C79,Užduotys!B$51:D$62,3),"") | D79: =IF(C79>0,VLOOKUP(C79,Užduotys!B$51:D$62,2),"")
A80: Iš viso valandų poveiklėje: | H80: =SUM(H68:H79) -> 0 | I80: =SUM(I68:I79) -> 0 | J80: =SUM(J68:J79) -> 0 | K80: =SUM(K68:K79) -> 0 | L80: =SUM(L68:L79) -> 0 | M80: =SUM(M68:M79) -> 0 | N80: =SUM(N68:N79) -> 0 | O80: =SUM(O68:O79) -> 0 | ... AA80: =SUM(AA68:AA79) -> 0
A82: Poveiklės pavadinimas | B82: TPL | C82: Užduoties Nr. | D82: Užduoties pavadinimas | E82: Užduoties pradžia (projekto mėnuo) | F82: Užduoties pabaiga (projekto mėnuo) | G82: Užduočiai atlikti reikalingos paslaugos | H82: Partnerio Nr. 2 darbuotojai
D83: Užduoties pavadinimas | E83: Užduoties pradžia (projekto mėnuo) | F83: Užduoties pabaiga (projekto mėnuo) | H83: ='Darbuotojai ir paslaugos'!$C$46 -> 0 | I83: ='Darbuotojai ir paslaugos'!$C$47 -> 0 | J83: ='Darbuotojai ir paslaugos'!$C$48 -> 0 | K83: ='Darbuotojai ir paslaugos'!$C$49 -> 0 | L83: ='Darbuotojai ir paslaugos'!$C$50 -> 0 | M83: ='Darbuotojai ir paslaugos'!$C$51 -> 0 | N83: ='Darbuotojai ir paslaugos'!$C$52 -> 0 | O83: ='Darbuotojai ir paslaugos'!$C$53 -> 0 | P83: ='Darbuotojai ir paslaugos'!$C$54 -> 0 | Q83: ='Darbuotojai ir paslaugos'!$C$55 -> 0 | R83: ='Darbuotojai ir paslaugos'!$C$56 -> 0 | S83: ='Darbuotojai ir paslaugos'!$C$57 -> 0 | T83: ='Darbuotojai ir paslaugos'!$C$58 -> 0 | U83: ='Darbuotojai ir paslaugos'!$C$59 -> 0 | V83: ='Darbuotojai ir paslaugos'!$C$60 -> 0 | W83: ='Darbuotojai ir paslaugos'!$C$61 -> 0 | X83: ='Darbuotojai ir paslaugos'!$C$62 -> 0 | Y83: ='Darbuotojai ir paslaugos'!$C$63 -> 0 | Z83: ='Darbuotojai ir paslaugos'!$C$64 -> 0 | AA83: ='Darbuotojai ir paslaugos'!$C$65 -> 0
A84: =Užduotys!A63 -> Eksperimentinė plėtra (partneris 2) | B84: =IF(C84>0,VLOOKUP(C84,Užduotys!B$63:D$74,3),"") | D84: =IF(C84>0,VLOOKUP(C84,Užduotys!B$63:D$74,2),"")
B85: =IF(C85>0,VLOOKUP(C85,Užduotys!B$63:D$74,3),"") | D85: =IF(C85>0,VLOOKUP(C85,Užduotys!B$63:D$74,2),"")
B86: =IF(C86>0,VLOOKUP(C86,Užduotys!B$63:D$74,3),"") | D86: =IF(C86>0,VLOOKUP(C86,Užduotys!B$63:D$74,2),"")
B87: =IF(C87>0,VLOOKUP(C87,Užduotys!B$63:D$74,3),"") | D87: =IF(C87>0,VLOOKUP(C87,Užduotys!B$63:D$74,2),"")
B88: =IF(C88>0,VLOOKUP(C88,Užduotys!B$63:D$74,3),"") | D88: =IF(C88>0,VLOOKUP(C88,Užduotys!B$63:D$74,2),"")
B89: =IF(C89>0,VLOOKUP(C89,Užduotys!B$63:D$74,3),"") | D89: =IF(C89>0,VLOOKUP(C89,Užduotys!B$63:D$74,2),"")
B90: =IF(C90>0,VLOOKUP(C90,Užduotys!B$63:D$74,3),"") | D90: =IF(C90>0,VLOOKUP(C90,Užduotys!B$63:D$74,2),"")
B91: =IF(C91>0,VLOOKUP(C91,Užduotys!B$63:D$74,3),"") | D91: =IF(C91>0,VLOOKUP(C91,Užduotys!B$63:D$74,2),"")
B92: =IF(C92>0,VLOOKUP(C92,Užduotys!B$63:D$74,3),"") | D92: =IF(C92>0,VLOOKUP(C92,Užduotys!B$63:D$74,2),"")
B93: =IF(C93>0,VLOOKUP(C93,Užduotys!B$63:D$74,3),"") | D93: =IF(C93>0,VLOOKUP(C93,Užduotys!B$63:D$74,2),"")
B94: =IF(C94>0,VLOOKUP(C94,Užduotys!B$63:D$74,3),"") | D94: =IF(C94>0,VLOOKUP(C94,Užduotys!B$63:D$74,2),"")
B95: =IF(C95>0,VLOOKUP(C95,Užduotys!B$63:D$74,3),"") | D95: =IF(C95>0,VLOOKUP(C95,Užduotys!B$63:D$74,2),"")
A96: Iš viso valandų poveiklėje: | H96: =SUM(H84:H95) -> 0 | I96: =SUM(I84:I95) -> 0 | J96: =SUM(J84:J95) -> 0 | K96: =SUM(K84:K95) -> 0 | L96: =SUM(L84:L95) -> 0 | M96: =SUM(M84:M95) -> 0 | N96: =SUM(N84:N95) -> 0 | O96: =SUM(O84:O95) -> 0 | ... AA96: =SUM(AA84:AA95) -> 0

Sheet 1
C1: Poveiklės pavadinimas: | D1: Moksliniai tyrimai (projekto vykdytojas)
A2: Projekto vykdytojas, partneris: | D2: {='Darbuotojai ir paslaugos'!A6:A6} -> Projekto vykdytojo pavadinimas
C3: Finansavimo intensyvumas:
A5: Nr. | B5: Išlaidų pavadinimas | D5: Matavimo vnt. | E5: Kiekis | F5: Vieneto kaina be PVM, Eur | G5: Tinkamų finansuoti išlaidų suma be PVM, Eur | H5: Prašomas finansavimas, Eur | I5: Išlaidų pagrindimo dokumentų pavadinimas, data ir Nr., skaičiavimų paaiškinimas
B6: Iš viso tiesioginių išlaidų: | G6: =G7+G28+G64+G85+G96+G107+G133+G144 -> 0 | H6: =H7+H28+H64+H85+H96+H107+H133+H144 -> 0
A7: 1 | B7: Projektą vykdančio personalo darbo užmokestis ir išlaidos su darbo santykiais susijusiems darbdavio įsipareigojimams | G7: =SUM(G8:G27) -> 0 | H7: =SUM(H8:H27) -> 0
A8: 1.1 | C8: =IF(B8>0,VLOOKUP(B8,'Darbuotojai ir paslaugos'!C$6:F$65,2,FALSE),"") | D8: val. | E8: =IF(B8<>"",HLOOKUP(B8,'Vykdymo planas'!H$3:AA$16,14,FALSE),"") | F8: =IF(B8>0,ROUND(VLOOKUP(B8,'Darbuotojai ir paslaugos'!C$6:F$65,4,FALSE),2),0) -> 0 | G8: =IFERROR(ROUND(E8*F8,2),"0,00") -> 0,00 | H8: =ROUND(G8*$D$3,2) -> 0 | I8: Kad galėtumėte pasirinkti dartuotojus, pirmiausia užpildykite lapą „Darbuotojai ir paslaugos“
A9: 1.2 | C9: =IF(B9>0,VLOOKUP(B9,'Darbuotojai ir paslaugos'!C$6:F$65,2,FALSE),"") | D9: val. | E9: =IF(B9<>"",HLOOKUP(B9,'Vykdymo planas'!H$3:AA$16,14,FALSE),"") | F9: =IF(B9>0,ROUND(VLOOKUP(B9,'Darbuotojai ir paslaugos'!C$6:F$65,4,FALSE),2),0) -> 0 | G9: =IFERROR(ROUND(E9*F9,2),"0,00") -> 0,00 | H9: =ROUND(G9*$D$3,2) -> 0
A10: 1.3 | C10: =IF(B10>0,VLOOKUP(B10,'Darbuotojai ir paslaugos'!C$6:F$65,2,FALSE),"") | D10: val. | E10: =IF(B10<>"",HLOOKUP(B10,'Vykdymo planas'!H$3:AA$16,14,FALSE),"") | F10: =IF(B10>0,ROUND(VLOOKUP(B10,'Darbuotojai ir paslaugos'!C$6:F$65,4,FALSE),2),0) -> 0 | G10: =IFERROR(ROUND(E10*F10,2),"0,00") -> 0,00 | H10: =ROUND(G10*$D$3,2) -> 0
A11: 1.4 | C11: =IF(B11>0,VLOOKUP(B11,'Darbuotojai ir paslaugos'!C$6:F$65,2,FALSE),"") | D11: val. | E11: =IF(B11<>"",HLOOKUP(B11,'Vykdymo planas'!H$3:AA$16,14,FALSE),"") | F11: =IF(B11>0,ROUND(VLOOKUP(B11,'Darbuotojai ir paslaugos'!C$6:F$65,4,FALSE),2),0) -> 0 | G11: =IFERROR(ROUND(E11*F11,2),"0,00") -> 0,00 | H11: =ROUND(G11*$D$3,2) -> 0
A12: 1.5 | C12: =IF(B12>0,VLOOKUP(B12,'Darbuotojai ir paslaugos'!C$6:F$65,2,FALSE),"") | D12: val. | E12: =IF(B12<>"",HLOOKUP(B12,'Vykdymo planas'!H$3:AA$16,14,FALSE),"") | F12: =IF(B12>0,ROUND(VLOOKUP(B12,'Darbuotojai ir paslaugos'!C$6:F$65,4,FALSE),2),0) -> 0 | G12: =IFERROR(ROUND(E12*F12,2),"0,00") -> 0,00 | H12: =ROUND(G12*$D$3,2) -> 0
A13: 1.6 | C13: =IF(B13>0,VLOOKUP(B13,'Darbuotojai ir paslaugos'!C$6:F$65,2,FALSE),"") | D13: val. | E13: =IF(B13<>"",HLOOKUP(B13,'Vykdymo planas'!H$3:AA$16,14,FALSE),"") | F13: =IF(B13>0,ROUND(VLOOKUP(B13,'Darbuotojai ir paslaugos'!C$6:F$65,4,FALSE),2),0) -> 0 | G13: =IFERROR(ROUND(E13*F13,2),"0,00") -> 0,00 | H13: =ROUND(G13*$D$3,2) -> 0
A14: 1.7 | C14: =IF(B14>0,VLOOKUP(B14,'Darbuotojai ir paslaugos'!C$6:F$65,2,FALSE),"") | D14: val. | E14: =IF(B14<>"",HLOOKUP(B14,'Vykdymo planas'!H$3:AA$16,14,FALSE),"") | F14: =IF(B14>0,ROUND(VLOOKUP(B14,'Darbuotojai ir paslaugos'!C$6:F$65,4,FALSE),2),0) -> 0 | G14: =IFERROR(ROUND(E14*F14,2),"0,00") -> 0,00 | H14: =ROUND(G14*$D$3,2) -> 0
A15: 1.8 | C15: =IF(B15>0,VLOOKUP(B15,'Darbuotojai ir paslaugos'!C$6:F$65,2,FALSE),"") | D15: val. | E15: =IF(B15<>"",HLOOKUP(B15,'Vykdymo planas'!H$3:AA$16,14,FALSE),"") | F15: =IF(B15>0,ROUND(VLOOKUP(B15,'Darbuotojai ir paslaugos'!C$6:F$65,4,FALSE),2),0) -> 0 | G15: =IFERROR(ROUND(E15*F15,2),"0,00") -> 0,00 | H15: =ROUND(G15*$D$3,2) -> 0
A16: 1.9 | C16: =IF(B16>0,VLOOKUP(B16,'Darbuotojai ir paslaugos'!C$6:F$65,2,FALSE),"") | D16: val. | E16: =IF(B16<>"",HLOOKUP(B16,'Vykdymo planas'!H$3:AA$16,14,FALSE),"") | F16: =IF(B16>0,ROUND(VLOOKUP(B16,'Darbuotojai ir paslaugos'!C$6:F$65,4,FALSE),2),0) -> 0 | G16: =IFERROR(ROUND(E16*F16,2),"0,00") -> 0,00 | H16: =ROUND(G16*$D$3,2) -> 0
A17: 1.10 | C17: =IF(B17>0,VLOOKUP(B17,'Darbuotojai ir paslaugos'!C$6:F$65,2,FALSE),"") | D17: val. | E17: =IF(B17<>"",HLOOKUP(B17,'Vykdymo planas'!H$3:AA$16,14,FALSE),"") | F17: =IF(B17>0,ROUND(VLOOKUP(B17,'Darbuotojai ir paslaugos'!C$6:F$65,4,FALSE),2),0) -> 0 | G17: =IFERROR(ROUND(E17*F17,2),"0,00") -> 0,00 | H17: =ROUND(G17*$D$3,2) -> 0
A18: 1.11 | C18: =IF(B18>0,VLOOKUP(B18,'Darbuotojai ir paslaugos'!C$6:F$65,2,FALSE),"") | D18: val. | E18: =IF(B18<>"",HLOOKUP(B18,'Vykdymo planas'!H$3:AA$16,14,FALSE),"") | F18: =IF(B18>0,ROUND(VLOOKUP(B18,'Darbuotojai ir paslaugos'!C$6:F$65,4,FALSE),2),0) -> 0 | G18: =IFERROR(ROUND(E18*F18,2),"0,00") -> 0,00 | H18: =ROUND(G18*$D$3,2) -> 0
A19: 1.12 | C19: =IF(B19>0,VLOOKUP(B19,'Darbuotojai ir paslaugos'!C$6:F$65,2,FALSE),"") | D19: val. | E19: =IF(B19<>"",HLOOKUP(B19,'Vykdymo planas'!H$3:AA$16,14,FALSE),"") | F19: =IF(B19>0,ROUND(VLOOKUP(B19,'Darbuotojai ir paslaugos'!C$6:F$65,4,FALSE),2),0) -> 0 | G19: =IFERROR(ROUND(E19*F19,2),"0,00") -> 0,00 | H19: =ROUND(G19*$D$3,2) -> 0
A20: 1.13 | C20: =IF(B20>0,VLOOKUP(B20,'Darbuotojai ir paslaugos'!C$6:F$65,2,FALSE),"") | D20: val. | E20: =IF(B20<>"",HLOOKUP(B20,'Vykdymo planas'!H$3:AA$16,14,FALSE),"") | F20: =IF(B20>0,ROUND(VLOOKUP(B20,'Darbuotojai ir paslaugos'!C$6:F$65,4,FALSE),2),0) -> 0 | G20: =IFERROR(ROUND(E20*F20,2),"0,00") -> 0,00 | H20: =ROUND(G20*$D$3,2) -> 0
... A27: 1.20 | C27: =IF(B27>0,VLOOKUP(B27,'Darbuotojai ir paslaugos'!C$6:F$65,2,FALSE),"") | D27: val. | E27: =IF(B27<>"",HLOOKUP(B27,'Vykdymo planas'!H$3:AA$16,14,FALSE),"") | F27: =IF(B27>0,ROUND(VLOOKUP(B27,'Darbuotojai ir paslaugos'!C$6:F$65,4,FALSE),2),0) -> 0 | G27: =IFERROR(ROUND(E27*F27,2),"0,00") -> 0,00 | H27: =ROUND(G27*$D$3,2) -> 0
A28: 2 | B28: Projektą vykdančio personalo komandiruočių išlaidos | G28: =SUM(G29,G36,G43,G50,G57) -> 0 | H28: =SUM(H29,H36,H43,H50,H57) -> 0
A29: 2.1 | B29: Komandiruotės pavadinimas | C29: Iš viso komandiruotei | G29: =SUM(G30:G35) -> 0 | H29: =ROUND(G29*$D$3,2) -> 0 | I29: Komandiruotės šalis:
C30: Dienpinigiai | D30: dienos | E30: =J30 -> 0 | G30: =ROUND(E30*F30*J31,2) -> 0 | H30: =ROUND(G30*$D$3,2) -> 0 | I30: Komandiruotės trukmė: | K30: dienos
C31: Gyvenamojo ploto nuoma | D31: naktys | E31: =IF(E30>0,E30-1,0) -> 0 | G31: =ROUND(E31*F31*J31,2) -> 0 | H31: =ROUND(G31*$D$3,2) -> 0 | I31: Vykstančių asmenų skaičius: | K31: asmuo/asmenys
C32: Kelionės išlaidos | G32: =ROUND(E32*F32,2) -> 0 | H32: =ROUND(G32*$D$3,2) -> 0
C33: Dalyvavimo mokestis | G33: =ROUND(E33*F33,2) -> 0 | H33: =ROUND(G33*$D$3,2) -> 0
C34: Kitos išlaidų pavadinimas | G34: =ROUND(E34*F34,2) -> 0 | H34: =ROUND(G34*$D$3,2) -> 0
C35: Kitos išlaidų pavadinimas | G35: =ROUND(E35*F35,2) -> 0 | H35: =ROUND(G35*$D$3,2) -> 0
A36: 2.2 | B36: Komandiruotės pavadinimas | C36: Iš viso komandiruotei | G36: =SUM(G37:G42) -> 0 | H36: =ROUND(G36*$D$3,2) -> 0 | I36: Komandiruotės šalis:
C37: Dienpinigiai | D37: dienos | E37: =J37 -> 0 | G37: =ROUND(E37*F37*J38,2) -> 0 | H37: =ROUND(G37*$D$3,2) -> 0 | I37: Komandiruotės trukmė: | K37: dienos
C38: Gyvenamojo ploto nuoma | D38: naktys | E38: =IF(E37>0,E37-1,0) -> 0 | G38: =ROUND(E38*F38*J38,2) -> 0 | H38: =ROUND(G38*$D$3,2) -> 0 | I38: Vykstančių asmenų skaičius: | K38: asmuo/asmenys
C39: Kelionės išlaidos | G39: =ROUND(E39*F39,2) -> 0 | H39: =ROUND(G39*$D$3,2) -> 0
C40: Dalyvavimo mokestis | G40: =ROUND(E40*F40,2) -> 0 | H40: =ROUND(G40*$D$3,2) -> 0
C41: Kitos išlaidų pavadinimas | G41: =ROUND(E41*F41,2) -> 0 | H41: =ROUND(G41*$D$3,2) -> 0
C42: Kitos išlaidų pavadinimas | G42: =ROUND(E42*F42,2) -> 0 | H42: =ROUND(G42*$D$3,2) -> 0
A43: 2.3 | B43: Komandiruotės pavadinimas | C43: Iš viso komandiruotei | G43: =SUM(G44:G49) -> 0 | H43: =ROUND(G43*$D$3,2) -> 0 | I43: Komandiruotės šalis:
C44: Dienpinigiai | D44: dienos | E44: =J44 -> 0 | G44: =ROUND(E44*F44*J45,2) -> 0 | H44: =ROUND(G44*$D$3,2) -> 0 | I44: Komandiruotės trukmė: | K44: dienos
C45: Gyvenamojo ploto nuoma | D45: naktys | E45: =IF(E44>0,E44-1,0) -> 0 | G45: =ROUND(E45*F45*J45,2) -> 0 | H45: =ROUND(G45*$D$3,2) -> 0 | I45: Vykstančių asmenų skaičius: | K45: asmuo/asmenys
C46: Kelionės išlaidos | G46: =ROUND(E46*F46,2) -> 0 | H46: =ROUND(G46*$D$3,2) -> 0
C47: Dalyvavimo mokestis | G47: =ROUND(E47*F47,2) -> 0 | H47: =ROUND(G47*$D$3,2) -> 0
C48: Kitos išlaidų pavadinimas | G48: =ROUND(E48*F48,2) -> 0 | H48: =ROUND(G48*$D$3,2) -> 0
C49: Kitos išlaidų pavadinimas | G49: =ROUND(E49*F49,2) -> 0 | H49: =ROUND(G49*$D$3,2) -> 0
A50: 2.4 | B50: Komandiruotės pavadinimas | C50: Iš viso komandiruotei | G50: =SUM(G51:G56) -> 0 | H50: =ROUND(G50*$D$3,2) -> 0 | I50: Komandiruotės šalis:
C51: Dienpinigiai | D51: dienos | E51: =J51 -> 0 | G51: =ROUND(E51*F51*J52,2) -> 0 | H51: =ROUND(G51*$D$3,2) -> 0 | I51: Komandiruotės trukmė: | K51: dienos
C52: Gyvenamojo ploto nuoma | D52: naktys | E52: =IF(E51>0,E51-1,0) -> 0 | G52: =ROUND(E52*F52*J52,2) -> 0 | H52: =ROUND(G52*$D$3,2) -> 0 | I52: Vykstančių asmenų skaičius: | K52: asmuo/asmenys
C53: Kelionės išlaidos | G53: =ROUND(E53*F53,2) -> 0 | H53: =ROUND(G53*$D$3,2) -> 0
C54: Dalyvavimo mokestis | G54: =ROUND(E54*F54,2) -> 0 | H54: =ROUND(G54*$D$3,2) -> 0
C55: Kitos išlaidų pavadinimas | G55: =ROUND(E55*F55,2) -> 0 | H55: =ROUND(G55*$D$3,2) -> 0
C56: Kitos išlaidų pavadinimas | G56: =ROUND(E56*F56,2) -> 0 | H56: =ROUND(G56*$D$3,2) -> 0
A57: 2.5 | B57: Komandiruotės pavadinimas | C57: Iš viso komandiruotei | G57: =SUM(G58:G63) -> 0 | H57: =ROUND(G57*$D$3,2) -> 0 | I57: Komandiruotės šalis:
C58: Dienpinigiai | D58: dienos | E58: =J58 -> 0 | G58: =ROUND(E58*F58*J59,2) -> 0 | H58: =ROUND(G58*$D$3,2) -> 0 | I58: Komandiruotės trukmė: | K58: dienos
C59: Gyvenamojo ploto nuoma | D59: naktys | E59: =IF(E58>0,E58-1,0) -> 0 | G59: =ROUND(E59*F59*J59,2) -> 0 | H59: =ROUND(G59*$D$3,2) -> 0 | I59: Vykstančių asmenų skaičius: | K59: asmuo/asmenys
C60: Kelionės išlaidos | G60: =ROUND(E60*F60,2) -> 0 | H60: =ROUND(G60*$D$3,2) -> 0
C61: Dalyvavimo mokestis | G61: =ROUND(E61*F61,2) -> 0 | H61: =ROUND(G61*$D$3,2) -> 0
C62: Kitos išlaidų pavadinimas | G62: =ROUND(E62*F62,2) -> 0 | H62: =ROUND(G62*$D$3,2) -> 0
C63: Kitos išlaidų pavadinimas | G63: =ROUND(E63*F63,2) -> 0 | H63: =ROUND(G63*$D$3,2) -> 0
A64: 3 | B64: Nusidėvėjimo išlaidos priemonėms ir įrenginiams | G64: =SUM(G65:G84) -> 0 | H64: =SUM(H65:H84) -> 0 | K64: Turto įvedimo į eksploataciją data | L64: Turto įsigijimo vertė, Eur | M64: Turto nudėvėjimo, amortizacijos laikotarpis, mėn. | N64: Numatoma turto likutinė vertė, Eur | O64: 1 mėn. nudėvėjimo, amortizacijos suma, Eur | P64: Turto naudojamo projekto reikmėms laikas, mėn. | Q64: Turto panaudojimo projekto reikmėms dalis (proc.) | R64: Projektui priskirta turto nusidėvėjimo, amortizacijos suma per projekto laikotarpį, Eur
A65: 3.1 | F65: =R65 -> 0 | G65: =ROUND(E65*F65,2) -> 0 | H65: =ROUND(G65*$D$3,2) -> 0 | O65: =IFERROR((L65-N65)/M65,"0") -> 0 | R65: =O65*P65*Q65 -> 0
A66: 3.2 | F66: =R66 -> 0 | G66: =ROUND(E66*F66,2) -> 0 | H66: =ROUND(G66*$D$3,2) -> 0 | O66: =IFERROR((L66-N66)/M66,"0") -> 0 | R66: =O66*P66*Q66 -> 0
A67: 3.3 | F67: =R67 -> 0 | G67: =ROUND(E67*F67,2) -> 0 | H67: =ROUND(G67*$D$3,2) -> 0 | O67: =IFERROR((L67-N67)/M67,"0") -> 0 | R67: =O67*P67*Q67 -> 0
A68: 3.4 | F68: =R68 -> 0 | G68: =ROUND(E68*F68,2) -> 0 | H68: =ROUND(G68*$D$3,2) -> 0 | O68: =IFERROR((L68-N68)/M68,"0") -> 0 | R68: =O68*P68*Q68 -> 0
A69: 3.5 | F69: =R69 -> 0 | G69: =ROUND(E69*F69,2) -> 0 | H69: =ROUND(G69*$D$3,2) -> 0 | O69: =IFERROR((L69-N69)/M69,"0") -> 0 | R69: =O69*P69*Q69 -> 0
A70: 3.6 | F70: =R70 -> 0 | G70: =ROUND(E70*F70,2) -> 0 | H70: =ROUND(G70*$D$3,2) -> 0 | O70: =IFERROR((L70-N70)/M70,"0") -> 0 | R70: =O70*P70*Q70 -> 0
A71: 3.7 | F71: =R71 -> 0 | G71: =ROUND(E71*F71,2) -> 0 | H71: =ROUND(G71*$D$3,2) -> 0 | O71: =IFERROR((L71-N71)/M71,"0") -> 0 | R71: =O71*P71*Q71 -> 0
A72: 3.8 | F72: =R72 -> 0 | G72: =ROUND(E72*F72,2) -> 0 | H72: =ROUND(G72*$D$3,2) -> 0 | O72: =IFERROR((L72-N72)/M72,"0") -> 0 | R72: =O72*P72*Q72 -> 0
A73: 3.9 | F73: =R73 -> 0 | G73: =ROUND(E73*F73,2) -> 0 | H73: =ROUND(G73*$D$3,2) -> 0 | O73: =IFERROR((L73-N73)/M73,"0") -> 0 | R73: =O73*P73*Q73 -> 0
A74: 3.10 | F74: =R74 -> 0 | G74: =ROUND(E74*F74,2) -> 0 | H74: =ROUND(G74*$D$3,2) -> 0 | O74: =IFERROR((L74-N74)/M74,"0") -> 0 | R74: =O74*P74*Q74 -> 0
A75: 3.11 | F75: =R75 -> 0 | G75: =ROUND(E75*F75,2) -> 0 | H75: =ROUND(G75*$D$3,2) -> 0 | O75: =IFERROR((L75-N75)/M75,"0") -> 0 | R75: =O75*P75*Q75 -> 0
A76: 3.12 | F76: =R76 -> 0 | G76: =ROUND(E76*F76,2) -> 0 | H76: =ROUND(G76*$D$3,2) -> 0 | O76: =IFERROR((L76-N76)/M76,"0") -> 0 | R76: =O76*P76*Q76 -> 0
... A84: 3.20 | F84: =R84 -> 0 | G84: =ROUND(E84*F84,2) -> 0 | H84: =ROUND(G84*$D$3,2) -> 0 | O84: =IFERROR((L84-N84)/M84,"0") -> 0 | R84: =O84*P84*Q84 -> 0
A85: 4 | B85: Išlaidos pagal sutartis vykdomiems moksliniams tyrimams, žinioms ir patentams | G85: =SUM(G86:G95) -> 0 | H85: =SUM(H86:H95) -> 0
A86: 4.1 | G86: =ROUND(E86*F86,2) -> 0 | H86: =ROUND(G86*$D$3,2) -> 0 | I86: Kad galėtumėte pasirinkti paslaugas, pirmiausia užpildykite lapą „Darbuotojai ir paslaugos“
A87: 4.2 | G87: =ROUND(E87*F87,2) -> 0 | H87: =ROUND(G87*$D$3,2) -> 0
A88: 4.3 | G88: =ROUND(E88*F88,2) -> 0 | H88: =ROUND(G88*$D$3,2) -> 0
A89: 4.4 | G89: =ROUND(E89*F89,2) -> 0 | H89: =ROUND(G89*$D$3,2) -> 0
A90: 4.5 | G90: =ROUND(E90*F90,2) -> 0 | H90: =ROUND(G90*$D$3,2) -> 0
A91: 4.6 | G91: =ROUND(E91*F91,2) -> 0 | H91: =ROUND(G91*$D$3,2) -> 0
A92: 4.7 | G92: =ROUND(E92*F92,2) -> 0 | H92: =ROUND(G92*$D$3,2) -> 0
A93: 4.8 | G93: =ROUND(E93*F93,2) -> 0 | H93: =ROUND(G93*$D$3,2) -> 0
A94: 4.9 | G94: =ROUND(E94*F94,2) -> 0 | H94: =ROUND(G94*$D$3,2) -> 0
A95: 4.10 | G95: =ROUND(E95*F95,2) -> 0 | H95: =ROUND(G95*$D$3,2) -> 0
A96: 5 | B96: Konsultavimo ir lygiaverčių paslaugų, naudojamų vien projektui, išlaidos | G96: =SUM(G97:G106) -> 0 | H96: =SUM(H97:H106) -> 0
A97: 5.1 | G97: =ROUND(E97*F97,2) -> 0 | H97: =ROUND(G97*$D$3,2) -> 0
A98: 5.2 | G98: =ROUND(E98*F98,2) -> 0 | H98: =ROUND(G98*$D$3,2) -> 0
A99: 5.3 | G99: =ROUND(E99*F99,2) -> 0 | H99: =ROUND(G99*$D$3,2) -> 0
A100: 5.4 | G100: =ROUND(E100*F100,2) -> 0 | H100: =ROUND(G100*$D$3,2) -> 0
A101: 5.5 | G101: =ROUND(E101*F101,2) -> 0 | H101: =ROUND(G101*$D$3,2) -> 0
A102: 5.6 | G102: =ROUND(E102*F102,2) -> 0 | H102: =ROUND(G102*$D$3,2) -> 0
A103: 5.7 | G103: =ROUND(E103*F103,2) -> 0 | H103: =ROUND(G103*$D$3,2) -> 0
A104: 5.8 | G104: =ROUND(E104*F104,2) -> 0 | H104: =ROUND(G104*$D$3,2) -> 0
A105: 5.9 | G105: =ROUND(E105*F105,2) -> 0 | H105: =ROUND(G105*$D$3,2) -> 0
A106: 5.10 | G106: =ROUND(E106*F106,2) -> 0 | H106: =ROUND(G106*$D$3,2) -> 0
A107: 6 | B107: Medžiagos, mažavertis inventorius, atsargos ir pan. produktai, priskirtini trumpalaikiam turtui ir tiesiogiai susiję su MTEP veikla | G107: =SUM(G108:G132) -> 0 | H107: =SUM(H108:H132) -> 0
A108: 6.1 | G108: =ROUND(E108*F108,2) -> 0 | H108: =ROUND(G108*$D$3,2) -> 0
A109: 6.2 | G109: =ROUND(E109*F109,2) -> 0 | H109: =ROUND(G109*$D$3,2) -> 0
A110: 6.3 | G110: =ROUND(E110*F110,2) -> 0 | H110: =ROUND(G110*$D$3,2) -> 0
A111: 6.4 | G111: =ROUND(E111*F111,2) -> 0 | H111: =ROUND(G111*$D$3,2) -> 0
A112: 6.5 | G112: =ROUND(E112*F112,2) -> 0 | H112: =ROUND(G112*$D$3,2) -> 0
A113: 6.6 | G113: =ROUND(E113*F113,2) -> 0 | H113: =ROUND(G113*$D$3,2) -> 0
A114: 6.7 | G114: =ROUND(E114*F114,2) -> 0 | H114: =ROUND(G114*$D$3,2) -> 0
...

Sheet 2
C1: Poveiklės pavadinimas: | D1: Moksliniai tyrimai (partneris 1)
A2: Projekto vykdytojas, partneris: | D2: ='Darbuotojai ir paslaugos'!A26 -> Partnerio Nr. 1 pavadinimas
C3: Finansavimo intensyvumas:
A5: Nr. | B5: Išlaidų pavadinimas | D5: Matavimo vnt. | E5: Kiekis | F5: Vieneto kaina be PVM, Eur | G5: Tinkamų finansuoti išlaidų suma be PVM, Eur | H5: Prašomas finansavimas, Eur | I5: Išlaidų pagrindimo dokumentų pavadinimas, data ir Nr., skaičiavimų paaiškinimas
B6: Iš viso tiesioginių išlaidų: | G6: =G7+G28+G64+G85+G96+G107+G133+G144 -> 0 | H6: =H7+H28+H64+H85+H96+H107+H133+H144 -> 0
A7: 1 | B7: Projektą vykdančio personalo darbo užmokestis ir išlaidos su darbo santykiais susijusiems darbdavio įsipareigojimams | G7: =SUM(G8:G27) -> 0 | H7: =SUM(H8:H27) -> 0
A8: 1.1 | C8: =IF(B8>0,VLOOKUP(B8,'Darbuotojai ir paslaugos'!C$6:F$65,2,FALSE),"") | D8: val. | E8: =IF(B8<>"",HLOOKUP(B8,'Vykdymo planas'!H$19:AA$32,14,FALSE),"") | F8: =IF(B8>0,ROUND(VLOOKUP(B8,'Darbuotojai ir paslaugos'!C$6:F$65,4,FALSE),2),0) -> 0 | G8: =IFERROR(ROUND(E8*F8,2),"0,00") -> 0,00 | H8: =ROUND(G8*$D$3,2) -> 0 | I8: Kad galėtumėte pasirinkti dartuotojus, pirmiausia užpildykite lapą „Darbuotojai ir paslaugos“
A9: 1.2 | C9: =IF(B9>0,VLOOKUP(B9,'Darbuotojai ir paslaugos'!C$6:F$65,2,FALSE),"") | D9: val. | E9: =IF(B9<>"",HLOOKUP(B9,'Vykdymo planas'!H$19:AA$32,14,FALSE),"") | F9: =IF(B9>0,ROUND(VLOOKUP(B9,'Darbuotojai ir paslaugos'!C$6:F$65,4,FALSE),2),0) -> 0 | G9: =IFERROR(ROUND(E9*F9,2),"0,00") -> 0,00 | H9: =ROUND(G9*$D$3,2) -> 0
A10: 1.3 | C10: =IF(B10>0,VLOOKUP(B10,'Darbuotojai ir paslaugos'!C$6:F$65,2,FALSE),"") | D10: val. | E10: =IF(B10<>"",HLOOKUP(B10,'Vykdymo planas'!H$19:AA$32,14,FALSE),"") | F10: =IF(B10>0,ROUND(VLOOKUP(B10,'Darbuotojai ir paslaugos'!C$6:F$65,4,FALSE),2),0) -> 0 | G10: =IFERROR(ROUND(E10*F10,2),"0,00") -> 0,00 | H10: =ROUND(G10*$D$3,2) -> 0
A11: 1.4 | C11: =IF(B11>0,VLOOKUP(B11,'Darbuotojai ir paslaugos'!C$6:F$65,2,FALSE),"") | D11: val. | E11: =IF(B11<>"",HLOOKUP(B11,'Vykdymo planas'!H$19:AA$32,14,FALSE),"") | F11: =IF(B11>0,ROUND(VLOOKUP(B11,'Darbuotojai ir paslaugos'!C$6:F$65,4,FALSE),2),0) -> 0 | G11: =IFERROR(ROUND(E11*F11,2),"0,00") -> 0,00 | H11: =ROUND(G11*$D$3,2) -> 0
A12: 1.5 | C12: =IF(B12>0,VLOOKUP(B12,'Darbuotojai ir paslaugos'!C$6:F$65,2,FALSE),"") | D12: val. | E12: =IF(B12<>"",HLOOKUP(B12,'Vykdymo planas'!H$19:AA$32,14,FALSE),"") | F12: =IF(B12>0,ROUND(VLOOKUP(B12,'Darbuotojai ir paslaugos'!C$6:F$65,4,FALSE),2),0) -> 0 | G12: =IFERROR(ROUND(E12*F12,2),"0,00") -> 0,00 | H12: =ROUND(G12*$D$3,2) -> 0
A13: 1.6 | C13: =IF(B13>0,VLOOKUP(B13,'Darbuotojai ir paslaugos'!C$6:F$65,2,FALSE),"") | D13: val. | E13: =IF(B13<>"",HLOOKUP(B13,'Vykdymo planas'!H$19:AA$32,14,FALSE),"") | F13: =IF(B13>0,ROUND(VLOOKUP(B13,'Darbuotojai ir paslaugos'!C$6:F$65,4,FALSE),2),0) -> 0 | G13: =IFERROR(ROUND(E13*F13,2),"0,00") -> 0,00 | H13: =ROUND(G13*$D$3,2) -> 0
A14: 1.7 | C14: =IF(B14>0,VLOOKUP(B14,'Darbuotojai ir paslaugos'!C$6:F$65,2,FALSE),"") | D14: val. | E14: =IF(B14<>"",HLOOKUP(B14,'Vykdymo planas'!H$19:AA$32,14,FALSE),"") | F14: =IF(B14>0,ROUND(VLOOKUP(B14,'Darbuotojai ir paslaugos'!C$6:F$65,4,FALSE),2),0) -> 0 | G14: =IFERROR(ROUND(E14*F14,2),"0,00") -> 0,00 | H14: =ROUND(G14*$D$3,2) -> 0
A15: 1.8 | C15: =IF(B15>0,VLOOKUP(B15,'Darbuotojai ir paslaugos'!C$6:F$65,2,FALSE),"") | D15: val. | E15: =IF(B15<>"",HLOOKUP(B15,'Vykdymo planas'!H$19:AA$32,14,FALSE),"") | F15: =IF(B15>0,ROUND(VLOOKUP(B15,'Darbuotojai ir paslaugos'!C$6:F$65,4,FALSE),2),0) -> 0 | G15: =IFERROR(ROUND(E15*F15,2),"0,00") -> 0,00 | H15: =ROUND(G15*$D$3,2) -> 0
A16: 1.9 | C16: =IF(B16>0,VLOOKUP(B16,'Darbuotojai ir paslaugos'!C$6:F$65,2,FALSE),"") | D16: val. | E16: =IF(B16<>"",HLOOKUP(B16,'Vykdymo planas'!H$19:AA$32,14,FALSE),"") | F16: =IF(B16>0,ROUND(VLOOKUP(B16,'Darbuotojai ir paslaugos'!C$6:F$65,4,FALSE),2),0) -> 0 | G16: =IFERROR(ROUND(E16*F16,2),"0,00") -> 0,00 | H16: =ROUND(G16*$D$3,2) -> 0
A17: 1.10 | C17: =IF(B17>0,VLOOKUP(B17,'Darbuotojai ir paslaugos'!C$6:F$65,2,FALSE),"") | D17: val. | E17: =IF(B17<>"",HLOOKUP(B17,'Vykdymo planas'!H$19:AA$32,14,FALSE),"") | F17: =IF(B17>0,ROUND(VLOOKUP(B17,'Darbuotojai ir paslaugos'!C$6:F$65,4,FALSE),2),0) -> 0 | G17: =IFERROR(ROUND(E17*F17,2),"0,00") -> 0,00 | H17: =ROUND(G17*$D$3,2) -> 0
A18: 1.11 | C18: =IF(B18>0,VLOOKUP(B18,'Darbuotojai ir paslaugos'!C$6:F$65,2,FALSE),"") | D18: val. | E18: =IF(B18<>"",HLOOKUP(B18,'Vykdymo planas'!H$19:AA$32,14,FALSE),"") | F18: =IF(B18>0,ROUND(VLOOKUP(B18,'Darbuotojai ir paslaugos'!C$6:F$65,4,FALSE),2),0) -> 0 | G18: =IFERROR(ROUND(E18*F18,2),"0,00") -> 0,00 | H18: =ROUND(G18*$D$3,2) -> 0
A19: 1.12 | C19: =IF(B19>0,VLOOKUP(B19,'Darbuotojai ir paslaugos'!C$6:F$65,2,FALSE),"") | D19: val. | E19: =IF(B19<>"",HLOOKUP(B19,'Vykdymo planas'!H$19:AA$32,14,FALSE),"") | F19: =IF(B19>0,ROUND(VLOOKUP(B19,'Darbuotojai ir paslaugos'!C$6:F$65,4,FALSE),2),0) -> 0 | G19: =IFERROR(ROUND(E19*F19,2),"0,00") -> 0,00 | H19: =ROUND(G19*$D$3,2) -> 0
A20: 1.13 | C20: =IF(B20>0,VLOOKUP(B20,'Darbuotojai ir paslaugos'!C$6:F$65,2,FALSE),"") | D20: val. | E20: =IF(B20<>"",HLOOKUP(B20,'Vykdymo planas'!H$19:AA$32,14,FALSE),"") | F20: =IF(B20>0,ROUND(VLOOKUP(B20,'Darbuotojai ir paslaugos'!C$6:F$65,4,FALSE),2),0) -> 0 | G20: =IFERROR(ROUND(E20*F20,2),"0,00") -> 0,00 | H20: =ROUND(G20*$D$3,2) -> 0
... A27: 1.20 | C27: =IF(B27>0,VLOOKUP(B27,'Darbuotojai ir paslaugos'!C$6:F$65,2,FALSE),"") | D27: val. | E27: =IF(B27<>"",HLOOKUP(B27,'Vykdymo planas'!H$19:AA$32,14,FALSE),"") | F27: =IF(B27>0,ROUND(VLOOKUP(B27,'Darbuotojai ir paslaugos'!C$6:F$65,4,FALSE),2),0) -> 0 | G27: =IFERROR(ROUND(E27*F27,2),"0,00") -> 0,00 | H27: =ROUND(G27*$D$3,2) -> 0
A28: 2 | B28: Projektą vykdančio personalo komandiruočių išlaidos | G28: =SUM(G29,G36,G43,G50,G57) -> 0 | H28: =SUM(H29,H36,H43,H50,H57) -> 0
A29: 2.1 | B29: Komandiruotės pavadinimas | C29: Iš viso komandiruotei | G29: =SUM(G30:G35) -> 0 | H29: =ROUND(G29*$D$3,2) -> 0 | I29: Komandiruotės šalis:
C30: Dienpinigiai | D30: dienos | E30: =J30 -> 0 | G30: =ROUND(E30*F30*J31,2) -> 0 | H30: =ROUND(G30*$D$3,2) -> 0 | I30: Komandiruotės trukmė: | K30: dienos
C31: Gyvenamojo ploto nuoma | D31: naktys | E31: =IF(E30>0,E30-1,0) -> 0 | G31: =ROUND(E31*F31*J31,2) -> 0 | H31: =ROUND(G31*$D$3,2) -> 0 | I31: Vykstančių asmenų skaičius: | K31: asmuo/asmenys
C32: Kelionės išlaidos | G32: =ROUND(E32*F32,2) -> 0 | H32: =ROUND(G32*$D$3,2) -> 0
C33: Dalyvavimo mokestis | G33: =ROUND(E33*F33,2) -> 0 | H33: =ROUND(G33*$D$3,2) -> 0
C34: Kitos išlaidų pavadinimas | G34: =ROUND(E34*F34,2) -> 0 | H34: =ROUND(G34*$D$3,2) -> 0
C35: Kitos išlaidų pavadinimas | G35: =ROUND(E35*F35,2) -> 0 | H35: =ROUND(G35*$D$3,2) -> 0
A36: 2.2 | B36: Komandiruotės pavadinimas | C36: Iš viso komandiruotei | G36: =SUM(G37:G42) -> 0 | H36: =ROUND(G36*$D$3,2) -> 0 | I36: Komandiruotės šalis:
C37: Dienpinigiai | D37: dienos | E37: =J37 -> 0 | G37: =ROUND(E37*F37*J38,2) -> 0 | H37: =ROUND(G37*$D$3,2) -> 0 | I37: Komandiruotės trukmė: | K37: dienos
C38: Gyvenamojo ploto nuoma | D38: naktys | E38: =IF(E37>0,E37-1,0) -> 0 | G38: =ROUND(E38*F38*J38,2) -> 0 | H38: =ROUND(G38*$D$3,2) -> 0 | I38: Vykstančių asmenų skaičius: | K38: asmuo/asmenys
C39: Kelionės išlaidos | G39: =ROUND(E39*F39,2) -> 0 | H39: =ROUND(G39*$D$3,2) -> 0
C40: Dalyvavimo mokestis | G40: =ROUND(E40*F40,2) -> 0 | H40: =ROUND(G40*$D$3,2) -> 0
C41: Kitos išlaidų pavadinimas | G41: =ROUND(E41*F41,2) -> 0 | H41: =ROUND(G41*$D$3,2) -> 0
C42: Kitos išlaidų pavadinimas | G42: =ROUND(E42*F42,2) -> 0 | H42: =ROUND(G42*$D$3,2) -> 0
A43: 2.3 | B43: Komandiruotės pavadinimas | C43: Iš viso komandiruotei | G43: =SUM(G44:G49) -> 0 | H43: =ROUND(G43*$D$3,2) -> 0 | I43: Komandiruotės šalis:
C44: Dienpinigiai | D44: dienos | E44: =J44 -> 0 | G44: =ROUND(E44*F44*J45,2) -> 0 | H44: =ROUND(G44*$D$3,2) -> 0 | I44: Komandiruotės trukmė: | K44: dienos
C45: Gyvenamojo ploto nuoma | D45: naktys | E45: =IF(E44>0,E44-1,0) -> 0 | G45: =ROUND(E45*F45*J45,2) -> 0 | H45: =ROUND(G45*$D$3,2) -> 0 | I45: Vykstančių asmenų skaičius: | K45: asmuo/asmenys
C46: Kelionės išlaidos | G46: =ROUND(E46*F46,2) -> 0 | H46: =ROUND(G46*$D$3,2) -> 0
C47: Dalyvavimo mokestis | G47: =ROUND(E47*F47,2) -> 0 | H47: =ROUND(G47*$D$3,2) -> 0
C48: Kitos išlaidų pavadinimas | G48: =ROUND(E48*F48,2) -> 0 | H48: =ROUND(G48*$D$3,2) -> 0
C49: Kitos išlaidų pavadinimas | G49: =ROUND(E49*F49,2) -> 0 | H49: =ROUND(G49*$D$3,2) -> 0
A50: 2.4 | B50: Komandiruotės pavadinimas | C50: Iš viso komandiruotei | G50: =SUM(G51:G56) -> 0 | H50: =ROUND(G50*$D$3,2) -> 0 | I50: Komandiruotės šalis:
C51: Dienpinigiai | D51: dienos | E51: =J51 -> 0 | G51: =ROUND(E51*F51*J52,2) -> 0 | H51: =ROUND(G51*$D$3,2) -> 0 | I51: Komandiruotės trukmė: | K51: dienos
C52: Gyvenamojo ploto nuoma | D52: naktys | E52: =IF(E51>0,E51-1,0) -> 0 | G52: =ROUND(E52*F52*J52,2) -> 0 | H52: =ROUND(G52*$D$3,2) -> 0 | I52: Vykstančių asmenų skaičius: | K52: asmuo/asmenys
C53: Kelionės išlaidos | G53: =ROUND(E53*F53,2) -> 0 | H53: =ROUND(G53*$D$3,2) -> 0
C54: Dalyvavimo mokestis | G54: =ROUND(E54*F54,2) -> 0 | H54: =ROUND(G54*$D$3,2) -> 0
C55: Kitos išlaidų pavadinimas | G55: =ROUND(E55*F55,2) -> 0 | H55: =ROUND(G55*$D$3,2) -> 0
C56: Kitos išlaidų pavadinimas | G56: =ROUND(E56*F56,2) -> 0 | H56: =ROUND(G56*$D$3,2) -> 0
A57: 2.5 | B57: Komandiruotės pavadinimas | C57: Iš viso komandiruotei | G57: =SUM(G58:G63) -> 0 | H57: =ROUND(G57*$D$3,2) -> 0 | I57: Komandiruotės šalis:
C58: Dienpinigiai | D58: dienos | E58: =J58 -> 0 | G58: =ROUND(E58*F58*J59,2) -> 0 | H58: =ROUND(G58*$D$3,2) -> 0 | I58: Komandiruotės trukmė: | K58: dienos
C59: Gyvenamojo ploto nuoma | D59: naktys | E59: =IF(E58>0,E58-1,0) -> 0 | G59: =ROUND(E59*F59*J59,2) -> 0 | H59: =ROUND(G59*$D$3,2) -> 0 | I59: Vykstančių asmenų skaičius: | K59: asmuo/asmenys
C60: Kelionės išlaidos | G60: =ROUND(E60*F60,2) -> 0 | H60: =ROUND(G60*$D$3,2) -> 0
C61: Dalyvavimo mokestis | G61: =ROUND(E61*F61,2) -> 0 | H61: =ROUND(G61*$D$3,2) -> 0
C62: Kitos išlaidų pavadinimas | G62: =ROUND(E62*F62,2) -> 0 | H62: =ROUND(G62*$D$3,2) -> 0
C63: Kitos išlaidų pavadinimas | G63: =ROUND(E63*F63,2) -> 0 | H63: =ROUND(G63*$D$3,2) -> 0
A64: 3 | B64: Nusidėvėjimo išlaidos priemonėms ir įrenginiams | G64: =SUM(G65:G84) -> 0 | H64: =SUM(H65:H84) -> 0 | K64: Turto įvedimo į eksploataciją data | L64: Turto įsigijimo vertė, Eur | M64: Turto nudėvėjimo, amortizacijos laikotarpis, mėn. | N64: Numatoma turto likutinė vertė, Eur | O64: 1 mėn. nudėvėjimo, amortizacijos suma, Eur | P64: Turto naudojamo projekto reikmėms laikas, mėn. | Q64: Turto panaudojimo projekto reikmėms dalis (proc.) | R64: Projektui priskirta turto nusidėvėjimo, amortizacijos suma per projekto laikotarpį, Eur
A65: 3.1 | F65: =R65 -> 0 | G65: =ROUND(E65*F65,2) -> 0 | H65: =ROUND(G65*$D$3,2) -> 0 | O65: =IFERROR((L65-N65)/M65,"0") -> 0 | R65: =O65*P65*Q65 -> 0
A66: 3.2 | F66: =R66 -> 0 | G66: =ROUND(E66*F66,2) -> 0 | H66: =ROUND(G66*$D$3,2) -> 0 | O66: =IFERROR((L66-N66)/M66,"0") -> 0 | R66: =O66*P66*Q66 -> 0
A67: 3.3 | F67: =R67 -> 0 | G67: =ROUND(E67*F67,2) -> 0 | H67: =ROUND(G67*$D$3,2) -> 0 | O67: =IFERROR((L67-N67)/M67,"0") -> 0 | R67: =O67*P67*Q67 -> 0
A68: 3.4 | F68: =R68 -> 0 | G68: =ROUND(E68*F68,2) -> 0 | H68: =ROUND(G68*$D$3,2) -> 0 | O68: =IFERROR((L68-N68)/M68,"0") -> 0 | R68: =O68*P68*Q68 -> 0
A69: 3.5 | F69: =R69 -> 0 | G69: =ROUND(E69*F69,2) -> 0 | H69: =ROUND(G69*$D$3,2) -> 0 | O69: =IFERROR((L69-N69)/M69,"0") -> 0 | R69: =O69*P69*Q69 -> 0
A70: 3.6 | F70: =R70 -> 0 | G70: =ROUND(E70*F70,2) -> 0 | H70: =ROUND(G70*$D$3,2) -> 0 | O70: =IFERROR((L70-N70)/M70,"0") -> 0 | R70: =O70*P70*Q70 -> 0
A71: 3.7 | F71: =R71 -> 0 | G71: =ROUND(E71*F71,2) -> 0 | H71: =ROUND(G71*$D$3,2) -> 0 | O71: =IFERROR((L71-N71)/M71,"0") -> 0 | R71: =O71*P71*Q71 -> 0
A72: 3.8 | F72: =R72 -> 0 | G72: =ROUND(E72*F72,2) -> 0 | H72: =ROUND(G72*$D$3,2) -> 0 | O72: =IFERROR((L72-N72)/M72,"0") -> 0 | R72: =O72*P72*Q72 -> 0
A73: 3.9 | F73: =R73 -> 0 | G73: =ROUND(E73*F73,2) -> 0 | H73: =ROUND(G73*$D$3,2) -> 0 | O73: =IFERROR((L73-N73)/M73,"0") -> 0 | R73: =O73*P73*Q73 -> 0
A74: 3.10 | F74: =R74 -> 0 | G74: =ROUND(E74*F74,2) -> 0 | H74: =ROUND(G74*$D$3,2) -> 0 | O74: =IFERROR((L74-N74)/M74,"0") -> 0 | R74: =O74*P74*Q74 -> 0
A75: 3.11 | F75: =R75 -> 0 | G75: =ROUND(E75*F75,2) -> 0 | H75: =ROUND(G75*$D$3,2) -> 0 | O75: =IFERROR((L75-N75)/M75,"0") -> 0 | R75: =O75*P75*Q75 -> 0
A76: 3.12 | F76: =R76 -> 0 | G76: =ROUND(E76*F76,2) -> 0 | H76: =ROUND(G76*$D$3,2) -> 0 | O76: =IFERROR((L76-N76)/M76,"0") -> 0 | R76: =O76*P76*Q76 -> 0
... A84: 3.20 | F84: =R84 -> 0 | G84: =ROUND(E84*F84,2) -> 0 | H84: =ROUND(G84*$D$3,2) -> 0 | O84: =IFERROR((L84-N84)/M84,"0") -> 0 | R84: =O84*P84*Q84 -> 0
A85: 4 | B85: Išlaidos pagal sutartis vykdomiems moksliniams tyrimams, žinioms ir patentams | G85: =SUM(G86:G95) -> 0 | H85: =SUM(H86:H95) -> 0
A86: 4.1 | G86: =ROUND(E86*F86,2) -> 0 | H86: =ROUND(G86*$D$3,2) -> 0 | I86: Kad galėtumėte pasirinkti paslaugas, pirmiausia užpildykite lapą „Darbuotojai ir paslaugos“
A87: 4.2 | G87: =ROUND(E87*F87,2) -> 0 | H87: =ROUND(G87*$D$3,2) -> 0
A88: 4.3 | G88: =ROUND(E88*F88,2) -> 0 | H88: =ROUND(G88*$D$3,2) -> 0
A89: 4.4 | G89: =ROUND(E89*F89,2) -> 0 | H89: =ROUND(G89*$D$3,2) -> 0
A90: 4.5 | G90: =ROUND(E90*F90,2) -> 0 | H90: =ROUND(G90*$D$3,2) -> 0
A91: 4.6 | G91: =ROUND(E91*F91,2) -> 0 | H91: =ROUND(G91*$D$3,2) -> 0
A92: 4.7 | G92: =ROUND(E92*F92,2) -> 0 | H92: =ROUND(G92*$D$3,2) -> 0
A93: 4.8 | G93: =ROUND(E93*F93,2) -> 0 | H93: =ROUND(G93*$D$3,2) -> 0
A94: 4.9 | G94: =ROUND(E94*F94,2) -> 0 | H94: =ROUND(G94*$D$3,2) -> 0
A95: 4.10 | G95: =ROUND(E95*F95,2) -> 0 | H95: =ROUND(G95*$D$3,2) -> 0
A96: 5 | B96: Konsultavimo ir lygiaverčių paslaugų, naudojamų vien projektui, išlaidos | G96: =SUM(G97:G106) -> 0 | H96: =SUM(H97:H106) -> 0
A97: 5.1 | G97: =ROUND(E97*F97,2) -> 0 | H97: =ROUND(G97*$D$3,2) -> 0
A98: 5.2 | G98: =ROUND(E98*F98,2) -> 0 | H98: =ROUND(G98*$D$3,2) -> 0
A99: 5.3 | G99: =ROUND(E99*F99,2) -> 0 | H99: =ROUND(G99*$D$3,2) -> 0
A100: 5.4 | G100: =ROUND(E100*F100,2) -> 0 | H100: =ROUND(G100*$D$3,2) -> 0
A101: 5.5 | G101: =ROUND(E101*F101,2) -> 0 | H101: =ROUND(G101*$D$3,2) -> 0
A102: 5.6 | G102: =ROUND(E102*F102,2) -> 0 | H102: =ROUND(G102*$D$3,2) -> 0
A103: 5.7 | G103: =ROUND(E103*F103,2) -> 0 | H103: =ROUND(G103*$D$3,2) -> 0
A104: 5.8 | G104: =ROUND(E104*F104,2) -> 0 | H104: =ROUND(G104*$D$3,2) -> 0
A105: 5.9 | G105: =ROUND(E105*F105,2) -> 0 | H105: =ROUND(G105*$D$3,2) -> 0
A106: 5.10 | G106: =ROUND(E106*F106,2) -> 0 | H106: =ROUND(G106*$D$3,2) -> 0
A107: 6 | B107: Medžiagos, mažavertis inventorius, atsargos ir pan. produktai, priskirtini trumpalaikiam turtui ir tiesiogiai susiję su MTEP veikla | G107: =SUM(G108:G132) -> 0 | H107: =SUM(H108:H132) -> 0
A108: 6.1 | G108: =ROUND(E108*F108,2) -> 0 | H108: =ROUND(G108*$D$3,2) -> 0
A109: 6.2 | G109: =ROUND(E109*F109,2) -> 0 | H109: =ROUND(G109*$D$3,2) -> 0
A110: 6.3 | G110: =ROUND(E110*F110,2) -> 0 | H110: =ROUND(G110*$D$3,2) -> 0
A111: 6.4 | G111: =ROUND(E111*F111,2) -> 0 | H111: =ROUND(G111*$D$3,2) -> 0
A112: 6.5 | G112: =ROUND(E112*F112,2) -> 0 | H112: =ROUND(G112*$D$3,2) -> 0
A113: 6.6 | G113: =ROUND(E113*F113,2) -> 0 | H113: =ROUND(G113*$D$3,2) -> 0
A114: 6.7 | G114: =ROUND(E114*F114,2) -> 0 | H114: =ROUND(G114*$D$3,2) -> 0
...

Sheet 3
C1: Poveiklės pavadinimas: | D1: Moksliniai tyrimai (partneris 2)
A2: Projekto vykdytojas, partneris: | D2: ='Darbuotojai ir paslaugos'!A46 -> Partnerio Nr. 2 pavadinimas
C3: Finansavimo intensyvumas:
A5: Nr. | B5: Išlaidų pavadinimas | D5: Matavimo vnt. | E5: Kiekis | F5: Vieneto kaina be PVM, Eur | G5: Tinkamų finansuoti išlaidų suma be PVM, Eur | H5: Prašomas finansavimas, Eur | I5: Išlaidų pagrindimo dokumentų pavadinimas, data ir Nr., skaičiavimų paaiškinimas
B6: Iš viso tiesioginių išlaidų: | G6: =G7+G28+G64+G85+G96+G107+G133+G144 -> 0 | H6: =H7+H28+H64+H85+H96+H107+H133+H144 -> 0
A7: 1 | B7: Projektą vykdančio personalo darbo užmokestis ir išlaidos su darbo santykiais susijusiems darbdavio įsipareigojimams | G7: =SUM(G8:G27) -> 0 | H7: =SUM(H8:H27) -> 0
A8: 1.1 | C8: =IF(B8>0,VLOOKUP(B8,'Darbuotojai ir paslaugos'!C$6:F$65,2,FALSE),"") | D8: val. | E8: =IF(B8<>"",HLOOKUP(B8,'Vykdymo planas'!H$35:AA$48,14,FALSE),"") | F8: =IF(B8>0,ROUND(VLOOKUP(B8,'Darbuotojai ir paslaugos'!C$6:F$65,4,FALSE),2),0) -> 0 | G8: =IFERROR(ROUND(E8*F8,2),"0,00") -> 0,00 | H8: =ROUND(G8*$D$3,2) -> 0 | I8: Kad galėtumėte pasirinkti dartuotojus, pirmiausia užpildykite lapą „Darbuotojai ir paslaugos“
A9: 1.2 | C9: =IF(B9>0,VLOOKUP(B9,'Darbuotojai ir paslaugos'!C$6:F$65,2,FALSE),"") | D9: val. | E9: =IF(B9<>"",HLOOKUP(B9,'Vykdymo planas'!H$35:AA$48,14,FALSE),"") | F9: =IF(B9>0,ROUND(VLOOKUP(B9,'Darbuotojai ir paslaugos'!C$6:F$65,4,FALSE),2),0) -> 0 | G9: =IFERROR(ROUND(E9*F9,2),"0,00") -> 0,00 | H9: =ROUND(G9*$D$3,2) -> 0
A10: 1.3 | C10: =IF(B10>0,VLOOKUP(B10,'Darbuotojai ir paslaugos'!C$6:F$65,2,FALSE),"") | D10: val. | E10: =IF(B10<>"",HLOOKUP(B10,'Vykdymo planas'!H$35:AA$48,14,FALSE),"") | F10: =IF(B10>0,ROUND(VLOOKUP(B10,'Darbuotojai ir paslaugos'!C$6:F$65,4,FALSE),2),0) -> 0 | G10: =IFERROR(ROUND(E10*F10,2),"0,00") -> 0,00 | H10: =ROUND(G10*$D$3,2) -> 0
A11: 1.4 | C11: =IF(B11>0,VLOOKUP(B11,'Darbuotojai ir paslaugos'!C$6:F$65,2,FALSE),"") | D11: val. | E11: =IF(B11<>"",HLOOKUP(B11,'Vykdymo planas'!H$35:AA$48,14,FALSE),"") | F11: =IF(B11>0,ROUND(VLOOKUP(B11,'Darbuotojai ir paslaugos'!C$6:F$65,4,FALSE),2),0) -> 0 | G11: =IFERROR(ROUND(E11*F11,2),"0,00") -> 0,00 | H11: =ROUND(G11*$D$3,2) -> 0
A12: 1.5 | C12: =IF(B12>0,VLOOKUP(B12,'Darbuotojai ir paslaugos'!C$6:F$65,2,FALSE),"") | D12: val. | E12: =IF(B12<>"",HLOOKUP(B12,'Vykdymo planas'!H$35:AA$48,14,FALSE),"") | F12: =IF(B12>0,ROUND(VLOOKUP(B12,'Darbuotojai ir paslaugos'!C$6:F$65,4,FALSE),2),0) -> 0 | G12: =IFERROR(ROUND(E12*F12,2),"0,00") -> 0,00 | H12: =ROUND(G12*$D$3,2) -> 0
A13: 1.6 | C13: =IF(B13>0,VLOOKUP(B13,'Darbuotojai ir paslaugos'!C$6:F$65,2,FALSE),"") | D13: val. | E13: =IF(B13<>"",HLOOKUP(B13,'Vykdymo planas'!H$35:AA$48,14,FALSE),"") | F13: =IF(B13>0,ROUND(VLOOKUP(B13,'Darbuotojai ir paslaugos'!C$6:F$65,4,FALSE),2),0) -> 0 | G13: =IFERROR(ROUND(E13*F13,2),"0,00") -> 0,00 | H13: =ROUND(G13*$D$3,2) -> 0
A14: 1.7 | C14: =IF(B14>0,VLOOKUP(B14,'Darbuotojai ir paslaugos'!C$6:F$65,2,FALSE),"") | D14: val. | E14: =IF(B14<>"",HLOOKUP(B14,'Vykdymo planas'!H$35:AA$48,14,FALSE),"") | F14: =IF(B14>0,ROUND(VLOOKUP(B14,'Darbuotojai ir paslaugos'!C$6:F$65,4,FALSE),2),0) -> 0 | G14: =IFERROR(ROUND(E14*F14,2),"0,00") -> 0,00 | H14: =ROUND(G14*$D$3,2) -> 0
A15: 1.8 | C15: =IF(B15>0,VLOOKUP(B15,'Darbuotojai ir paslaugos'!C$6:F$65,2,FALSE),"") | D15: val. | E15: =IF(B15<>"",HLOOKUP(B15,'Vykdymo planas'!H$35:AA$48,14,FALSE),"") | F15: =IF(B15>0,ROUND(VLOOKUP(B15,'Darbuotojai ir paslaugos'!C$6:F$65,4,FALSE),2),0) -> 0 | G15: =IFERROR(ROUND(E15*F15,2),"0,00") -> 0,00 | H15: =ROUND(G15*$D$3,2) -> 0
A16: 1.9 | C16: =IF(B16>0,VLOOKUP(B16,'Darbuotojai ir paslaugos'!C$6:F$65,2,FALSE),"") | D16: val. | E16: =IF(B16<>"",HLOOKUP(B16,'Vykdymo planas'!H$35:AA$48,14,FALSE),"") | F16: =IF(B16>0,ROUND(VLOOKUP(B16,'Darbuotojai ir paslaugos'!C$6:F$65,4,FALSE),2),0) -> 0 | G16: =IFERROR(ROUND(E16*F16,2),"0,00") -> 0,00 | H16: =ROUND(G16*$D$3,2) -> 0
A17: 1.10 | C17: =IF(B17>0,VLOOKUP(B17,'Darbuotojai ir paslaugos'!C$6:F$65,2,FALSE),"") | D17: val. | E17: =IF(B17<>"",HLOOKUP(B17,'Vykdymo planas'!H$35:AA$48,14,FALSE),"") | F17: =IF(B17>0,ROUND(VLOOKUP(B17,'Darbuotojai ir paslaugos'!C$6:F$65,4,FALSE),2),0) -> 0 | G17: =IFERROR(ROUND(E17*F17,2),"0,00") -> 0,00 | H17: =ROUND(G17*$D$3,2) -> 0
A18: 1.11 | C18: =IF(B18>0,VLOOKUP(B18,'Darbuotojai ir paslaugos'!C$6:F$65,2,FALSE),"") | D18: val. | E18: =IF(B18<>"",HLOOKUP(B18,'Vykdymo planas'!H$35:AA$48,14,FALSE),"") | F18: =IF(B18>0,ROUND(VLOOKUP(B18,'Darbuotojai ir paslaugos'!C$6:F$65,4,FALSE),2),0) -> 0 | G18: =IFERROR(ROUND(E18*F18,2),"0,00") -> 0,00 | H18: =ROUND(G18*$D$3,2) -> 0
A19: 1.12 | C19: =IF(B19>0,VLOOKUP(B19,'Darbuotojai ir paslaugos'!C$6:F$65,2,FALSE),"") | D19: val. | E19: =IF(B19<>"",HLOOKUP(B19,'Vykdymo planas'!H$35:AA$48,14,FALSE),"") | F19: =IF(B19>0,ROUND(VLOOKUP(B19,'Darbuotojai ir paslaugos'!C$6:F$65,4,FALSE),2),0) -> 0 | G19: =IFERROR(ROUND(E19*F19,2),"0,00") -> 0,00 | H19: =ROUND(G19*$D$3,2) -> 0
A20: 1.13 | C20: =IF(B20>0,VLOOKUP(B20,'Darbuotojai ir paslaugos'!C$6:F$65,2,FALSE),"") | D20: val. | E20: =IF(B20<>"",HLOOKUP(B20,'Vykdymo planas'!H$35:AA$48,14,FALSE),"") | F20: =IF(B20>0,ROUND(VLOOKUP(B20,'Darbuotojai ir paslaugos'!C$6:F$65,4,FALSE),2),0) -> 0 | G20: =IFERROR(ROUND(E20*F20,2),"0,00") -> 0,00 | H20: =ROUND(G20*$D$3,2) -> 0
... A27: 1.20 | C27: =IF(B27>0,VLOOKUP(B27,'Darbuotojai ir paslaugos'!C$6:F$65,2,FALSE),"") | D27: val. | E27: =IF(B27<>"",HLOOKUP(B27,'Vykdymo planas'!H$35:AA$48,14,FALSE),"") | F27: =IF(B27>0,ROUND(VLOOKUP(B27,'Darbuotojai ir paslaugos'!C$6:F$65,4,FALSE),2),0) -> 0 | G27: =IFERROR(ROUND(E27*F27,2),"0,00") -> 0,00 | H27: =ROUND(G27*$D$3,2) -> 0
A28: 2 | B28: Projektą vykdančio personalo komandiruočių išlaidos | G28: =SUM(G29,G36,G43,G50,G57) -> 0 | H28: =SUM(H29,H36,H43,H50,H57) -> 0
A29: 2.1 | B29: Komandiruotės pavadinimas | C29: Iš viso komandiruotei | G29: =SUM(G30:G35) -> 0 | H29: =ROUND(G29*$D$3,2) -> 0 | I29: Komandiruotės šalis:
C30: Dienpinigiai | D30: dienos | E30: =J30 -> 0 | G30: =ROUND(E30*F30*J31,2) -> 0 | H30: =ROUND(G30*$D$3,2) -> 0 | I30: Komandiruotės trukmė: | K30: dienos
C31: Gyvenamojo ploto nuoma | D31: naktys | E31: =IF(E30>0,E30-1,0) -> 0 | G31: =ROUND(E31*F31*J31,2) -> 0 | H31: =ROUND(G31*$D$3,2) -> 0 | I31: Vykstančių asmenų skaičius: | K31: asmuo/asmenys
C32: Kelionės išlaidos | G32: =ROUND(E32*F32,2) -> 0 | H32: =ROUND(G32*$D$3,2) -> 0
C33: Dalyvavimo mokestis | G33: =ROUND(E33*F33,2) -> 0 | H33: =ROUND(G33*$D$3,2) -> 0
C34: Kitos išlaidų pavadinimas | G34: =ROUND(E34*F34,2) -> 0 | H34: =ROUND(G34*$D$3,2) -> 0
C35: Kitos išlaidų pavadinimas | G35: =ROUND(E35*F35,2) -> 0 | H35: =ROUND(G35*$D$3,2) -> 0
A36: 2.2 | B36: Komandiruotės pavadinimas | C36: Iš viso komandiruotei | G36: =SUM(G37:G42) -> 0 | H36: =ROUND(G36*$D$3,2) -> 0 | I36: Komandiruotės šalis:
C37: Dienpinigiai | D37: dienos | E37: =J37 -> 0 | G37: =ROUND(E37*F37*J38,2) -> 0 | H37: =ROUND(G37*$D$3,2) -> 0 | I37: Komandiruotės trukmė: | K37: dienos
C38: Gyvenamojo ploto nuoma | D38: naktys | E38: =IF(E37>0,E37-1,0) -> 0 | G38: =ROUND(E38*F38*J38,2) -> 0 | H38: =ROUND(G38*$D$3,2) -> 0 | I38: Vykstančių asmenų skaičius: | K38: asmuo/asmenys
C39: Kelionės išlaidos | G39: =ROUND(E39*F39,2) -> 0 | H39: =ROUND(G39*$D$3,2) -> 0
C40: Dalyvavimo mokestis | G40: =ROUND(E40*F40,2) -> 0 | H40: =ROUND(G40*$D$3,2) -> 0
C41: Kitos išlaidų pavadinimas | G41: =ROUND(E41*F41,2) -> 0 | H41: =ROUND(G41*$D$3,2) -> 0
C42: Kitos išlaidų pavadinimas | G42: =ROUND(E42*F42,2) -> 0 | H42: =ROUND(G42*$D$3,2) -> 0
A43: 2.3 | B43: Komandiruotės pavadinimas | C43: Iš viso komandiruotei | G43: =SUM(G44:G49) -> 0 | H43: =ROUND(G43*$D$3,2) -> 0 | I43: Komandiruotės šalis:
C44: Dienpinigiai | D44: dienos | E44: =J44 -> 0 | G44: =ROUND(E44*F44*J45,2) -> 0 | H44: =ROUND(G44*$D$3,2) -> 0 | I44: Komandiruotės trukmė: | K44: dienos
C45: Gyvenamojo ploto nuoma | D45: naktys | E45: =IF(E44>0,E44-1,0) -> 0 | G45: =ROUND(E45*F45*J45,2) -> 0 | H45: =ROUND(G45*$D$3,2) -> 0 | I45: Vykstančių asmenų skaičius: | K45: asmuo/asmenys
C46: Kelionės išlaidos | G46: =ROUND(E46*F46,2) -> 0 | H46: =ROUND(G46*$D$3,2) -> 0
C47: Dalyvavimo mokestis | G47: =ROUND(E47*F47,2) -> 0 | H47: =ROUND(G47*$D$3,2) -> 0
C48: Kitos išlaidų pavadinimas | G48: =ROUND(E48*F48,2) -> 0 | H48: =ROUND(G48*$D$3,2) -> 0
C49: Kitos išlaidų pavadinimas | G49: =ROUND(E49*F49,2) -> 0 | H49: =ROUND(G49*$D$3,2) -> 0
A50: 2.4 | B50: Komandiruotės pavadinimas | C50: Iš viso komandiruotei | G50: =SUM(G51:G56) -> 0 | H50: =ROUND(G50*$D$3,2) -> 0 | I50: Komandiruotės šalis:
C51: Dienpinigiai | D51: dienos | E51: =J51 -> 0 | G51: =ROUND(E51*F51*J52,2) -> 0 | H51: =ROUND(G51*$D$3,2) -> 0 | I51: Komandiruotės trukmė: | K51: dienos
C52: Gyvenamojo ploto nuoma | D52: naktys | E52: =IF(E51>0,E51-1,0) -> 0 | G52: =ROUND(E52*F52*J52,2) -> 0 | H52: =ROUND(G52*$D$3,2) -> 0 | I52: Vykstančių asmenų skaičius: | K52: asmuo/asmenys
C53: Kelionės išlaidos | G53: =ROUND(E53*F53,2) -> 0 | H53: =ROUND(G53*$D$3,2) -> 0
C54: Dalyvavimo mokestis | G54: =ROUND(E54*F54,2) -> 0 | H54: =ROUND(G54*$D$3,2) -> 0
C55: Kitos išlaidų pavadinimas | G55: =ROUND(E55*F55,2) -> 0 | H55: =ROUND(G55*$D$3,2) -> 0
C56: Kitos išlaidų pavadinimas | G56: =ROUND(E56*F56,2) -> 0 | H56: =ROUND(G56*$D$3,2) -> 0
A57: 2.5 | B57: Komandiruotės pavadinimas | C57: Iš viso komandiruotei | G57: =SUM(G58:G63) -> 0 | H57: =ROUND(G57*$D$3,2) -> 0 | I57: Komandiruotės šalis:
C58: Dienpinigiai | D58: dienos | E58: =J58 -> 0 | G58: =ROUND(E58*F58*J59,2) -> 0 | H58: =ROUND(G58*$D$3,2) -> 0 | I58: Komandiruotės trukmė: | K58: dienos
C59: Gyvenamojo ploto nuoma | D59: naktys | E59: =IF(E58>0,E58-1,0) -> 0 | G59: =ROUND(E59*F59*J59,2) -> 0 | H59: =ROUND(G59*$D$3,2) -> 0 | I59: Vykstančių asmenų skaičius: | K59: asmuo/asmenys
C60: Kelionės išlaidos | G60: =ROUND(E60*F60,2) -> 0 | H60: =ROUND(G60*$D$3,2) -> 0
C61: Dalyvavimo mokestis | G61: =ROUND(E61*F61,2) -> 0 | H61: =ROUND(G61*$D$3,2) -> 0
C62: Kitos išlaidų pavadinimas | G62: =ROUND(E62*F62,2) -> 0 | H62: =ROUND(G62*$D$3,2) -> 0
C63: Kitos išlaidų pavadinimas | G63: =ROUND(E63*F63,2) -> 0 | H63: =ROUND(G63*$D$3,2) -> 0
A64: 3 | B64: Nusidėvėjimo išlaidos priemonėms ir įrenginiams | G64: =SUM(G65:G84) -> 0 | H64: =SUM(H65:H84) -> 0 | K64: Turto įvedimo į eksploataciją data | L64: Turto įsigijimo vertė, Eur | M64: Turto nudėvėjimo, amortizacijos laikotarpis, mėn. | N64: Numatoma turto likutinė vertė, Eur | O64: 1 mėn. nudėvėjimo, amortizacijos suma, Eur | P64: Turto naudojamo projekto reikmėms laikas, mėn. | Q64: Turto panaudojimo projekto reikmėms dalis (proc.) | R64: Projektui priskirta turto nusidėvėjimo, amortizacijos suma per projekto laikotarpį, Eur
A65: 3.1 | F65: =R65 -> 0 | G65: =ROUND(E65*F65,2) -> 0 | H65: =ROUND(G65*$D$3,2) -> 0 | O65: =IFERROR((L65-N65)/M65,"0") -> 0 | R65: =O65*P65*Q65 -> 0
A66: 3.2 | F66: =R66 -> 0 | G66: =ROUND(E66*F66,2) -> 0 | H66: =ROUND(G66*$D$3,2) -> 0 | O66: =IFERROR((L66-N66)/M66,"0") -> 0 | R66: =O66*P66*Q66 -> 0
A67: 3.3 | F67: =R67 -> 0 | G67: =ROUND(E67*F67,2) -> 0 | H67: =ROUND(G67*$D$3,2) -> 0 | O67: =IFERROR((L67-N67)/M67,"0") -> 0 | R67: =O67*P67*Q67 -> 0
A68: 3.4 | F68: =R68 -> 0 | G68: =ROUND(E68*F68,2) -> 0 | H68: =ROUND(G68*$D$3,2) -> 0 | O68: =IFERROR((L68-N68)/M68,"0") -> 0 | R68: =O68*P68*Q68 -> 0
A69: 3.5 | F69: =R69 -> 0 | G69: =ROUND(E69*F69,2) -> 0 | H69: =ROUND(G69*$D$3,2) -> 0 | O69: =IFERROR((L69-N69)/M69,"0") -> 0 | R69: =O69*P69*Q69 -> 0
A70: 3.6 | F70: =R70 -> 0 | G70: =ROUND(E70*F70,2) -> 0 | H70: =ROUND(G70*$D$3,2) -> 0 | O70: =IFERROR((L70-N70)/M70,"0") -> 0 | R70: =O70*P70*Q70 -> 0
A71: 3.7 | F71: =R71 -> 0 | G71: =ROUND(E71*F71,2) -> 0 | H71: =ROUND(G71*$D$3,2) -> 0 | O71: =IFERROR((L71-N71)/M71,"0") -> 0 | R71: =O71*P71*Q71 -> 0
A72: 3.8 | F72: =R72 -> 0 | G72: =ROUND(E72*F72,2) -> 0 | H72: =ROUND(G72*$D$3,2) -> 0 | O72: =IFERROR((L72-N72)/M72,"0") -> 0 | R72: =O72*P72*Q72 -> 0
A73: 3.9 | F73: =R73 -> 0 | G73: =ROUND(E73*F73,2) -> 0 | H73: =ROUND(G73*$D$3,2) -> 0 | O73: =IFERROR((L73-N73)/M73,"0") -> 0 | R73: =O73*P73*Q73 -> 0
A74: 3.10 | F74: =R74 -> 0 | G74: =ROUND(E74*F74,2) -> 0 | H74: =ROUND(G74*$D$3,2) -> 0 | O74: =IFERROR((L74-N74)/M74,"0") -> 0 | R74: =O74*P74*Q74 -> 0
A75: 3.11 | F75: =R75 -> 0 | G75: =ROUND(E75*F75,2) -> 0 | H75: =ROUND(G75*$D$3,2) -> 0 | O75: =IFERROR((L75-N75)/M75,"0") -> 0 | R75: =O75*P75*Q75 -> 0
A76: 3.12 | F76: =R76 -> 0 | G76: =ROUND(E76*F76,2) -> 0 | H76: =ROUND(G76*$D$3,2) -> 0 | O76: =IFERROR((L76-N76)/M76,"0") -> 0 | R76: =O76*P76*Q76 -> 0
... A84: 3.20 | F84: =R84 -> 0 | G84: =ROUND(E84*F84,2) -> 0 | H84: =ROUND(G84*$D$3,2) -> 0 | O84: =IFERROR((L84-N84)/M84,"0") -> 0 | R84: =O84*P84*Q84 -> 0
A85: 4 | B85: Išlaidos pagal sutartis vykdomiems moksliniams tyrimams, žinioms ir patentams | G85: =SUM(G86:G95) -> 0 | H85: =SUM(H86:H95) -> 0
A86: 4.1 | G86: =ROUND(E86*F86,2) -> 0 | H86: =ROUND(G86*$D$3,2) -> 0 | I86: Kad galėtumėte pasirinkti paslaugas, pirmiausia užpildykite lapą „Darbuotojai ir paslaugos“
A87: 4.2 | G87: =ROUND(E87*F87,2) -> 0 | H87: =ROUND(G87*$D$3,2) -> 0
A88: 4.3 | G88: =ROUND(E88*F88,2) -> 0 | H88: =ROUND(G88*$D$3,2) -> 0
A89: 4.4 | G89: =ROUND(E89*F89,2) -> 0 | H89: =ROUND(G89*$D$3,2) -> 0
A90: 4.5 | G90: =ROUND(E90*F90,2) -> 0 | H90: =ROUND(G90*$D$3,2) -> 0
A91: 4.6 | G91: =ROUND(E91*F91,2) -> 0 | H91: =ROUND(G91*$D$3,2) -> 0
A92: 4.7 | G92: =ROUND(E92*F92,2) -> 0 | H92: =ROUND(G92*$D$3,2) -> 0
A93: 4.8 | G93: =ROUND(E93*F93,2) -> 0 | H93: =ROUND(G93*$D$3,2) -> 0
A94: 4.9 | G94: =ROUND(E94*F94,2) -> 0 | H94: =ROUND(G94*$D$3,2) -> 0
A95: 4.10 | G95: =ROUND(E95*F95,2) -> 0 | H95: =ROUND(G95*$D$3,2) -> 0
A96: 5 | B96: Konsultavimo ir lygiaverčių paslaugų, naudojamų vien projektui, išlaidos | G96: =SUM(G97:G106) -> 0 | H96: =SUM(H97:H106) -> 0
A97: 5.1 | G97: =ROUND(E97*F97,2) -> 0 | H97: =ROUND(G97*$D$3,2) -> 0
A98: 5.2 | G98: =ROUND(E98*F98,2) -> 0 | H98: =ROUND(G98*$D$3,2) -> 0
A99: 5.3 | G99: =ROUND(E99*F99,2) -> 0 | H99: =ROUND(G99*$D$3,2) -> 0
A100: 5.4 | G100: =ROUND(E100*F100,2) -> 0 | H100: =ROUND(G100*$D$3,2) -> 0
A101: 5.5 | G101: =ROUND(E101*F101,2) -> 0 | H101: =ROUND(G101*$D$3,2) -> 0
A102: 5.6 | G102: =ROUND(E102*F102,2) -> 0 | H102: =ROUND(G102*$D$3,2) -> 0
A103: 5.7 | G103: =ROUND(E103*F103,2) -> 0 | H103: =ROUND(G103*$D$3,2) -> 0
A104: 5.8 | G104: =ROUND(E104*F104,2) -> 0 | H104: =ROUND(G104*$D$3,2) -> 0
A105: 5.9 | G105: =ROUND(E105*F105,2) -> 0 | H105: =ROUND(G105*$D$3,2) -> 0
A106: 5.10 | G106: =ROUND(E106*F106,2) -> 0 | H106: =ROUND(G106*$D$3,2) -> 0
A107: 6 | B107: Medžiagos, mažavertis inventorius, atsargos ir pan. produktai, priskirtini trumpalaikiam turtui ir tiesiogiai susiję su MTEP veikla | G107: =SUM(G108:G132) -> 0 | H107: =SUM(H108:H132) -> 0
A108: 6.1 | G108: =ROUND(E108*F108,2) -> 0 | H108: =ROUND(G108*$D$3,2) -> 0
A109: 6.2 | G109: =ROUND(E109*F109,2) -> 0 | H109: =ROUND(G109*$D$3,2) -> 0
A110: 6.3 | G110: =ROUND(E110*F110,2) -> 0 | H110: =ROUND(G110*$D$3,2) -> 0
A111: 6.4 | G111: =ROUND(E111*F111,2) -> 0 | H111: =ROUND(G111*$D$3,2) -> 0
A112: 6.5 | G112: =ROUND(E112*F112,2) -> 0 | H112: =ROUND(G112*$D$3,2) -> 0
A113: 6.6 | G113: =ROUND(E113*F113,2) -> 0 | H113: =ROUND(G113*$D$3,2) -> 0
A114: 6.7 | G114: =ROUND(E114*F114,2) -> 0 | H114: =ROUND(G114*$D$3,2) -> 0
...

Sheet 4
C1: Poveiklės pavadinimas: | D1: Eksperimentinė plėtra (projekto vykdytojas)
A2: Projekto vykdytojas, partneris: | D2: {='Darbuotojai ir paslaugos'!A6:A6} -> Projekto vykdytojo pavadinimas
C3: Finansavimo intensyvumas:
A5: Nr. | B5: Išlaidų pavadinimas | D5: Matavimo vnt. | E5: Kiekis | F5: Vieneto kaina be PVM, Eur | G5: Tinkamų finansuoti išlaidų suma be PVM, Eur | H5: Prašomas finansavimas, Eur | I5: Išlaidų pagrindimo dokumentų pavadinimas, data ir Nr., skaičiavimų paaiškinimas
B6: Iš viso tiesioginių išlaidų: | G6: =G7+G28+G64+G85+G96+G107+G133+G144 -> 0 | H6: =H7+H28+H64+H85+H96+H107+H133+H144 -> 0
A7: 1 | B7: Projektą vykdančio personalo darbo užmokestis ir išlaidos su darbo santykiais susijusiems darbdavio įsipareigojimams | G7: =SUM(G8:G27) -> 0 | H7: =SUM(H8:H27) -> 0
A8: 1.1 | C8: =IF(B8>0,VLOOKUP(B8,'Darbuotojai ir paslaugos'!C$6:F$65,2,FALSE),"") | D8: val. | E8: =IF(B8<>"",HLOOKUP(B8,'Vykdymo planas'!H$51:AA$64,14,FALSE),"") | F8: =IF(B8>0,ROUND(VLOOKUP(B8,'Darbuotojai ir paslaugos'!C$6:F$65,4,FALSE),2),0) -> 0 | G8: =IFERROR(ROUND(E8*F8,2),"0,00") -> 0,00 | H8: =ROUND(G8*$D$3,2) -> 0 | I8: Kad galėtumėte pasirinkti dartuotojus, pirmiausia užpildykite lapą „Darbuotojai ir paslaugos“
A9: 1.2 | C9: =IF(B9>0,VLOOKUP(B9,'Darbuotojai ir paslaugos'!C$6:F$65,2,FALSE),"") | D9: val. | E9: =IF(B9<>"",HLOOKUP(B9,'Vykdymo planas'!H$51:AA$64,14,FALSE),"") | F9: =IF(B9>0,ROUND(VLOOKUP(B9,'Darbuotojai ir paslaugos'!C$6:F$65,4,FALSE),2),0) -> 0 | G9: =IFERROR(ROUND(E9*F9,2),"0,00") -> 0,00 | H9: =ROUND(G9*$D$3,2) -> 0
A10: 1.3 | C10: =IF(B10>0,VLOOKUP(B10,'Darbuotojai ir paslaugos'!C$6:F$65,2,FALSE),"") | D10: val. | E10: =IF(B10<>"",HLOOKUP(B10,'Vykdymo planas'!H$51:AA$64,14,FALSE),"") | F10: =IF(B10>0,ROUND(VLOOKUP(B10,'Darbuotojai ir paslaugos'!C$6:F$65,4,FALSE),2),0) -> 0 | G10: =IFERROR(ROUND(E10*F10,2),"0,00") -> 0,00 | H10: =ROUND(G10*$D$3,2) -> 0
A11: 1.4 | C11: =IF(B11>0,VLOOKUP(B11,'Darbuotojai ir paslaugos'!C$6:F$65,2,FALSE),"") | D11: val. | E11: =IF(B11<>"",HLOOKUP(B11,'Vykdymo planas'!H$51:AA$64,14,FALSE),"") | F11: =IF(B11>0,ROUND(VLOOKUP(B11,'Darbuotojai ir paslaugos'!C$6:F$65,4,FALSE),2),0) -> 0 | G11: =IFERROR(ROUND(E11*F11,2),"0,00") -> 0,00 | H11: =ROUND(G11*$D$3,2) -> 0
A12: 1.5 | C12: =IF(B12>0,VLOOKUP(B12,'Darbuotojai ir paslaugos'!C$6:F$65,2,FALSE),"") | D12: val. | E12: =IF(B12<>"",HLOOKUP(B12,'Vykdymo planas'!H$51:AA$64,14,FALSE),"") | F12: =IF(B12>0,ROUND(VLOOKUP(B12,'Darbuotojai ir paslaugos'!C$6:F$65,4,FALSE),2),0) -> 0 | G12: =IFERROR(ROUND(E12*F12,2),"0,00") -> 0,00 | H12: =ROUND(G12*$D$3,2) -> 0
A13: 1.6 | C13: =IF(B13>0,VLOOKUP(B13,'Darbuotojai ir paslaugos'!C$6:F$65,2,FALSE),"") | D13: val. | E13: =IF(B13<>"",HLOOKUP(B13,'Vykdymo planas'!H$51:AA$64,14,FALSE),"") | F13: =IF(B13>0,ROUND(VLOOKUP(B13,'Darbuotojai ir paslaugos'!C$6:F$65,4,FALSE),2),0) -> 0 | G13: =IFERROR(ROUND(E13*F13,2),"0,00") -> 0,00 | H13: =ROUND(G13*$D$3,2) -> 0
A14: 1.7 | C14: =IF(B14>0,VLOOKUP(B14,'Darbuotojai ir paslaugos'!C$6:F$65,2,FALSE),"") | D14: val. | E14: =IF(B14<>"",HLOOKUP(B14,'Vykdymo planas'!H$51:AA$64,14,FALSE),"") | F14: =IF(B14>0,ROUND(VLOOKUP(B14,'Darbuotojai ir paslaugos'!C$6:F$65,4,FALSE),2),0) -> 0 | G14: =IFERROR(ROUND(E14*F14,2),"0,00") -> 0,00 | H14: =ROUND(G14*$D$3,2) -> 0
A15: 1.8 | C15: =IF(B15>0,VLOOKUP(B15,'Darbuotojai ir paslaugos'!C$6:F$65,2,FALSE),"") | D15: val. | E15: =IF(B15<>"",HLOOKUP(B15,'Vykdymo planas'!H$51:AA$64,14,FALSE),"") | F15: =IF(B15>0,ROUND(VLOOKUP(B15,'Darbuotojai ir paslaugos'!C$6:F$65,4,FALSE),2),0) -> 0 | G15: =IFERROR(ROUND(E15*F15,2),"0,00") -> 0,00 | H15: =ROUND(G15*$D$3,2) -> 0
A16: 1.9 | C16: =IF(B16>0,VLOOKUP(B16,'Darbuotojai ir paslaugos'!C$6:F$65,2,FALSE),"") | D16: val. | E16: =IF(B16<>"",HLOOKUP(B16,'Vykdymo planas'!H$51:AA$64,14,FALSE),"") | F16: =IF(B16>0,ROUND(VLOOKUP(B16,'Darbuotojai ir paslaugos'!C$6:F$65,4,FALSE),2),0) -> 0 | G16: =IFERROR(ROUND(E16*F16,2),"0,00") -> 0,00 | H16: =ROUND(G16*$D$3,2) -> 0
A17: 1.10 | C17: =IF(B17>0,VLOOKUP(B17,'Darbuotojai ir paslaugos'!C$6:F$65,2,FALSE),"") | D17: val. | E17: =IF(B17<>"",HLOOKUP(B17,'Vykdymo planas'!H$51:AA$64,14,FALSE),"") | F17: =IF(B17>0,ROUND(VLOOKUP(B17,'Darbuotojai ir paslaugos'!C$6:F$65,4,FALSE),2),0) -> 0 | G17: =IFERROR(ROUND(E17*F17,2),"0,00") -> 0,00 | H17: =ROUND(G17*$D$3,2) -> 0
A18: 1.11 | C18: =IF(B18>0,VLOOKUP(B18,'Darbuotojai ir paslaugos'!C$6:F$65,2,FALSE),"") | D18: val. | E18: =IF(B18<>"",HLOOKUP(B18,'Vykdymo planas'!H$51:AA$64,14,FALSE),"") | F18: =IF(B18>0,ROUND(VLOOKUP(B18,'Darbuotojai ir paslaugos'!C$6:F$65,4,FALSE),2),0) -> 0 | G18: =IFERROR(ROUND(E18*F18,2),"0,00") -> 0,00 | H18: =ROUND(G18*$D$3,2) -> 0
A19: 1.12 | C19: =IF(B19>0,VLOOKUP(B19,'Darbuotojai ir paslaugos'!C$6:F$65,2,FALSE),"") | D19: val. | E19: =IF(B19<>"",HLOOKUP(B19,'Vykdymo planas'!H$51:AA$64,14,FALSE),"") | F19: =IF(B19>0,ROUND(VLOOKUP(B19,'Darbuotojai ir paslaugos'!C$6:F$65,4,FALSE),2),0) -> 0 | G19: =IFERROR(ROUND(E19*F19,2),"0,00") -> 0,00 | H19: =ROUND(G19*$D$3,2) -> 0
A20: 1.13 | C20: =IF(B20>0,VLOOKUP(B20,'Darbuotojai ir paslaugos'!C$6:F$65,2,FALSE),"") | D20: val. | E20: =IF(B20<>"",HLOOKUP(B20,'Vykdymo planas'!H$51:AA$64,14,FALSE),"") | F20: =IF(B20>0,ROUND(VLOOKUP(B20,'Darbuotojai ir paslaugos'!C$6:F$65,4,FALSE),2),0) -> 0 | G20: =IFERROR(ROUND(E20*F20,2),"0,00") -> 0,00 | H20: =ROUND(G20*$D$3,2) -> 0
... A27: 1.20 | C27: =IF(B27>0,VLOOKUP(B27,'Darbuotojai ir paslaugos'!C$6:F$65,2,FALSE),"") | D27: val. | E27: =IF(B27<>"",HLOOKUP(B27,'Vykdymo planas'!H$51:AA$64,14,FALSE),"") | F27: =IF(B27>0,ROUND(VLOOKUP(B27,'Darbuotojai ir paslaugos'!C$6:F$65,4,FALSE),2),0) -> 0 | G27: =IFERROR(ROUND(E27*F27,2),"0,00") -> 0,00 | H27: =ROUND(G27*$D$3,2) -> 0
A28: 2 | B28: Projektą vykdančio personalo komandiruočių išlaidos | G28: =SUM(G29,G36,G43,G50,G57) -> 0 | H28: =SUM(H29,H36,H43,H50,H57) -> 0
A29: 2.1 | B29: Komandiruotės pavadinimas | C29: Iš viso komandiruotei | G29: =SUM(G30:G35) -> 0 | H29: =ROUND(G29*$D$3,2) -> 0 | I29: Komandiruotės šalis:
C30: Dienpinigiai | D30: dienos | E30: =J30 -> 0 | G30: =ROUND(E30*F30*J31,2) -> 0 | H30: =ROUND(G30*$D$3,2) -> 0 | I30: Komandiruotės trukmė: | K30: dienos
C31: Gyvenamojo ploto nuoma | D31: naktys | E31: =IF(E30>0,E30-1,0) -> 0 | G31: =ROUND(E31*F31*J31,2) -> 0 | H31: =ROUND(G31*$D$3,2) -> 0 | I31: Vykstančių asmenų skaičius: | K31: asmuo/asmenys
C32: Kelionės išlaidos | G32: =ROUND(E32*F32,2) -> 0 | H32: =ROUND(G32*$D$3,2) -> 0
C33: Dalyvavimo mokestis | G33: =ROUND(E33*F33,2) -> 0 | H33: =ROUND(G33*$D$3,2) -> 0
C34: Kitos išlaidų pavadinimas | G34: =ROUND(E34*F34,2) -> 0 | H34: =ROUND(G34*$D$3,2) -> 0
C35: Kitos išlaidų pavadinimas | G35: =ROUND(E35*F35,2) -> 0 | H35: =ROUND(G35*$D$3,2) -> 0
A36: 2.2 | B36: Komandiruotės pavadinimas | C36: Iš viso komandiruotei | G36: =SUM(G37:G42) -> 0 | H36: =ROUND(G36*$D$3,2) -> 0 | I36: Komandiruotės šalis:
C37: Dienpinigiai | D37: dienos | E37: =J37 -> 0 | G37: =ROUND(E37*F37*J38,2) -> 0 | H37: =ROUND(G37*$D$3,2) -> 0 | I37: Komandiruotės trukmė: | K37: dienos
C38: Gyvenamojo ploto nuoma | D38: naktys | E38: =IF(E37>0,E37-1,0) -> 0 | G38: =ROUND(E38*F38*J38,2) -> 0 | H38: =ROUND(G38*$D$3,2) -> 0 | I38: Vykstančių asmenų skaičius: | K38: asmuo/asmenys
C39: Kelionės išlaidos | G39: =ROUND(E39*F39,2) -> 0 | H39: =ROUND(G39*$D$3,2) -> 0
C40: Dalyvavimo mokestis | G40: =ROUND(E40*F40,2) -> 0 | H40: =ROUND(G40*$D$3,2) -> 0
C41: Kitos išlaidų pavadinimas | G41: =ROUND(E41*F41,2) -> 0 | H41: =ROUND(G41*$D$3,2) -> 0
C42: Kitos išlaidų pavadinimas | G42: =ROUND(E42*F42,2) -> 0 | H42: =ROUND(G42*$D$3,2) -> 0
A43: 2.3 | B43: Komandiruotės pavadinimas | C43: Iš viso komandiruotei | G43: =SUM(G44:G49) -> 0 | H43: =ROUND(G43*$D$3,2) -> 0 | I43: Komandiruotės šalis:
C44: Dienpinigiai | D44: dienos | E44: =J44 -> 0 | G44: =ROUND(E44*F44*J45,2) -> 0 | H44: =ROUND(G44*$D$3,2) -> 0 | I44: Komandiruotės trukmė: | K44: dienos
C45: Gyvenamojo ploto nuoma | D45: naktys | E45: =IF(E44>0,E44-1,0) -> 0 | G45: =ROUND(E45*F45*J45,2) -> 0 | H45: =ROUND(G45*$D$3,2) -> 0 | I45: Vykstančių asmenų skaičius: | K45: asmuo/asmenys
C46: Kelionės išlaidos | G46: =ROUND(E46*F46,2) -> 0 | H46: =ROUND(G46*$D$3,2) -> 0
C47: Dalyvavimo mokestis | G47: =ROUND(E47*F47,2) -> 0 | H47: =ROUND(G47*$D$3,2) -> 0
C48: Kitos išlaidų pavadinimas | G48: =ROUND(E48*F48,2) -> 0 | H48: =ROUND(G48*$D$3,2) -> 0
C49: Kitos išlaidų pavadinimas | G49: =ROUND(E49*F49,2) -> 0 | H49: =ROUND(G49*$D$3,2) -> 0
A50: 2.4 | B50: Komandiruotės pavadinimas | C50: Iš viso komandiruotei | G50: =SUM(G51:G56) -> 0 | H50: =ROUND(G50*$D$3,2) -> 0 | I50: Komandiruotės šalis:
C51: Dienpinigiai | D51: dienos | E51: =J51 -> 0 | G51: =ROUND(E51*F51*J52,2) -> 0 | H51: =ROUND(G51*$D$3,2) -> 0 | I51: Komandiruotės trukmė: | K51: dienos
C52: Gyvenamojo ploto nuoma | D52: naktys | E52: =IF(E51>0,E51-1,0) -> 0 | G52: =ROUND(E52*F52*J52,2) -> 0 | H52: =ROUND(G52*$D$3,2) -> 0 | I52: Vykstančių asmenų skaičius: | K52: asmuo/asmenys
C53: Kelionės išlaidos | G53: =ROUND(E53*F53,2) -> 0 | H53: =ROUND(G53*$D$3,2) -> 0
C54: Dalyvavimo mokestis | G54: =ROUND(E54*F54,2) -> 0 | H54: =ROUND(G54*$D$3,2) -> 0
C55: Kitos išlaidų pavadinimas | G55: =ROUND(E55*F55,2) -> 0 | H55: =ROUND(G55*$D$3,2) -> 0
C56: Kitos išlaidų pavadinimas | G56: =ROUND(E56*F56,2) -> 0 | H56: =ROUND(G56*$D$3,2) -> 0
A57: 2.5 | B57: Komandiruotės pavadinimas | C57: Iš viso komandiruotei | G57: =SUM(G58:G63) -> 0 | H57: =ROUND(G57*$D$3,2) -> 0 | I57: Komandiruotės šalis:
C58: Dienpinigiai | D58: dienos | E58: =J58 -> 0 | G58: =ROUND(E58*F58*J59,2) -> 0 | H58: =ROUND(G58*$D$3,2) -> 0 | I58: Komandiruotės trukmė: | K58: dienos
C59: Gyvenamojo ploto nuoma | D59: naktys | E59: =IF(E58>0,E58-1,0) -> 0 | G59: =ROUND(E59*F59*J59,2) -> 0 | H59: =ROUND(G59*$D$3,2) -> 0 | I59: Vykstančių asmenų skaičius: | K59: asmuo/asmenys
C60: Kelionės išlaidos | G60: =ROUND(E60*F60,2) -> 0 | H60: =ROUND(G60*$D$3,2) -> 0
C61: Dalyvavimo mokestis | G61: =ROUND(E61*F61,2) -> 0 | H61: =ROUND(G61*$D$3,2) -> 0
C62: Kitos išlaidų pavadinimas | G62: =ROUND(E62*F62,2) -> 0 | H62: =ROUND(G62*$D$3,2) -> 0
C63: Kitos išlaidų pavadinimas | G63: =ROUND(E63*F63,2) -> 0 | H63: =ROUND(G63*$D$3,2) -> 0
A64: 3 | B64: Nusidėvėjimo išlaidos priemonėms ir įrenginiams | G64: =SUM(G65:G84) -> 0 | H64: =SUM(H65:H84) -> 0 | K64: Turto įvedimo į eksploataciją data | L64: Turto įsigijimo vertė, Eur | M64: Turto nudėvėjimo, amortizacijos laikotarpis, mėn. | N64: Numatoma turto likutinė vertė, Eur | O64: 1 mėn. nudėvėjimo, amortizacijos suma, Eur | P64: Turto naudojamo projekto reikmėms laikas, mėn. | Q64: Turto panaudojimo projekto reikmėms dalis (proc.) | R64: Projektui priskirta turto nusidėvėjimo, amortizacijos suma per projekto laikotarpį, Eur
A65: 3.1 | F65: =R65 -> 0 | G65: =ROUND(E65*F65,2) -> 0 | H65: =ROUND(G65*$D$3,2) -> 0 | O65: =IFERROR((L65-N65)/M65,"0") -> 0 | R65: =O65*P65*Q65 -> 0
A66: 3.2 | F66: =R66 -> 0 | G66: =ROUND(E66*F66,2) -> 0 | H66: =ROUND(G66*$D$3,2) -> 0 | O66: =IFERROR((L66-N66)/M66,"0") -> 0 | R66: =O66*P66*Q66 -> 0
A67: 3.3 | F67: =R67 -> 0 | G67: =ROUND(E67*F67,2) -> 0 | H67: =ROUND(G67*$D$3,2) -> 0 | O67: =IFERROR((L67-N67)/M67,"0") -> 0 | R67: =O67*P67*Q67 -> 0
A68: 3.4 | F68: =R68 -> 0 | G68: =ROUND(E68*F68,2) -> 0 | H68: =ROUND(G68*$D$3,2) -> 0 | O68: =IFERROR((L68-N68)/M68,"0") -> 0 | R68: =O68*P68*Q68 -> 0
A69: 3.5 | F69: =R69 -> 0 | G69: =ROUND(E69*F69,2) -> 0 | H69: =ROUND(G69*$D$3,2) -> 0 | O69: =IFERROR((L69-N69)/M69,"0") -> 0 | R69: =O69*P69*Q69 -> 0
A70: 3.6 | F70: =R70 -> 0 | G70: =ROUND(E70*F70,2) -> 0 | H70: =ROUND(G70*$D$3,2) -> 0 | O70: =IFERROR((L70-N70)/M70,"0") -> 0 | R70: =O70*P70*Q70 -> 0
A71: 3.7 | F71: =R71 -> 0 | G71: =ROUND(E71*F71,2) -> 0 | H71: =ROUND(G71*$D$3,2) -> 0 | O71: =IFERROR((L71-N71)/M71,"0") -> 0 | R71: =O71*P71*Q71 -> 0
A72: 3.8 | F72: =R72 -> 0 | G72: =ROUND(E72*F72,2) -> 0 | H72: =ROUND(G72*$D$3,2) -> 0 | O72: =IFERROR((L72-N72)/M72,"0") -> 0 | R72: =O72*P72*Q72 -> 0
A73: 3.9 | F73: =R73 -> 0 | G73: =ROUND(E73*F73,2) -> 0 | H73: =ROUND(G73*$D$3,2) -> 0 | O73: =IFERROR((L73-N73)/M73,"0") -> 0 | R73: =O73*P73*Q73 -> 0
A74: 3.10 | F74: =R74 -> 0 | G74: =ROUND(E74*F74,2) -> 0 | H74: =ROUND(G74*$D$3,2) -> 0 | O74: =IFERROR((L74-N74)/M74,"0") -> 0 | R74: =O74*P74*Q74 -> 0
A75: 3.11 | F75: =R75 -> 0 | G75: =ROUND(E75*F75,2) -> 0 | H75: =ROUND(G75*$D$3,2) -> 0 | O75: =IFERROR((L75-N75)/M75,"0") -> 0 | R75: =O75*P75*Q75 -> 0
A76: 3.12 | F76: =R76 -> 0 | G76: =ROUND(E76*F76,2) -> 0 | H76: =ROUND(G76*$D$3,2) -> 0 | O76: =IFERROR((L76-N76)/M76,"0") -> 0 | R76: =O76*P76*Q76 -> 0
... A84: 3.20 | F84: =R84 -> 0 | G84: =ROUND(E84*F84,2) -> 0 | H84: =ROUND(G84*$D$3,2) -> 0 | O84: =IFERROR((L84-N84)/M84,"0") -> 0 | R84: =O84*P84*Q84 -> 0
A85: 4 | B85: Išlaidos pagal sutartis vykdomiems moksliniams tyrimams, žinioms ir patentams | G85: =SUM(G86:G95) -> 0 | H85: =SUM(H86:H95) -> 0
A86: 4.1 | G86: =ROUND(E86*F86,2) -> 0 | H86: =ROUND(G86*$D$3,2) -> 0 | I86: Kad galėtumėte pasirinkti paslaugas, pirmiausia užpildykite lapą „Darbuotojai ir paslaugos“
A87: 4.2 | G87: =ROUND(E87*F87,2) -> 0 | H87: =ROUND(G87*$D$3,2) -> 0
A88: 4.3 | G88: =ROUND(E88*F88,2) -> 0 | H88: =ROUND(G88*$D$3,2) -> 0
A89: 4.4 | G89: =ROUND(E89*F89,2) -> 0 | H89: =ROUND(G89*$D$3,2) -> 0
A90: 4.5 | G90: =ROUND(E90*F90,2) -> 0 | H90: =ROUND(G90*$D$3,2) -> 0
A91: 4.6 | G91: =ROUND(E91*F91,2) -> 0 | H91: =ROUND(G91*$D$3,2) -> 0
A92: 4.7 | G92: =ROUND(E92*F92,2) -> 0 | H92: =ROUND(G92*$D$3,2) -> 0
A93: 4.8 | G93: =ROUND(E93*F93,2) -> 0 | H93: =ROUND(G93*$D$3,2) -> 0
A94: 4.9 | G94: =ROUND(E94*F94,2) -> 0 | H94: =ROUND(G94*$D$3,2) -> 0
A95: 4.10 | G95: =ROUND(E95*F95,2) -> 0 | H95: =ROUND(G95*$D$3,2) -> 0
A96: 5 | B96: Konsultavimo ir lygiaverčių paslaugų, naudojamų vien projektui, išlaidos | G96: =SUM(G97:G106) -> 0 | H96: =SUM(H97:H106) -> 0
A97: 5.1 | G97: =ROUND(E97*F97,2) -> 0 | H97: =ROUND(G97*$D$3,2) -> 0
A98: 5.2 | G98: =ROUND(E98*F98,2) -> 0 | H98: =ROUND(G98*$D$3,2) -> 0
A99: 5.3 | G99: =ROUND(E99*F99,2) -> 0 | H99: =ROUND(G99*$D$3,2) -> 0
A100: 5.4 | G100: =ROUND(E100*F100,2) -> 0 | H100: =ROUND(G100*$D$3,2) -> 0
A101: 5.5 | G101: =ROUND(E101*F101,2) -> 0 | H101: =ROUND(G101*$D$3,2) -> 0
A102: 5.6 | G102: =ROUND(E102*F102,2) -> 0 | H102: =ROUND(G102*$D$3,2) -> 0
A103: 5.7 | G103: =ROUND(E103*F103,2) -> 0 | H103: =ROUND(G103*$D$3,2) -> 0
A104: 5.8 | G104: =ROUND(E104*F104,2) -> 0 | H104: =ROUND(G104*$D$3,2) -> 0
A105: 5.9 | G105: =ROUND(E105*F105,2) -> 0 | H105: =ROUND(G105*$D$3,2) -> 0
A106: 5.10 | G106: =ROUND(E106*F106,2) -> 0 | H106: =ROUND(G106*$D$3,2) -> 0
A107: 6 | B107: Medžiagos, mažavertis inventorius, atsargos ir pan. produktai, priskirtini trumpalaikiam turtui ir tiesiogiai susiję su MTEP veikla | G107: =SUM(G108:G132) -> 0 | H107: =SUM(H108:H132) -> 0
A108: 6.1 | G108: =ROUND(E108*F108,2) -> 0 | H108: =ROUND(G108*$D$3,2) -> 0
A109: 6.2 | G109: =ROUND(E109*F109,2) -> 0 | H109: =ROUND(G109*$D$3,2) -> 0
A110: 6.3 | G110: =ROUND(E110*F110,2) -> 0 | H110: =ROUND(G110*$D$3,2) -> 0
A111: 6.4 | G111: =ROUND(E111*F111,2) -> 0 | H111: =ROUND(G111*$D$3,2) -> 0
A112: 6.5 | G112: =ROUND(E112*F112,2) -> 0 | H112: =ROUND(G112*$D$3,2) -> 0
A113: 6.6 | G113: =ROUND(E113*F113,2) -> 0 | H113: =ROUND(G113*$D$3,2) -> 0
A114: 6.7 | G114: =ROUND(E114*F114,2) -> 0 | H114: =ROUND(G114*$D$3,2) -> 0
...

Sheet 5
C1: Poveiklės pavadinimas: | D1: Eksperimentinė plėtra (partneris 1)
A2: Projekto vykdytojas, partneris: | D2: ='Darbuotojai ir paslaugos'!A26 -> Partnerio Nr. 1 pavadinimas
C3: Finansavimo intensyvumas:
A5: Nr. | B5: Išlaidų pavadinimas | D5: Matavimo vnt. | E5: Kiekis | F5: Vieneto kaina be PVM, Eur | G5: Tinkamų finansuoti išlaidų suma be PVM, Eur | H5: Prašomas finansavimas, Eur | I5: Išlaidų pagrindimo dokumentų pavadinimas, data ir Nr., skaičiavimų paaiškinimas
B6: Iš viso tiesioginių išlaidų: | G6: =G7+G28+G64+G85+G96+G107+G133+G144 -> 0 | H6: =H7+H28+H64+H85+H96+H107+H133+H144 -> 0
A7: 1 | B7: Projektą vykdančio personalo darbo užmokestis ir išlaidos su darbo santykiais susijusiems darbdavio įsipareigojimams | G7: =SUM(G8:G27) -> 0 | H7: =SUM(H8:H27) -> 0
A8: 1.1 | C8: =IF(B8>0,VLOOKUP(B8,'Darbuotojai ir paslaugos'!C$6:F$65,2,FALSE),"") | D8: val. | E8: =IF(B8<>"",HLOOKUP(B8,'Vykdymo planas'!H$67:AA$80,14,FALSE),"") | F8: =IF(B8>0,ROUND(VLOOKUP(B8,'Darbuotojai ir paslaugos'!C$6:F$65,4,FALSE),2),0) -> 0 | G8: =IFERROR(ROUND(E8*F8,2),"0,00") -> 0,00 | H8: =ROUND(G8*$D$3,2) -> 0 | I8: Kad galėtumėte pasirinkti dartuotojus, pirmiausia užpildykite lapą „Darbuotojai ir paslaugos“
A9: 1.2 | C9: =IF(B9>0,VLOOKUP(B9,'Darbuotojai ir paslaugos'!C$6:F$65,2,FALSE),"") | D9: val. | E9: =IF(B9<>"",HLOOKUP(B9,'Vykdymo planas'!H$67:AA$80,14,FALSE),"") | F9: =IF(B9>0,ROUND(VLOOKUP(B9,'Darbuotojai ir paslaugos'!C$6:F$65,4,FALSE),2),0) -> 0 | G9: =IFERROR(ROUND(E9*F9,2),"0,00") -> 0,00 | H9: =ROUND(G9*$D$3,2) -> 0
A10: 1.3 | C10: =IF(B10>0,VLOOKUP(B10,'Darbuotojai ir paslaugos'!C$6:F$65,2,FALSE),"") | D10: val. | E10: =IF(B10<>"",HLOOKUP(B10,'Vykdymo planas'!H$67:AA$80,14,FALSE),"") | F10: =IF(B10>0,ROUND(VLOOKUP(B10,'Darbuotojai ir paslaugos'!C$6:F$65,4,FALSE),2),0) -> 0 | G10: =IFERROR(ROUND(E10*F10,2),"0,00") -> 0,00 | H10: =ROUND(G10*$D$3,2) -> 0
A11: 1.4 | C11: =IF(B11>0,VLOOKUP(B11,'Darbuotojai ir paslaugos'!C$6:F$65,2,FALSE),"") | D11: val. | E11: =IF(B11<>"",HLOOKUP(B11,'Vykdymo planas'!H$67:AA$80,14,FALSE),"") | F11: =IF(B11>0,ROUND(VLOOKUP(B11,'Darbuotojai ir paslaugos'!C$6:F$65,4,FALSE),2),0) -> 0 | G11: =IFERROR(ROUND(E11*F11,2),"0,00") -> 0,00 | H11: =ROUND(G11*$D$3,2) -> 0
A12: 1.5 | C12: =IF(B12>0,VLOOKUP(B12,'Darbuotojai ir paslaugos'!C$6:F$65,2,FALSE),"") | D12: val. | E12: =IF(B12<>"",HLOOKUP(B12,'Vykdymo planas'!H$67:AA$80,14,FALSE),"") | F12: =IF(B12>0,ROUND(VLOOKUP(B12,'Darbuotojai ir paslaugos'!C$6:F$65,4,FALSE),2),0) -> 0 | G12: =IFERROR(ROUND(E12*F12,2),"0,00") -> 0,00 | H12: =ROUND(G12*$D$3,2) -> 0
A13: 1.6 | C13: =IF(B13>0,VLOOKUP(B13,'Darbuotojai ir paslaugos'!C$6:F$65,2,FALSE),"") | D13: val. | E13: =IF(B13<>"",HLOOKUP(B13,'Vykdymo planas'!H$67:AA$80,14,FALSE),"") | F13: =IF(B13>0,ROUND(VLOOKUP(B13,'Darbuotojai ir paslaugos'!C$6:F$65,4,FALSE),2),0) -> 0 | G13: =IFERROR(ROUND(E13*F13,2),"0,00") -> 0,00 | H13: =ROUND(G13*$D$3,2) -> 0
A14: 1.7 | C14: =IF(B14>0,VLOOKUP(B14,'Darbuotojai ir paslaugos'!C$6:F$65,2,FALSE),"") | D14: val. | E14: =IF(B14<>"",HLOOKUP(B14,'Vykdymo planas'!H$67:AA$80,14,FALSE),"") | F14: =IF(B14>0,ROUND(VLOOKUP(B14,'Darbuotojai ir paslaugos'!C$6:F$65,4,FALSE),2),0) -> 0 | G14: =IFERROR(ROUND(E14*F14,2),"0,00") -> 0,00 | H14: =ROUND(G14*$D$3,2) -> 0
A15: 1.8 | C15: =IF(B15>0,VLOOKUP(B15,'Darbuotojai ir paslaugos'!C$6:F$65,2,FALSE),"") | D15: val. | E15: =IF(B15<>"",HLOOKUP(B15,'Vykdymo planas'!H$67:AA$80,14,FALSE),"") | F15: =IF(B15>0,ROUND(VLOOKUP(B15,'Darbuotojai ir paslaugos'!C$6:F$65,4,FALSE),2),0) -> 0 | G15: =IFERROR(ROUND(E15*F15,2),"0,00") -> 0,00 | H15: =ROUND(G15*$D$3,2) -> 0
A16: 1.9 | C16: =IF(B16>0,VLOOKUP(B16,'Darbuotojai ir paslaugos'!C$6:F$65,2,FALSE),"") | D16: val. | E16: =IF(B16<>"",HLOOKUP(B16,'Vykdymo planas'!H$67:AA$80,14,FALSE),"") | F16: =IF(B16>0,ROUND(VLOOKUP(B16,'Darbuotojai ir paslaugos'!C$6:F$65,4,FALSE),2),0) -> 0 | G16: =IFERROR(ROUND(E16*F16,2),"0,00") -> 0,00 | H16: =ROUND(G16*$D$3,2) -> 0
A17: 1.10 | C17: =IF(B17>0,VLOOKUP(B17,'Darbuotojai ir paslaugos'!C$6:F$65,2,FALSE),"") | D17: val. | E17: =IF(B17<>"",HLOOKUP(B17,'Vykdymo planas'!H$67:AA$80,14,FALSE),"") | F17: =IF(B17>0,ROUND(VLOOKUP(B17,'Darbuotojai ir paslaugos'!C$6:F$65,4,FALSE),2),0) -> 0 | G17: =IFERROR(ROUND(E17*F17,2),"0,00") -> 0,00 | H17: =ROUND(G17*$D$3,2) -> 0
A18: 1.11 | C18: =IF(B18>0,VLOOKUP(B18,'Darbuotojai ir paslaugos'!C$6:F$65,2,FALSE),"") | D18: val. | E18: =IF(B18<>"",HLOOKUP(B18,'Vykdymo planas'!H$67:AA$80,14,FALSE),"") | F18: =IF(B18>0,ROUND(VLOOKUP(B18,'Darbuotojai ir paslaugos'!C$6:F$65,4,FALSE),2),0) -> 0 | G18: =IFERROR(ROUND(E18*F18,2),"0,00") -> 0,00 | H18: =ROUND(G18*$D$3,2) -> 0
A19: 1.12 | C19: =IF(B19>0,VLOOKUP(B19,'Darbuotojai ir paslaugos'!C$6:F$65,2,FALSE),"") | D19: val. | E19: =IF(B19<>"",HLOOKUP(B19,'Vykdymo planas'!H$67:AA$80,14,FALSE),"") | F19: =IF(B19>0,ROUND(VLOOKUP(B19,'Darbuotojai ir paslaugos'!C$6:F$65,4,FALSE),2),0) -> 0 | G19: =IFERROR(ROUND(E19*F19,2),"0,00") -> 0,00 | H19: =ROUND(G19*$D$3,2) -> 0
A20: 1.13 | C20: =IF(B20>0,VLOOKUP(B20,'Darbuotojai ir paslaugos'!C$6:F$65,2,FALSE),"") | D20: val. | E20: =IF(B20<>"",HLOOKUP(B20,'Vykdymo planas'!H$67:AA$80,14,FALSE),"") | F20: =IF(B20>0,ROUND(VLOOKUP(B20,'Darbuotojai ir paslaugos'!C$6:F$65,4,FALSE),2),0) -> 0 | G20: =IFERROR(ROUND(E20*F20,2),"0,00") -> 0,00 | H20: =ROUND(G20*$D$3,2) -> 0
... A27: 1.20 | C27: =IF(B27>0,VLOOKUP(B27,'Darbuotojai ir paslaugos'!C$6:F$65,2,FALSE),"") | D27: val. | E27: =IF(B27<>"",HLOOKUP(B27,'Vykdymo planas'!H$67:AA$80,14,FALSE),"") | F27: =IF(B27>0,ROUND(VLOOKUP(B27,'Darbuotojai ir paslaugos'!C$6:F$65,4,FALSE),2),0) -> 0 | G27: =IFERROR(ROUND(E27*F27,2),"0,00") -> 0,00 | H27: =ROUND(G27*$D$3,2) -> 0
A28: 2 | B28: Projektą vykdančio personalo komandiruočių išlaidos | G28: =SUM(G29,G36,G43,G50,G57) -> 0 | H28: =SUM(H29,H36,H43,H50,H57) -> 0
A29: 2.1 | B29: Komandiruotės pavadinimas | C29: Iš viso komandiruotei | G29: =SUM(G30:G35) -> 0 | H29: =ROUND(G29*$D$3,2) -> 0 | I29: Komandiruotės šalis:
C30: Dienpinigiai | D30: dienos | E30: =J30 -> 0 | G30: =ROUND(E30*F30*J31,2) -> 0 | H30: =ROUND(G30*$D$3,2) -> 0 | I30: Komandiruotės trukmė: | K30: dienos
C31: Gyvenamojo ploto nuoma | D31: naktys | E31: =IF(E30>0,E30-1,0) -> 0 | G31: =ROUND(E31*F31*J31,2) -> 0 | H31: =ROUND(G31*$D$3,2) -> 0 | I31: Vykstančių asmenų skaičius: | K31: asmuo/asmenys
C32: Kelionės išlaidos | G32: =ROUND(E32*F32,2) -> 0 | H32: =ROUND(G32*$D$3,2) -> 0
C33: Dalyvavimo mokestis | G33: =ROUND(E33*F33,2) -> 0 | H33: =ROUND(G33*$D$3,2) -> 0
C34: Kitos išlaidų pavadinimas | G34: =ROUND(E34*F34,2) -> 0 | H34: =ROUND(G34*$D$3,2) -> 0
C35: Kitos išlaidų pavadinimas | G35: =ROUND(E35*F35,2) -> 0 | H35: =ROUND(G35*$D$3,2) -> 0
A36: 2.2 | B36: Komandiruotės pavadinimas | C36: Iš viso komandiruotei | G36: =SUM(G37:G42) -> 0 | H36: =ROUND(G36*$D$3,2) -> 0 | I36: Komandiruotės šalis:
C37: Dienpinigiai | D37: dienos | E37: =J37 -> 0 | G37: =ROUND(E37*F37*J38,2) -> 0 | H37: =ROUND(G37*$D$3,2) -> 0 | I37: Komandiruotės trukmė: | K37: dienos
C38: Gyvenamojo ploto nuoma | D38: naktys | E38: =IF(E37>0,E37-1,0) -> 0 | G38: =ROUND(E38*F38*J38,2) -> 0 | H38: =ROUND(G38*$D$3,2) -> 0 | I38: Vykstančių asmenų skaičius: | K38: asmuo/asmenys
C39: Kelionės išlaidos | G39: =ROUND(E39*F39,2) -> 0 | H39: =ROUND(G39*$D$3,2) -> 0
C40: Dalyvavimo mokestis | G40: =ROUND(E40*F40,2) -> 0 | H40: =ROUND(G40*$D$3,2) -> 0
C41: Kitos išlaidų pavadinimas | G41: =ROUND(E41*F41,2) -> 0 | H41: =ROUND(G41*$D$3,2) -> 0
C42: Kitos išlaidų pavadinimas | G42: =ROUND(E42*F42,2) -> 0 | H42: =ROUND(G42*$D$3,2) -> 0
A43: 2.3 | B43: Komandiruotės pavadinimas | C43: Iš viso komandiruotei | G43: =SUM(G44:G49) -> 0 | H43: =ROUND(G43*$D$3,2) -> 0 | I43: Komandiruotės šalis:
C44: Dienpinigiai | D44: dienos | E44: =J44 -> 0 | G44: =ROUND(E44*F44*J45,2) -> 0 | H44: =ROUND(G44*$D$3,2) -> 0 | I44: Komandiruotės trukmė: | K44: dienos
C45: Gyvenamojo ploto nuoma | D45: naktys | E45: =IF(E44>0,E44-1,0) -> 0 | G45: =ROUND(E45*F45*J45,2) -> 0 | H45: =ROUND(G45*$D$3,2) -> 0 | I45: Vykstančių asmenų skaičius: | K45: asmuo/asmenys
C46: Kelionės išlaidos | G46: =ROUND(E46*F46,2) -> 0 | H46: =ROUND(G46*$D$3,2) -> 0
C47: Dalyvavimo mokestis | G47: =ROUND(E47*F47,2) -> 0 | H47: =ROUND(G47*$D$3,2) -> 0
C48: Kitos išlaidų pavadinimas | G48: =ROUND(E48*F48,2) -> 0 | H48: =ROUND(G48*$D$3,2) -> 0
C49: Kitos išlaidų pavadinimas | G49: =ROUND(E49*F49,2) -> 0 | H49: =ROUND(G49*$D$3,2) -> 0
A50: 2.4 | B50: Komandiruotės pavadinimas | C50: Iš viso komandiruotei | G50: =SUM(G51:G56) -> 0 | H50: =ROUND(G50*$D$3,2) -> 0 | I50: Komandiruotės šalis:
C51: Dienpinigiai | D51: dienos | E51: =J51 -> 0 | G51: =ROUND(E51*F51*J52,2) -> 0 | H51: =ROUND(G51*$D$3,2) -> 0 | I51: Komandiruotės trukmė: | K51: dienos
C52: Gyvenamojo ploto nuoma | D52: naktys | E52: =IF(E51>0,E51-1,0) -> 0 | G52: =ROUND(E52*F52*J52,2) -> 0 | H52: =ROUND(G52*$D$3,2) -> 0 | I52: Vykstančių asmenų skaičius: | K52: asmuo/asmenys
C53: Kelionės išlaidos | G53: =ROUND(E53*F53,2) -> 0 | H53: =ROUND(G53*$D$3,2) -> 0
C54: Dalyvavimo mokestis | G54: =ROUND(E54*F54,2) -> 0 | H54: =ROUND(G54*$D$3,2) -> 0
C55: Kitos išlaidų pavadinimas | G55: =ROUND(E55*F55,2) -> 0 | H55: =ROUND(G55*$D$3,2) -> 0
C56: Kitos išlaidų pavadinimas | G56: =ROUND(E56*F56,2) -> 0 | H56: =ROUND(G56*$D$3,2) -> 0
A57: 2.5 | B57: Komandiruotės pavadinimas | C57: Iš viso komandiruotei | G57: =SUM(G58:G63) -> 0 | H57: =ROUND(G57*$D$3,2) -> 0 | I57: Komandiruotės šalis:
C58: Dienpinigiai | D58: dienos | E58: =J58 -> 0 | G58: =ROUND(E58*F58*J59,2) -> 0 | H58: =ROUND(G58*$D$3,2) -> 0 | I58: Komandiruotės trukmė: | K58: dienos
C59: Gyvenamojo ploto nuoma | D59: naktys | E59: =IF(E58>0,E58-1,0) -> 0 | G59: =ROUND(E59*F59*J59,2) -> 0 | H59: =ROUND(G59*$D$3,2) -> 0 | I59: Vykstančių asmenų skaičius: | K59: asmuo/asmenys
C60: Kelionės išlaidos | G60: =ROUND(E60*F60,2) -> 0 | H60: =ROUND(G60*$D$3,2) -> 0
C61: Dalyvavimo mokestis | G61: =ROUND(E61*F61,2) -> 0 | H61: =ROUND(G61*$D$3,2) -> 0
C62: Kitos išlaidų pavadinimas | G62: =ROUND(E62*F62,2) -> 0 | H62: =ROUND(G62*$D$3,2) -> 0
C63: Kitos išlaidų pavadinimas | G63: =ROUND(E63*F63,2) -> 0 | H63: =ROUND(G63*$D$3,2) -> 0
A64: 3 | B64: Nusidėvėjimo išlaidos priemonėms ir įrenginiams | G64: =SUM(G65:G84) -> 0 | H64: =SUM(H65:H84) -> 0 | K64: Turto įvedimo į eksploataciją data | L64: Turto įsigijimo vertė, Eur | M64: Turto nudėvėjimo, amortizacijos laikotarpis, mėn. | N64: Numatoma turto likutinė vertė, Eur | O64: 1 mėn. nudėvėjimo, amortizacijos suma, Eur | P64: Turto naudojamo projekto reikmėms laikas, mėn. | Q64: Turto panaudojimo projekto reikmėms dalis (proc.) | R64: Projektui priskirta turto nusidėvėjimo, amortizacijos suma per projekto laikotarpį, Eur
A65: 3.1 | F65: =R65 -> 0 | G65: =ROUND(E65*F65,2) -> 0 | H65: =ROUND(G65*$D$3,2) -> 0 | O65: =IFERROR((L65-N65)/M65,"0") -> 0 | R65: =O65*P65*Q65 -> 0
A66: 3.2 | F66: =R66 -> 0 | G66: =ROUND(E66*F66,2) -> 0 | H66: =ROUND(G66*$D$3,2) -> 0 | O66: =IFERROR((L66-N66)/M66,"0") -> 0 | R66: =O66*P66*Q66 -> 0
A67: 3.3 | F67: =R67 -> 0 | G67: =ROUND(E67*F67,2) -> 0 | H67: =ROUND(G67*$D$3,2) -> 0 | O67: =IFERROR((L67-N67)/M67,"0") -> 0 | R67: =O67*P67*Q67 -> 0
A68: 3.4 | F68: =R68 -> 0 | G68: =ROUND(E68*F68,2) -> 0 | H68: =ROUND(G68*$D$3,2) -> 0 | O68: =IFERROR((L68-N68)/M68,"0") -> 0 | R68: =O68*P68*Q68 -> 0
A69: 3.5 | F69: =R69 -> 0 | G69: =ROUND(E69*F69,2) -> 0 | H69: =ROUND(G69*$D$3,2) -> 0 | O69: =IFERROR((L69-N69)/M69,"0") -> 0 | R69: =O69*P69*Q69 -> 0
A70: 3.6 | F70: =R70 -> 0 | G70: =ROUND(E70*F70,2) -> 0 | H70: =ROUND(G70*$D$3,2) -> 0 | O70: =IFERROR((L70-N70)/M70,"0") -> 0 | R70: =O70*P70*Q70 -> 0
A71: 3.7 | F71: =R71 -> 0 | G71: =ROUND(E71*F71,2) -> 0 | H71: =ROUND(G71*$D$3,2) -> 0 | O71: =IFERROR((L71-N71)/M71,"0") -> 0 | R71: =O71*P71*Q71 -> 0
A72: 3.8 | F72: =R72 -> 0 | G72: =ROUND(E72*F72,2) -> 0 | H72: =ROUND(G72*$D$3,2) -> 0 | O72: =IFERROR((L72-N72)/M72,"0") -> 0 | R72: =O72*P72*Q72 -> 0
A73: 3.9 | F73: =R73 -> 0 | G73: =ROUND(E73*F73,2) -> 0 | H73: =ROUND(G73*$D$3,2) -> 0 | O73: =IFERROR((L73-N73)/M73,"0") -> 0 | R73: =O73*P73*Q73 -> 0
A74: 3.10 | F74: =R74 -> 0 | G74: =ROUND(E74*F74,2) -> 0 | H74: =ROUND(G74*$D$3,2) -> 0 | O74: =IFERROR((L74-N74)/M74,"0") -> 0 | R74: =O74*P74*Q74 -> 0
A75: 3.11 | F75: =R75 -> 0 | G75: =ROUND(E75*F75,2) -> 0 | H75: =ROUND(G75*$D$3,2) -> 0 | O75: =IFERROR((L75-N75)/M75,"0") -> 0 | R75: =O75*P75*Q75 -> 0
A76: 3.12 | F76: =R76 -> 0 | G76: =ROUND(E76*F76,2) -> 0 | H76: =ROUND(G76*$D$3,2) -> 0 | O76: =IFERROR((L76-N76)/M76,"0") -> 0 | R76: =O76*P76*Q76 -> 0
... A84: 3.20 | F84: =R84 -> 0 | G84: =ROUND(E84*F84,2) -> 0 | H84: =ROUND(G84*$D$3,2) -> 0 | O84: =IFERROR((L84-N84)/M84,"0") -> 0 | R84: =O84*P84*Q84 -> 0
A85: 4 | B85: Išlaidos pagal sutartis vykdomiems moksliniams tyrimams, žinioms ir patentams | G85: =SUM(G86:G95) -> 0 | H85: =SUM(H86:H95) -> 0
A86: 4.1 | G86: =ROUND(E86*F86,2) -> 0 | H86: =ROUND(G86*$D$3,2) -> 0 | I86: Kad galėtumėte pasirinkti paslaugas, pirmiausia užpildykite lapą „Darbuotojai ir paslaugos“
A87: 4.2 | G87: =ROUND(E87*F87,2) -> 0 | H87: =ROUND(G87*$D$3,2) -> 0
A88: 4.3 | G88: =ROUND(E88*F88,2) -> 0 | H88: =ROUND(G88*$D$3,2) -> 0
A89: 4.4 | G89: =ROUND(E89*F89,2) -> 0 | H89: =ROUND(G89*$D$3,2) -> 0
A90: 4.5 | G90: =ROUND(E90*F90,2) -> 0 | H90: =ROUND(G90*$D$3,2) -> 0
A91: 4.6 | G91: =ROUND(E91*F91,2) -> 0 | H91: =ROUND(G91*$D$3,2) -> 0
A92: 4.7 | G92: =ROUND(E92*F92,2) -> 0 | H92: =ROUND(G92*$D$3,2) -> 0
A93: 4.8 | G93: =ROUND(E93*F93,2) -> 0 | H93: =ROUND(G93*$D$3,2) -> 0
A94: 4.9 | G94: =ROUND(E94*F94,2) -> 0 | H94: =ROUND(G94*$D$3,2) -> 0
A95: 4.10 | G95: =ROUND(E95*F95,2) -> 0 | H95: =ROUND(G95*$D$3,2) -> 0
A96: 5 | B96: Konsultavimo ir lygiaverčių paslaugų, naudojamų vien projektui, išlaidos | G96: =SUM(G97:G106) -> 0 | H96: =SUM(H97:H106) -> 0
A97: 5.1 | G97: =ROUND(E97*F97,2) -> 0 | H97: =ROUND(G97*$D$3,2) -> 0
A98: 5.2 | G98: =ROUND(E98*F98,2) -> 0 | H98: =ROUND(G98*$D$3,2) -> 0
A99: 5.3 | G99: =ROUND(E99*F99,2) -> 0 | H99: =ROUND(G99*$D$3,2) -> 0
A100: 5.4 | G100: =ROUND(E100*F100,2) -> 0 | H100: =ROUND(G100*$D$3,2) -> 0
A101: 5.5 | G101: =ROUND(E101*F101,2) -> 0 | H101: =ROUND(G101*$D$3,2) -> 0
A102: 5.6 | G102: =ROUND(E102*F102,2) -> 0 | H102: =ROUND(G102*$D$3,2) -> 0
A103: 5.7 | G103: =ROUND(E103*F103,2) -> 0 | H103: =ROUND(G103*$D$3,2) -> 0
A104: 5.8 | G104: =ROUND(E104*F104,2) -> 0 | H104: =ROUND(G104*$D$3,2) -> 0
A105: 5.9 | G105: =ROUND(E105*F105,2) -> 0 | H105: =ROUND(G105*$D$3,2) -> 0
A106: 5.10 | G106: =ROUND(E106*F106,2) -> 0 | H106: =ROUND(G106*$D$3,2) -> 0
A107: 6 | B107: Medžiagos, mažavertis inventorius, atsargos ir pan. produktai, priskirtini trumpalaikiam turtui ir tiesiogiai susiję su MTEP veikla | G107: =SUM(G108:G132) -> 0 | H107: =SUM(H108:H132) -> 0
A108: 6.1 | G108: =ROUND(E108*F108,2) -> 0 | H108: =ROUND(G108*$D$3,2) -> 0
A109: 6.2 | G109: =ROUND(E109*F109,2) -> 0 | H109: =ROUND(G109*$D$3,2) -> 0
A110: 6.3 | G110: =ROUND(E110*F110,2) -> 0 | H110: =ROUND(G110*$D$3,2) -> 0
A111: 6.4 | G111: =ROUND(E111*F111,2) -> 0 | H111: =ROUND(G111*$D$3,2) -> 0
A112: 6.5 | G112: =ROUND(E112*F112,2) -> 0 | H112: =ROUND(G112*$D$3,2) -> 0
A113: 6.6 | G113: =ROUND(E113*F113,2) -> 0 | H113: =ROUND(G113*$D$3,2) -> 0
A114: 6.7 | G114: =ROUND(E114*F114,2) -> 0 | H114: =ROUND(G114*$D$3,2) -> 0
...

Sheet 6
C1: Poveiklės pavadinimas: | D1: Eksperimentinė plėtra (partneris 2)
A2: Projekto vykdytojas, partneris: | D2: ='Darbuotojai ir paslaugos'!A46 -> Partnerio Nr. 2 pavadinimas
C3: Finansavimo intensyvumas:
A5: Nr. | B5: Išlaidų pavadinimas | D5: Matavimo vnt. | E5: Kiekis | F5: Vieneto kaina be PVM, Eur | G5: Tinkamų finansuoti išlaidų suma be PVM, Eur | H5: Prašomas finansavimas, Eur | I5: Išlaidų pagrindimo dokumentų pavadinimas, data ir Nr., skaičiavimų paaiškinimas
B6: Iš viso tiesioginių išlaidų: | G6: =G7+G28+G64+G85+G96+G107+G133+G144 -> 0 | H6: =H7+H28+H64+H85+H96+H107+H133+H144 -> 0
A7: 1 | B7: Projektą vykdančio personalo darbo užmokestis ir išlaidos su darbo santykiais susijusiems darbdavio įsipareigojimams | G7: =SUM(G8:G27) -> 0 | H7: =SUM(H8:H27) -> 0
A8: 1.1 | C8: =IF(B8>0,VLOOKUP(B8,'Darbuotojai ir paslaugos'!C$6:F$65,2,FALSE),"") | D8: val. | E8: =IF(B8<>"",HLOOKUP(B8,'Vykdymo planas'!H$83:AA$96,14,FALSE),"") | F8: =IF(B8>0,ROUND(VLOOKUP(B8,'Darbuotojai ir paslaugos'!C$6:F$65,4,FALSE),2),0) -> 0 | G8: =IFERROR(ROUND(E8*F8,2),"0,00") -> 0,00 | H8: =ROUND(G8*$D$3,2) -> 0 | I8: Kad galėtumėte pasirinkti dartuotojus, pirmiausia užpildykite lapą „Darbuotojai ir paslaugos“
A9: 1.2 | C9: =IF(B9>0,VLOOKUP(B9,'Darbuotojai ir paslaugos'!C$6:F$65,2,FALSE),"") | D9: val. | E9: =IF(B9<>"",HLOOKUP(B9,'Vykdymo planas'!H$83:AA$96,14,FALSE),"") | F9: =IF(B9>0,ROUND(VLOOKUP(B9,'Darbuotojai ir paslaugos'!C$6:F$65,4,FALSE),2),0) -> 0 | G9: =IFERROR(ROUND(E9*F9,2),"0,00") -> 0,00 | H9: =ROUND(G9*$D$3,2) -> 0
A10: 1.3 | C10: =IF(B10>0,VLOOKUP(B10,'Darbuotojai ir paslaugos'!C$6:F$65,2,FALSE),"") | D10: val. | E10: =IF(B10<>"",HLOOKUP(B10,'Vykdymo planas'!H$83:AA$96,14,FALSE),"") | F10: =IF(B10>0,ROUND(VLOOKUP(B10,'Darbuotojai ir paslaugos'!C$6:F$65,4,FALSE),2),0) -> 0 | G10: =IFERROR(ROUND(E10*F10,2),"0,00") -> 0,00 | H10: =ROUND(G10*$D$3,2) -> 0
A11: 1.4 | C11: =IF(B11>0,VLOOKUP(B11,'Darbuotojai ir paslaugos'!C$6:F$65,2,FALSE),"") | D11: val. | E11: =IF(B11<>"",HLOOKUP(B11,'Vykdymo planas'!H$83:AA$96,14,FALSE),"") | F11: =IF(B11>0,ROUND(VLOOKUP(B11,'Darbuotojai ir paslaugos'!C$6:F$65,4,FALSE),2),0) -> 0 | G11: =IFERROR(ROUND(E11*F11,2),"0,00") -> 0,00 | H11: =ROUND(G11*$D$3,2) -> 0
A12: 1.5 | C12: =IF(B12>0,VLOOKUP(B12,'Darbuotojai ir paslaugos'!C$6:F$65,2,FALSE),"") | D12: val. | E12: =IF(B12<>"",HLOOKUP(B12,'Vykdymo planas'!H$83:AA$96,14,FALSE),"") | F12: =IF(B12>0,ROUND(VLOOKUP(B12,'Darbuotojai ir paslaugos'!C$6:F$65,4,FALSE),2),0) -> 0 | G12: =IFERROR(ROUND(E12*F12,2),"0,00") -> 0,00 | H12: =ROUND(G12*$D$3,2) -> 0
A13: 1.6 | C13: =IF(B13>0,VLOOKUP(B13,'Darbuotojai ir paslaugos'!C$6:F$65,2,FALSE),"") | D13: val. | E13: =IF(B13<>"",HLOOKUP(B13,'Vykdymo planas'!H$83:AA$96,14,FALSE),"") | F13: =IF(B13>0,ROUND(VLOOKUP(B13,'Darbuotojai ir paslaugos'!C$6:F$65,4,FALSE),2),0) -> 0 | G13: =IFERROR(ROUND(E13*F13,2),"0,00") -> 0,00 | H13: =ROUND(G13*$D$3,2) -> 0
A14: 1.7 | C14: =IF(B14>0,VLOOKUP(B14,'Darbuotojai ir paslaugos'!C$6:F$65,2,FALSE),"") | D14: val. | E14: =IF(B14<>"",HLOOKUP(B14,'Vykdymo planas'!H$83:AA$96,14,FALSE),"") | F14: =IF(B14>0,ROUND(VLOOKUP(B14,'Darbuotojai ir paslaugos'!C$6:F$65,4,FALSE),2),0) -> 0 | G14: =IFERROR(ROUND(E14*F14,2),"0,00") -> 0,00 | H14: =ROUND(G14*$D$3,2) -> 0
A15: 1.8 | C15: =IF(B15>0,VLOOKUP(B15,'Darbuotojai ir paslaugos'!C$6:F$65,2,FALSE),"") | D15: val. | E15: =IF(B15<>"",HLOOKUP(B15,'Vykdymo planas'!H$83:AA$96,14,FALSE),"") | F15: =IF(B15>0,ROUND(VLOOKUP(B15,'Darbuotojai ir paslaugos'!C$6:F$65,4,FALSE),2),0) -> 0 | G15: =IFERROR(ROUND(E15*F15,2),"0,00") -> 0,00 | H15: =ROUND(G15*$D$3,2) -> 0
A16: 1.9 | C16: =IF(B16>0,VLOOKUP(B16,'Darbuotojai ir paslaugos'!C$6:F$65,2,FALSE),"") | D16: val. | E16: =IF(B16<>"",HLOOKUP(B16,'Vykdymo planas'!H$83:AA$96,14,FALSE),"") | F16: =IF(B16>0,ROUND(VLOOKUP(B16,'Darbuotojai ir paslaugos'!C$6:F$65,4,FALSE),2),0) -> 0 | G16: =IFERROR(ROUND(E16*F16,2),"0,00") -> 0,00 | H16: =ROUND(G16*$D$3,2) -> 0
A17: 1.10 | C17: =IF(B17>0,VLOOKUP(B17,'Darbuotojai ir paslaugos'!C$6:F$65,2,FALSE),"") | D17: val. | E17: =IF(B17<>"",HLOOKUP(B17,'Vykdymo planas'!H$83:AA$96,14,FALSE),"") | F17: =IF(B17>0,ROUND(VLOOKUP(B17,'Darbuotojai ir paslaugos'!C$6:F$65,4,FALSE),2),0) -> 0 | G17: =IFERROR(ROUND(E17*F17,2),"0,00") -> 0,00 | H17: =ROUND(G17*$D$3,2) -> 0
A18: 1.11 | C18: =IF(B18>0,VLOOKUP(B18,'Darbuotojai ir paslaugos'!C$6:F$65,2,FALSE),"") | D18: val. | E18: =IF(B18<>"",HLOOKUP(B18,'Vykdymo planas'!H$83:AA$96,14,FALSE),"") | F18: =IF(B18>0,ROUND(VLOOKUP(B18,'Darbuotojai ir paslaugos'!C$6:F$65,4,FALSE),2),0) -> 0 | G18: =IFERROR(ROUND(E18*F18,2),"0,00") -> 0,00 | H18: =ROUND(G18*$D$3,2) -> 0
A19: 1.12 | C19: =IF(B19>0,VLOOKUP(B19,'Darbuotojai ir paslaugos'!C$6:F$65,2,FALSE),"") | D19: val. | E19: =IF(B19<>"",HLOOKUP(B19,'Vykdymo planas'!H$83:AA$96,14,FALSE),"") | F19: =IF(B19>0,ROUND(VLOOKUP(B19,'Darbuotojai ir paslaugos'!C$6:F$65,4,FALSE),2),0) -> 0 | G19: =IFERROR(ROUND(E19*F19,2),"0,00") -> 0,00 | H19: =ROUND(G19*$D$3,2) -> 0
A20: 1.13 | C20: =IF(B20>0,VLOOKUP(B20,'Darbuotojai ir paslaugos'!C$6:F$65,2,FALSE),"") | D20: val. | E20: =IF(B20<>"",HLOOKUP(B20,'Vykdymo planas'!H$83:AA$96,14,FALSE),"") | F20: =IF(B20>0,ROUND(VLOOKUP(B20,'Darbuotojai ir paslaugos'!C$6:F$65,4,FALSE),2),0) -> 0 | G20: =IFERROR(ROUND(E20*F20,2),"0,00") -> 0,00 | H20: =ROUND(G20*$D$3,2) -> 0
... A27: 1.20 | C27: =IF(B27>0,VLOOKUP(B27,'Darbuotojai ir paslaugos'!C$6:F$65,2,FALSE),"") | D27: val. | E27: =IF(B27<>"",HLOOKUP(B27,'Vykdymo planas'!H$83:AA$96,14,FALSE),"") | F27: =IF(B27>0,ROUND(VLOOKUP(B27,'Darbuotojai ir paslaugos'!C$6:F$65,4,FALSE),2),0) -> 0 | G27: =IFERROR(ROUND(E27*F27,2),"0,00") -> 0,00 | H27: =ROUND(G27*$D$3,2) -> 0
A28: 2 | B28: Projektą vykdančio personalo komandiruočių išlaidos | G28: =SUM(G29,G36,G43,G50,G57) -> 0 | H28: =SUM(H29,H36,H43,H50,H57) -> 0
A29: 2.1 | B29: Komandiruotės pavadinimas | C29: Iš viso komandiruotei | G29: =SUM(G30:G35) -> 0 | H29: =ROUND(G29*$D$3,2) -> 0 | I29: Komandiruotės šalis:
C30: Dienpinigiai | D30: dienos | E30: =J30 -> 0 | G30: =ROUND(E30*F30*J31,2) -> 0 | H30: =ROUND(G30*$D$3,2) -> 0 | I30: Komandiruotės trukmė: | K30: dienos
C31: Gyvenamojo ploto nuoma | D31: naktys | E31: =IF(E30>0,E30-1,0) -> 0 | G31: =ROUND(E31*F31*J31,2) -> 0 | H31: =ROUND(G31*$D$3,2) -> 0 | I31: Vykstančių asmenų skaičius: | K31: asmuo/asmenys
C32: Kelionės išlaidos | G32: =ROUND(E32*F32,2) -> 0 | H32: =ROUND(G32*$D$3,2) -> 0
C33: Dalyvavimo mokestis | G33: =ROUND(E33*F33,2) -> 0 | H33: =ROUND(G33*$D$3,2) -> 0
C34: Kitos išlaidų pavadinimas | G34: =ROUND(E34*F34,2) -> 0 | H34: =ROUND(G34*$D$3,2) -> 0
C35: Kitos išlaidų pavadinimas | G35: =ROUND(E35*F35,2) -> 0 | H35: =ROUND(G35*$D$3,2) -> 0
A36: 2.2 | B36: Komandiruotės pavadinimas | C36: Iš viso komandiruotei | G36: =SUM(G37:G42) -> 0 | H36: =ROUND(G36*$D$3,2) -> 0 | I36: Komandiruotės šalis:
C37: Dienpinigiai | D37: dienos | E37: =J37 -> 0 | G37: =ROUND(E37*F37*J38,2) -> 0 | H37: =ROUND(G37*$D$3,2) -> 0 | I37: Komandiruotės trukmė: | K37: dienos
C38: Gyvenamojo ploto nuoma | D38: naktys | E38: =IF(E37>0,E37-1,0) -> 0 | G38: =ROUND(E38*F38*J38,2) -> 0 | H38: =ROUND(G38*$D$3,2) -> 0 | I38: Vykstančių asmenų skaičius: | K38: asmuo/asmenys
C39: Kelionės išlaidos | G39: =ROUND(E39*F39,2) -> 0 | H39: =ROUND(G39*$D$3,2) -> 0
C40: Dalyvavimo mokestis | G40: =ROUND(E40*F40,2) -> 0 | H40: =ROUND(G40*$D$3,2) -> 0
C41: Kitos išlaidų pavadinimas | G41: =ROUND(E41*F41,2) -> 0 | H41: =ROUND(G41*$D$3,2) -> 0
C42: Kitos išlaidų pavadinimas | G42: =ROUND(E42*F42,2) -> 0 | H42: =ROUND(G42*$D$3,2) -> 0
A43: 2.3 | B43: Komandiruotės pavadinimas | C43: Iš viso komandiruotei | G43: =SUM(G44:G49) -> 0 | H43: =ROUND(G43*$D$3,2) -> 0 | I43: Komandiruotės šalis:
C44: Dienpinigiai | D44: dienos | E44: =J44 -> 0 | G44: =ROUND(E44*F44*J45,2) -> 0 | H44: =ROUND(G44*$D$3,2) -> 0 | I44: Komandiruotės trukmė: | K44: dienos
C45: Gyvenamojo ploto nuoma | D45: naktys | E45: =IF(E44>0,E44-1,0) -> 0 | G45: =ROUND(E45*F45*J45,2) -> 0 | H45: =ROUND(G45*$D$3,2) -> 0 | I45: Vykstančių asmenų skaičius: | K45: asmuo/asmenys
C46: Kelionės išlaidos | G46: =ROUND(E46*F46,2) -> 0 | H46: =ROUND(G46*$D$3,2) -> 0
C47: Dalyvavimo mokestis | G47: =ROUND(E47*F47,2) -> 0 | H47: =ROUND(G47*$D$3,2) -> 0
C48: Kitos išlaidų pavadinimas | G48: =ROUND(E48*F48,2) -> 0 | H48: =ROUND(G48*$D$3,2) -> 0
C49: Kitos išlaidų pavadinimas | G49: =ROUND(E49*F49,2) -> 0 | H49: =ROUND(G49*$D$3,2) -> 0
A50: 2.4 | B50: Komandiruotės pavadinimas | C50: Iš viso komandiruotei | G50: =SUM(G51:G56) -> 0 | H50: =ROUND(G50*$D$3,2) -> 0 | I50: Komandiruotės šalis:
C51: Dienpinigiai | D51: dienos | E51: =J51 -> 0 | G51: =ROUND(E51*F51*J52,2) -> 0 | H51: =ROUND(G51*$D$3,2) -> 0 | I51: Komandiruotės trukmė: | K51: dienos
C52: Gyvenamojo ploto nuoma | D52: naktys | E52: =IF(E51>0,E51-1,0) -> 0 | G52: =ROUND(E52*F52*J52,2) -> 0 | H52: =ROUND(G52*$D$3,2) -> 0 | I52: Vykstančių asmenų skaičius: | K52: asmuo/asmenys
C53: Kelionės išlaidos | G53: =ROUND(E53*F53,2) -> 0 | H53: =ROUND(G53*$D$3,2) -> 0
C54: Dalyvavimo mokestis | G54: =ROUND(E54*F54,2) -> 0 | H54: =ROUND(G54*$D$3,2) -> 0
C55: Kitos išlaidų pavadinimas | G55: =ROUND(E55*F55,2) -> 0 | H55: =ROUND(G55*$D$3,2) -> 0
C56: Kitos išlaidų pavadinimas | G56: =ROUND(E56*F56,2) -> 0 | H56: =ROUND(G56*$D$3,2) -> 0
A57: 2.5 | B57: Komandiruotės pavadinimas | C57: Iš viso komandiruotei | G57: =SUM(G58:G63) -> 0 | H57: =ROUND(G57*$D$3,2) -> 0 | I57: Komandiruotės šalis:
C58: Dienpinigiai | D58: dienos | E58: =J58 -> 0 | G58: =ROUND(E58*F58*J59,2) -> 0 | H58: =ROUND(G58*$D$3,2) -> 0 | I58: Komandiruotės trukmė: | K58: dienos
C59: Gyvenamojo ploto nuoma | D59: naktys | E59: =IF(E58>0,E58-1,0) -> 0 | G59: =ROUND(E59*F59*J59,2) -> 0 | H59: =ROUND(G59*$D$3,2) -> 0 | I59: Vykstančių asmenų skaičius: | K59: asmuo/asmenys
C60: Kelionės išlaidos | G60: =ROUND(E60*F60,2) -> 0 | H60: =ROUND(G60*$D$3,2) -> 0
C61: Dalyvavimo mokestis | G61: =ROUND(E61*F61,2) -> 0 | H61: =ROUND(G61*$D$3,2) -> 0
C62: Kitos išlaidų pavadinimas | G62: =ROUND(E62*F62,2) -> 0 | H62: =ROUND(G62*$D$3,2) -> 0
C63: Kitos išlaidų pavadinimas | G63: =ROUND(E63*F63,2) -> 0 | H63: =ROUND(G63*$D$3,2) -> 0
A64: 3 | B64: Nusidėvėjimo išlaidos priemonėms ir įrenginiams | G64: =SUM(G65:G84) -> 0 | H64: =SUM(H65:H84) -> 0 | K64: Turto įvedimo į eksploataciją data | L64: Turto įsigijimo vertė, Eur | M64: Turto nudėvėjimo, amortizacijos laikotarpis, mėn. | N64: Numatoma turto likutinė vertė, Eur | O64: 1 mėn. nudėvėjimo, amortizacijos suma, Eur | P64: Turto naudojamo projekto reikmėms laikas, mėn. | Q64: Turto panaudojimo projekto reikmėms dalis (proc.) | R64: Projektui priskirta turto nusidėvėjimo, amortizacijos suma per projekto laikotarpį, Eur
A65: 3.1 | F65: =R65 -> 0 | G65: =ROUND(E65*F65,2) -> 0 | H65: =ROUND(G65*$D$3,2) -> 0 | O65: =IFERROR((L65-N65)/M65,"0") -> 0 | R65: =O65*P65*Q65 -> 0
A66: 3.2 | F66: =R66 -> 0 | G66: =ROUND(E66*F66,2) -> 0 | H66: =ROUND(G66*$D$3,2) -> 0 | O66: =IFERROR((L66-N66)/M66,"0") -> 0 | R66: =O66*P66*Q66 -> 0
A67: 3.3 | F67: =R67 -> 0 | G67: =ROUND(E67*F67,2) -> 0 | H67: =ROUND(G67*$D$3,2) -> 0 | O67: =IFERROR((L67-N67)/M67,"0") -> 0 | R67: =O67*P67*Q67 -> 0
A68: 3.4 | F68: =R68 -> 0 | G68: =ROUND(E68*F68,2) -> 0 | H68: =ROUND(G68*$D$3,2) -> 0 | O68: =IFERROR((L68-N68)/M68,"0") -> 0 | R68: =O68*P68*Q68 -> 0
A69: 3.5 | F69: =R69 -> 0 | G69: =ROUND(E69*F69,2) -> 0 | H69: =ROUND(G69*$D$3,2) -> 0 | O69: =IFERROR((L69-N69)/M69,"0") -> 0 | R69: =O69*P69*Q69 -> 0
A70: 3.6 | F70: =R70 -> 0 | G70: =ROUND(E70*F70,2) -> 0 | H70: =ROUND(G70*$D$3,2) -> 0 | O70: =IFERROR((L70-N70)/M70,"0") -> 0 | R70: =O70*P70*Q70 -> 0
A71: 3.7 | F71: =R71 -> 0 | G71: =ROUND(E71*F71,2) -> 0 | H71: =ROUND(G71*$D$3,2) -> 0 | O71: =IFERROR((L71-N71)/M71,"0") -> 0 | R71: =O71*P71*Q71 -> 0
A72: 3.8 | F72: =R72 -> 0 | G72: =ROUND(E72*F72,2) -> 0 | H72: =ROUND(G72*$D$3,2) -> 0 | O72: =IFERROR((L72-N72)/M72,"0") -> 0 | R72: =O72*P72*Q72 -> 0
A73: 3.9 | F73: =R73 -> 0 | G73: =ROUND(E73*F73,2) -> 0 | H73: =ROUND(G73*$D$3,2) -> 0 | O73: =IFERROR((L73-N73)/M73,"0") -> 0 | R73: =O73*P73*Q73 -> 0
A74: 3.10 | F74: =R74 -> 0 | G74: =ROUND(E74*F74,2) -> 0 | H74: =ROUND(G74*$D$3,2) -> 0 | O74: =IFERROR((L74-N74)/M74,"0") -> 0 | R74: =O74*P74*Q74 -> 0
A75: 3.11 | F75: =R75 -> 0 | G75: =ROUND(E75*F75,2) -> 0 | H75: =ROUND(G75*$D$3,2) -> 0 | O75: =IFERROR((L75-N75)/M75,"0") -> 0 | R75: =O75*P75*Q75 -> 0
A76: 3.12 | F76: =R76 -> 0 | G76: =ROUND(E76*F76,2) -> 0 | H76: =ROUND(G76*$D$3,2) -> 0 | O76: =IFERROR((L76-N76)/M76,"0") -> 0 | R76: =O76*P76*Q76 -> 0
... A84: 3.20 | F84: =R84 -> 0 | G84: =ROUND(E84*F84,2) -> 0 | H84: =ROUND(G84*$D$3,2) -> 0 | O84: =IFERROR((L84-N84)/M84,"0") -> 0 | R84: =O84*P84*Q84 -> 0
A85: 4 | B85: Išlaidos pagal sutartis vykdomiems moksliniams tyrimams, žinioms ir patentams | G85: =SUM(G86:G95) -> 0 | H85: =SUM(H86:H95) -> 0
A86: 4.1 | G86: =ROUND(E86*F86,2) -> 0 | H86: =ROUND(G86*$D$3,2) -> 0 | I86: Kad galėtumėte pasirinkti paslaugas, pirmiausia užpildykite lapą „Darbuotojai ir paslaugos“
A87: 4.2 | G87: =ROUND(E87*F87,2) -> 0 | H87: =ROUND(G87*$D$3,2) -> 0
A88: 4.3 | G88: =ROUND(E88*F88,2) -> 0 | H88: =ROUND(G88*$D$3,2) -> 0
A89: 4.4 | G89: =ROUND(E89*F89,2) -> 0 | H89: =ROUND(G89*$D$3,2) -> 0
A90: 4.5 | G90: =ROUND(E90*F90,2) -> 0 | H90: =ROUND(G90*$D$3,2) -> 0
A91: 4.6 | G91: =ROUND(E91*F91,2) -> 0 | H91: =ROUND(G91*$D$3,2) -> 0
A92: 4.7 | G92: =ROUND(E92*F92,2) -> 0 | H92: =ROUND(G92*$D$3,2) -> 0
A93: 4.8 | G93: =ROUND(E93*F93,2) -> 0 | H93: =ROUND(G93*$D$3,2) -> 0
A94: 4.9 | G94: =ROUND(E94*F94,2) -> 0 | H94: =ROUND(G94*$D$3,2) -> 0
A95: 4.10 | G95: =ROUND(E95*F95,2) -> 0 | H95: =ROUND(G95*$D$3,2) -> 0
A96: 5 | B96: Konsultavimo ir lygiaverčių paslaugų, naudojamų vien projektui, išlaidos | G96: =SUM(G97:G106) -> 0 | H96: =SUM(H97:H106) -> 0
A97: 5.1 | G97: =ROUND(E97*F97,2) -> 0 | H97: =ROUND(G97*$D$3,2) -> 0
A98: 5.2 | G98: =ROUND(E98*F98,2) -> 0 | H98: =ROUND(G98*$D$3,2) -> 0
A99: 5.3 | G99: =ROUND(E99*F99,2) -> 0 | H99: =ROUND(G99*$D$3,2) -> 0
A100: 5.4 | G100: =ROUND(E100*F100,2) -> 0 | H100: =ROUND(G100*$D$3,2) -> 0
A101: 5.5 | G101: =ROUND(E101*F101,2) -> 0 | H101: =ROUND(G101*$D$3,2) -> 0
A102: 5.6 | G102: =ROUND(E102*F102,2) -> 0 | H102: =ROUND(G102*$D$3,2) -> 0
A103: 5.7 | G103: =ROUND(E103*F103,2) -> 0 | H103: =ROUND(G103*$D$3,2) -> 0
A104: 5.8 | G104: =ROUND(E104*F104,2) -> 0 | H104: =ROUND(G104*$D$3,2) -> 0
A105: 5.9 | G105: =ROUND(E105*F105,2) -> 0 | H105: =ROUND(G105*$D$3,2) -> 0
A106: 5.10 | G106: =ROUND(E106*F106,2) -> 0 | H106: =ROUND(G106*$D$3,2) -> 0
A107: 6 | B107: Medžiagos, mažavertis inventorius, atsargos ir pan. produktai, priskirtini trumpalaikiam turtui ir tiesiogiai susiję su MTEP veikla | G107: =SUM(G108:G132) -> 0 | H107: =SUM(H108:H132) -> 0
A108: 6.1 | G108: =ROUND(E108*F108,2) -> 0 | H108: =ROUND(G108*$D$3,2) -> 0
A109: 6.2 | G109: =ROUND(E109*F109,2) -> 0 | H109: =ROUND(G109*$D$3,2) -> 0
A110: 6.3 | G110: =ROUND(E110*F110,2) -> 0 | H110: =ROUND(G110*$D$3,2) -> 0
A111: 6.4 | G111: =ROUND(E111*F111,2) -> 0 | H111: =ROUND(G111*$D$3,2) -> 0
A112: 6.5 | G112: =ROUND(E112*F112,2) -> 0 | H112: =ROUND(G112*$D$3,2) -> 0
A113: 6.6 | G113: =ROUND(E113*F113,2) -> 0 | H113: =ROUND(G113*$D$3,2) -> 0
A114: 6.7 | G114: =ROUND(E114*F114,2) -> 0 | H114: =ROUND(G114*$D$3,2) -> 0
...

Sheet TPL
A1: MOKSLINIŲ TYRIMŲ IR EKSPERIMENTINĖS PLĖTROS ETAPŲ KLASIFIKACIJA*
A3: Bendroji sritis | B3: Mokslinių tyrimų ir eksperimentinės plėtros etapo eilės numeris | C3: Mokslinių tyrimų ir eksperimentinės plėtros etapo pavadinimas | D3: Veiklos aprašymas | E3: Veiklos rezultatas
A4: Fundamentiniai moksliniai tyrimai | B4: TPL1 | C4: Fundamentinių žinių įgijimas | D4: Pirminis mokslinių tyrimų ir eksperimentinės plėtros etapas. Šiuo etapu baigiama fundamentinių mokslinių tyrimų fazė ir pradedama taikomųjų mokslinių tyrimų ir (ar) eksperimentinės plėtros fazė | E4: Gauti fundamentinių mokslinių tyrimų rezultatai, suformuluota jų taikymo (naudojimo) idėja
A5: Taikomieji moksliniai tyrimai | B5: TPL2 | C5: Žinių taikymo koncepcijos formulavimas | D5: Koncepcija formuluojama teoriniu lygmeniu, grindžiama mokslinių tyrimų rezultatų analize. Nėra konkrečių koncepcijos įgyvendinamumą pagrindžiančių įrodymų | E5: Suformuluota žinių taikymo, kitaip – produkto sukūrimo, koncepcija
B6: TPL3 | C6: Koncepcijos įgyvendinamumo įrodymas / patvirtinimas | D6: Vykdomi teoriniai ir eksperimentiniai taikomieji moksliniai tyrimai ir jų rezultatais įrodomos / patvirtinamos prielaidos dėl atskirų produkto elementų | E6: Nustatyti esminiai parametrai produktui kurti, įrodytas koncepcijos įgyvendinamumas
B7: TPL4 | C7: Maketo (modelio), meno objekto projekto kūrimas ir testavimas | D7: Veikla apima skirtingų (ir esminių) būsimo produkto sudedamųjų dalių integraciją siekiant patvirtinti jų sisteminį veikimą laboratorinėmis sąlygomis. Maketas (modelis), meno objekto projektas dar labai tolimas nuo numanomo galutinio produkto. Maketo (modelio), meno objekto projekto testavimas paprastai parodo, kad reikia papildomų taikomųjų mokslinių tyrimų. Šiame etape gali atsirasti eksperimentinės plėtros elementų | E7: Veikiantis pirminis maketas (proceso, paslaugos ir kt. modelis), parengtas meno objekto projektinis siūlymas
B8: TPL5 | C8: Maketo (modelio) patikrinimas imituojant realias sąlygas, meno objekto projekto pristatymas visuomenei | D8: Šio lygio maketas (modelis) labai priartėjęs prie galutinio produkto. Į maketą (modelį) integruota daugiau sudedamųjų dalių. Siekiant patvirtinti faktinį veikimą, jis išbandomas laboratorinėmis arba kitomis bandymo sąlygomis imituojant realią aplinką ar stebimas tam tikroje socialinėje aplinkoje; meno objekto projektas pateikiamas ir derinamas su suinteresuotais asmenimis jo įgyvendinamumui ir įgyvendinimo tikslingumui nustatyti. Šiame etape gali atsirasti eksperimentinės plėtros elementų | E8: Realioje veiklos aplinkoje veikiantis maketas (modelis), paruoštas meno objekto projektas
A9: Eksperimentinė plėtra | B9: TPL6 | C9: Prototipo (bandomosios versijos) kūrimas | D9: Kuriamas konkretus produkto prototipas daug pažangesnis, nei nurodyta 5 mokslinių tyrimų ir eksperimentinės plėtros etape, jam suteikta reikiama konfigūracija, turinys, išvaizda ar kitos savybės; jo veikimą patvirtina laboratorinės arba kitos bandymo sąlygos (tam tikroje socialinėje aplinkoje). Šiame etape gali kilti poreikis atlikti papildomus taikomuosius mokslinius tyrimus. Tokio poreikio tikimybė mažėja vėlesniuose etapuose | E9: Prototipas (prototipai, bandomosios proceso, sistemos, paslaugos, žmogaus, kultūros ar visuomenės problemų sprendinio versijos)
B10: TPL7 | C10: Prototipo (bandomosios versijos) demonstravimas | D10: Šiuo lygmeniu labai artimas galutiniam produktui prototipas (bandomoji versija) išbandomas ir demonstruojamas realioje veikimo aplinkoje. Šiame etape gali kilti poreikis atlikti papildomus taikomuosius mokslinius tyrimus. Tokio poreikio tikimybė mažėja vėlesniuose etapuose | E10: Galutinis prototipas (galutinė proceso, sistemos, paslaugos, žmogaus, kultūros ar visuomenės problemų sprendinio versija)
B11: TPL8 | C11: Bandomosios partijos gamyba (versijos galutinis išbandymas) | D11: Parengiama įranga, sukaupiami ištekliai galutinio produkto bandomosios partijos gamybai. Pagaminama bandomoji produkto partija | E11: Pagaminta galutinio produkto bandomoji partija, išbandyta galutinė versija
B12: TPL9 | C12: Sukurto naujo produkto įvertinimas (bandomieji sukurto naujo produkto pavyzdžiai, įvertinti vartotojo ir (arba) užsakovo) | D12: Įvertinama produkto kokybė ir išeiga. Produktas pristatomas potencialiems vartotojams | E12: Įvertinta galutinio produkto bandomoji partija
A13: Rekomenduojamos mokslinių tyrimų ir eksperimentinės plėtros etapų klasifikacijos aprašas, nuoroda internete:
A14: https://e-seimas.lrs.lt/portal/legalAct/lt/TAD/TAIS.426659/asr
